BEGIN:VCALENDAR
VERSION:2.0
PRODID:-//ARGE SOLAR e.V. - ECPv6.15.20//NONSGML v1.0//EN
CALSCALE:GREGORIAN
METHOD:PUBLISH
X-ORIGINAL-URL:https://www.argesolar-saar.de
X-WR-CALDESC:Veranstaltungen für ARGE SOLAR e.V.
REFRESH-INTERVAL;VALUE=DURATION:PT1H
X-Robots-Tag:noindex
X-PUBLISHED-TTL:PT1H
BEGIN:VTIMEZONE
TZID:Europe/Berlin
BEGIN:DAYLIGHT
TZOFFSETFROM:+0100
TZOFFSETTO:+0200
TZNAME:CEST
DTSTART:20250330T010000
END:DAYLIGHT
BEGIN:STANDARD
TZOFFSETFROM:+0200
TZOFFSETTO:+0100
TZNAME:CET
DTSTART:20251026T010000
END:STANDARD
BEGIN:DAYLIGHT
TZOFFSETFROM:+0100
TZOFFSETTO:+0200
TZNAME:CEST
DTSTART:20260329T010000
END:DAYLIGHT
BEGIN:STANDARD
TZOFFSETFROM:+0200
TZOFFSETTO:+0100
TZNAME:CET
DTSTART:20261025T010000
END:STANDARD
BEGIN:DAYLIGHT
TZOFFSETFROM:+0100
TZOFFSETTO:+0200
TZNAME:CEST
DTSTART:20270328T010000
END:DAYLIGHT
BEGIN:STANDARD
TZOFFSETFROM:+0200
TZOFFSETTO:+0100
TZNAME:CET
DTSTART:20271031T010000
END:STANDARD
END:VTIMEZONE
BEGIN:VEVENT
DTSTART;TZID=Europe/Berlin:20260310T170000
DTEND;TZID=Europe/Berlin:20260310T190000
DTSTAMP:20260420T002500
CREATED:20260109T123246Z
LAST-MODIFIED:20260304T110208Z
UID:15130-1773162000-1773169200@www.argesolar-saar.de
SUMMARY:Landeskampagne „Energieberatung Saar“ – Infoveranstaltung "Zukunftsmodelle der Energieversorgung: Mieterstrom und Energiegemeinschaften"
DESCRIPTION:Im Rahmen der Landeskampagne „Energieberatung Saar“ des Ministeriums für Wirtschaft\, Innovation\, Digitales und Energie (MWIDE) laden wir Sie herzlich zu einer informativen Hybrid-Veranstaltung ein. Im Fokus stehen die zukunftsweisenden Themen gemeinschaftliche Gebäudeversorgung\, Mieterstrommodelle sowie Erneuerbare-Energien-Gemeinschaften. \nFreuen Sie sich auf fundierte Einblicke in Chancen\, Potenziale und konkrete Umsetzungsmöglichkeiten – ebenso wie auf eine offene Diskussion über Herausforderungen und praxisrelevante Hürden. Anhand realer Beispiele werden Erfolgsfaktoren aufgezeigt und wertvolle Erfahrungen aus der Praxis geteilt. \nExpertinnen und Experten aus Politik\, Wirtschaft und Forschung beleuchten das Thema aus unterschiedlichen Perspektiven und stehen für Ihre Fragen zur Verfügung. Ziel der Veranstaltung ist es\, Akteurinnen und Akteure miteinander zu vernetzen\, gegenseitiges Verständnis zu fördern und Synergien für eine erfolgreiche Umsetzung zu schaffen. Gemeinsam möchten wir Impulse setzen\, um die Energiewende mit erneuerbaren Energien aktiv voranzubringen. \nDie Veranstaltung wird in Kooperation des Referats F/1 „Energiepolitik und Energiewende“ sowie des Referats F/3 „Förderung der Energieeffizienz“ des MWIDE durchgeführt. \nDie Moderation übernimmt Jörg Rink\, Prokurist und Leiter der Abteilung Innovationsmanagement der Stadtwerke Saarlouis. \n\n\n\n\n\n\n\n  \nProgramm  \n17.00 Grußwort und Einführung\, Henrike Jacob\, (Referatsleiterin F/1 Energiewende und Energiepolitik MWIDE) \n17.15 „Erneuerbare Energie-Gemeinschaften (EEGe) – Baustein zur bürgerschaftlichen Energiewende“\, Barbara Dröschel\, (Wissenschaftliche Mitarbeiterin\, IZES gGmbH) \n17.40 „Wer jetzt nicht umdenkt\, verliert: Stadtwerke im Wandel“\, Eva Kiefer-Kremer (Bereichsleiterin Vertrieb Energie & EDL\, Kommunale Energie- und Wasserversorgung Neunkirchen) \n18.05 „Solarenergie im Mehrfamilienhaus: das Mieterstrommodell“\, Dina Klippert (Projektmanagerin Innovationsmanagement\, Stadtwerke Saarlouis) \n18.30 „GGV Leuchtturm-Projekt Halle – Lernerfahrungen und Empfehlungen“\, Dr. Karsten Liebmann (Geschäftsführer\, EnPrOpt GmbH) \n18.50 Diskussion & Austausch \n19.00 Ende \nDie Teilnahme ist sowohl vor Ort als auch online möglich\, sodass Interessierte flexibel teilnehmen können. Nutzen Sie die Gelegenheit\, sich umfassend zu informieren und sich mit Expert:innen und Kolleg:innen auszutauschen. \nHier finden Sie eine Einladung zur Infoveranstaltung. \nDie Teilnahme an der Veranstaltung ist kostenfrei. Eine Anmeldung ist jedoch erforderlich: Anmeldelink
URL:https://www.argesolar-saar.de/va/landeskampagne-energieberatung-saar-fachveranstaltung-zukunftsmodelle-der-energieversorgung-mieterstrom-und-energiegemeinschaften/
LOCATION:Raum E.003\, Franz-Josef-Röder-Str. 17 (MWIDE)\, 66119 Saarbrücken oder Online (Webex)
CATEGORIES:Haus & Grund Saarland,Landeskampagne "Energieberatung Saar"
ATTACH;FMTTYPE=image/png:https://www.argesolar-saar.de/wp-content/uploads/2025/05/EBS-eckig.png
END:VEVENT
BEGIN:VEVENT
DTSTART;TZID=Europe/Berlin:20260311T150000
DTEND;TZID=Europe/Berlin:20260311T160000
DTSTAMP:20260420T002500
CREATED:20260219T082700Z
LAST-MODIFIED:20260219T082700Z
UID:15262-1773241200-1773244800@www.argesolar-saar.de
SUMMARY:Landeskampagne “Energieberatung Saar” – Online-Sprechstunde für Kommunen und KMU
DESCRIPTION:Am 11.03.26 findet die nächste Online-Sprechstunde für Kommunen und KMU von 15.00 bis 16.00 Uhr statt.\nDie Veranstaltung findet im Rahmen der der Landeskampagne “Energieberatung Saar” statt. \n  \nDie Online-Sprechstunde richtet sich an alle Interessierten Mitarbeitenden und Verantwortlichen in Kommunen und Unternehmen\, die Fragen zur Steigerung der Energieeffizienz\, Einsatz Erneuerbarer Energien oder energetischen Förderprogrammen haben. Besonders angesprochen sind diejenigen\, die praktisch und professionell mit Haustechnik vor Ort in öffentlichen und gewerblichen Gebäuden zu tun haben wie z. B. Hausmeister\, Verwaltungsmitarbeitende und viele mehr. \n  \nDie Teilnahme an der Veranstaltung ist kostenfrei\, eine Anmeldung ist jedoch erforderlich. \nAlternativ können Sie sich per Mail anmelden unter: energieberatung@wirtschaft.saarland.de
URL:https://www.argesolar-saar.de/va/landeskampagne-energieberatung-saar-online-sprechstunde-fuer-kommunen-und-kmu-13/
LOCATION:Online
CATEGORIES:Landeskampagne "Energieberatung Saar"
ATTACH;FMTTYPE=image/jpeg:https://www.argesolar-saar.de/wp-content/uploads/2025/05/Logo-Landeskampagne-EBS.jpg
END:VEVENT
BEGIN:VEVENT
DTSTART;TZID=Europe/Berlin:20260314T100000
DTEND;TZID=Europe/Berlin:20260315T180000
DTSTAMP:20260420T002500
CREATED:20260121T120633Z
LAST-MODIFIED:20260123T072950Z
UID:15163-1773482400-1773597600@www.argesolar-saar.de
SUMMARY:Landeskampagne “Energieberatung Saar” Informations- und Beratungsstand – BAUSALON Merzig
DESCRIPTION:Von Samstag\, den 14.03. bis Sonntag\, den 15.03.2026 findet jeweils von 10:00 bis 18:00 Uhr der BAUSALON in der Stadthalle Merzig statt. Auf dieser Messe dreht sich alles um die Themen Renovieren\, Wohnen\, Bauen und Energie. Zahlreiche Aussteller werden an diesem Wochenende einen Überblick über Neuheiten und bewährte Produkte aus der Baubranche\, zur Einsparung von Energien und aktuellen Wohntrends geben. \nAuch die Landeskampagne „Energieberatung Saar“ des Ministeriums für Wirtschaft\, Innovation\, Digitales und Energie wird mit einem Informations- und Beratungsstand vertreten sein (Stand Nummer 116 im EG). \nHier stehen Ihnen unsere Fachberater*innen Rede und Antwort und werden sich bemühen\, all Ihre Fragen rund um die Themen Energieeffizienz und Erneuerbare Energien zu beantworten \nEin informatives Rahmenprogramm mit interessanten Vorträgen zu aktuellen Themen rundet die Angebotsvielfalt der Messe ab. Auch die Landeskampagne ist mit zwei Vorträgen im Programm vertreten: \nSamstag\, 14.03. – 14 Uhr: Alles Wissenswerte über PV-Balkonkraftwerke \nSonntag\, 15.03. – 13 Uhr: Wärmepumpe für mein Haus  \nDer Eintritt zur Messe und zu den Vorträgen ist frei. \nWir freuen uns auf zahlreiche Besucher:innen! \nWeitere Infos zur Messe und zum Vortragsprogramm finden Sie unter: https://www.bausalon.com/merzig/
URL:https://www.argesolar-saar.de/va/landeskampagne-energieberatung-saar-informations-und-beratungsstand-bausalon-merzig/
LOCATION:Stadthalle Merzig\, Zur Stadthalle 4\, Merzig\, Saarland\, 66663\, Germany
CATEGORIES:Landeskampagne "Energieberatung Saar"
ATTACH;FMTTYPE=image/png:https://www.argesolar-saar.de/wp-content/uploads/2026/01/Grafik_Bausalon_EBS.png
END:VEVENT
BEGIN:VEVENT
DTSTART;TZID=Europe/Berlin:20260314T140000
DTEND;TZID=Europe/Berlin:20260314T143000
DTSTAMP:20260420T002500
CREATED:20260122T085819Z
LAST-MODIFIED:20260219T090400Z
UID:15177-1773496800-1773498600@www.argesolar-saar.de
SUMMARY:Landeskampagne "Energieberatung Saar" - Infoveranstaltung: Alles Wissenswerte über PV-Balkonkraftwerke – BAUSALON Merzig
DESCRIPTION:Am 14. und 15. März 2026 ist die die Landeskampagne „Energieberatung Saar“ des Ministeriums für Wirtschaft\, Innovation\, Digitales und Energie wird mit einem Informations- und Beratungsstand (Stand Nummer 116 im EG) auf dem BAUSALON in der Stadthalle Merzig vertreten.\n \nIm Rahmen des Vortragsprogramms informiert Sie Dipl. Ing. Cathrin Becker dort am Samstag\, den 14. März von 14:00 bis 14:30 Uhr über PV-Balkonkraftwerke.\nBalkonkraftwerke bieten eine einfache und kostengünstige Möglichkeit\, sich persönlich an der Energiewende zu beteiligen. Im Vortrag erläutert Cathrin Becker\, Energieberaterin der Verbraucherzentrale Saarland\, ob und wann sich ein solches Gerät lohnt\, welchen konkreten Nutzen die eigene Stromerzeugung hat und was für einen sicheren Betrieb zu beachten ist. Zudem werden wichtige Detailfragen beantwortet\, wie etwa: Bekommt man eine Einspeisevergütung? Ist ein Batteriespeicher sinnvoll? Muss ein Steckersolargerät angemeldet werden? \nDie Teilnahme ist kostenlos und eine Anmeldung ist nicht notwendig. \nAlle Infos zur Messe und zum Vortragsprogramm finden Sie hier: https://www.bausalon.com/merzig/ \nWir freuen uns auf zahlreiche Besucher:innen!
URL:https://www.argesolar-saar.de/va/landeskampagne-energieberatung-saar-infoveranstaltung-alles-wissenswerte-ueber-pv-balkonkraftwerke-bausalon-merzig/
LOCATION:Stadthalle Merzig\, Zur Stadthalle 4\, Merzig\, Saarland\, 66663\, Germany
CATEGORIES:Landeskampagne "Energieberatung Saar"
ATTACH;FMTTYPE=image/png:https://www.argesolar-saar.de/wp-content/uploads/2026/01/Grafik_Bausalon_EBS.png
END:VEVENT
BEGIN:VEVENT
DTSTART;TZID=Europe/Berlin:20260315T130000
DTEND;TZID=Europe/Berlin:20260315T133000
DTSTAMP:20260420T002500
CREATED:20260122T090317Z
LAST-MODIFIED:20260219T090443Z
UID:15180-1773579600-1773581400@www.argesolar-saar.de
SUMMARY:Landeskampagne “Energieberatung Saar” – Infoveranstaltung: Wärmepumpe für mein Haus – BAUSALON Merzig
DESCRIPTION:Am 14. und 15. März 2026 ist die die Landeskampagne „Energieberatung Saar“ des Ministeriums für Wirtschaft\, Innovation\, Digitales und Energie wird mit einem Informations- und Beratungsstand (Stand Nummer 116 im EG) auf dem BAUSALON in der Stadthalle Merzig vertreten.\n \nIm Rahmen des Vortragsprogramms informiert Sie Dipl. Ing. Christine Mörgen am Sonntag\, den 15. März von 13:00 bis 13:30 Uhr über Wärmepumpen.\n \nDenken Sie an eine Heizungserneuerung in Ihrem Bestandsgebäude? Heizen Sie mit Öl oder Gas\, vielleicht auch Kohle oder Koks oder einer Nachtstromspeicherheizung? Das „Heizungsgesetz“ sprich Gebäudeenergiegesetz 2024\, will fossile Brennstoffe beim Heizen begrenzen und ab 2045 eindämmen. Da bietet es sich an\, über die Umstellung auf eine Wärmepumpenheizung nachzudenken.\nChristine Mörgen\, Energieberaterin der Verbraucherzentrale Saarland\, geht in ihrem Vortrag u. a. auf folgende Fragen ein: Wie funktioniert eine Wärmepumpe? Welche Voraussetzungen braucht man\, damit man sie effizient betreiben kann? Muss ich mein Haus sanieren? Mit welchen Investitionskosten muss ich rechnen? Was ist beim Betrieb einer Wärmepumpe zu beachten? Kann ich Erdwärme nutzen? Ist eine Eigenstromnutzung mit Photovoltaik sinnvoll?\n \nDie Teilnahme ist kostenlos und eine Anmeldung ist nicht notwendig. \nAlle Infos zur Messe und zum Vortragsprogramm finden Sie hier: https://www.bausalon.com/merzig/ \nWir freuen uns auf zahlreiche Besucher:innen!
URL:https://www.argesolar-saar.de/va/landeskampagne-energieberatung-saar-infoveranstaltung-waermepumpe-fuer-mein-haus-bausalon-merzig/
LOCATION:Stadthalle Merzig\, Zur Stadthalle 4\, Merzig\, Saarland\, 66663\, Germany
CATEGORIES:Landeskampagne "Energieberatung Saar"
ATTACH;FMTTYPE=image/png:https://www.argesolar-saar.de/wp-content/uploads/2026/01/Grafik_Bausalon_EBS.png
END:VEVENT
BEGIN:VEVENT
DTSTART;TZID=Europe/Berlin:20260317T150000
DTEND;TZID=Europe/Berlin:20260317T180000
DTSTAMP:20260420T002500
CREATED:20260130T090704Z
LAST-MODIFIED:20260222T083502Z
UID:15229-1773759600-1773770400@www.argesolar-saar.de
SUMMARY:Persönliche Energieberatung – individuelle und kostenlose Beratung zu Fragen rund um Energetische Sanierung\, Erneuerbare Energien-Anlagen & Informationen zu Erneuerbaren Energie-Gemeinschaften!
DESCRIPTION:An den folgenden Terminen bieten die Stadtwerke Saarlouis GmbH in Zusammenarbeit mit den Expert:innen der ARGE SOLAR e.V. die Möglichkeit\, kostenlos und neutral zu den Themen Erneuerbaren Energien\, Sanierung der Gebäudehülle und Erneuerbare Energie- Gemeinschaften beraten zu werden. \n\n10. Februar 2026\n24. Februar 2026\n17. März 2026\n31. März 2026\n\nSollten Sie Fragen dazu haben\, wie Sie Ihr Gebäude energieeffizient Sanieren\, welche Möglichkeiten Sie bei der Erneuerung Ihrer Heizung haben\, was eine Erneuerbare Energie-Gemeinschaft ist oder wie sie sich daran beteiligen können\, dann können Sie sich gerne zu einem der obigen Termine anmelden. Ihre Fragen werden dann in ca. 30 minütigen individuellen Gesprächen von unseren Fachexperten umfassend beantwortet. \nDie Beratungsnachmittage finden jeweils von 15:00 bis 18:00 Uhr in den Räumlichkeiten der Stadtwerke Saarlouis\, Holtzendorffer Str. 12\, 66740 Saarlouis\, statt. \nEine Anmeldung bis zum Vortag ist dringend erforderlich. Dies ist über die Online-Terminbuchungsseite der Stadtwerke Saarlouis möglich. Die Anzahl der Terminslots ist begrenzt\, sichern Sie sich Ihren Termin am besten sofort. \nDas Angebot der hier beworbenen neutralen Energieberatung hat sich aus der gemeinsamen Zusammenarbeit im Projekt „Modell Zur Umsetzung von Erneuerbare Energie (EE) – Gemeinschaften“ ergeben. Sollten Sie ein grundsätzliches Interesse am Thema Erneuerbare Energie-Gemeinschaften haben\, stellen wir Ihnen gerne basisorientierte Informationsmaterialien zur Verfügung.
URL:https://www.argesolar-saar.de/va/persoenliche-energieberatung-individuelle-und-kostenlose-beratung-zu-fragen-rund-um-energetische-sanierung-erneuerbare-energien-anlagen-informationen-zu-erneuerbaren-energie-gemeinschafte-3/
LOCATION:Stadtwerke Saarlouis (Holtzendorffer Str. 12\, 66740 Saarlouis)
CATEGORIES:EEGE
ATTACH;FMTTYPE=image/png:https://www.argesolar-saar.de/wp-content/uploads/2026/01/Beratung-EEGe.png
END:VEVENT
BEGIN:VEVENT
DTSTART;TZID=Europe/Berlin:20260319T170000
DTEND;TZID=Europe/Berlin:20260319T183000
DTSTAMP:20260420T002500
CREATED:20260217T114833Z
LAST-MODIFIED:20260217T115354Z
UID:15255-1773939600-1773945000@www.argesolar-saar.de
SUMMARY:"Alles Wissenswerte über PV-Balkonkraftwerke" – Online-Infoveranstaltung der Landeshauptstadt Saarbrücken & der Landeskampagne "Energieberatung Saar"
DESCRIPTION:Am 19. März 2026 laden die Landeshauptstadt Saarbrücken und die Landeskampagne „Energieberatung Saar“ des Ministeriums für Wirtschaft\, Innovation\, Digitales und Energie gemeinsam zu einer Online-Informationsveranstaltung zum Thema PV-Balkonkraftwerke ein. Von 17 bis 18:30 Uhr informiert Sie Dipl. Ing. Cathrin Becker\, Energieberatering der Verbraucherzentrale Saarland\, und beantwortet Ihre Fragen. \nBalkonkraftwerke bieten eine einfache und kostengünstige Möglichkeit\, sich persönlich an der Energiewende zu beteiligen. Im Vortrag erläutert die Referentin\, ob und wann sich ein solches Gerät lohnt\, welchen konkreten Nutzen die eigene Stromerzeugung hat und was für einen sicheren Betrieb zu beachten ist. Zudem werden wichtige Detailfragen beantwortet\, wie etwa: Bekommt man eine Einspeisevergütung? Ist ein Batteriespeicher sinnvoll? Muss ein Steckersolargerät angemeldet werden? \nDie Teilnahme ist kostenlos\, eine Anmeldung unter folgendem Link ist allerdings notwendig: JETZT HIER ANMELDEN \nWir freuen uns auf Ihre Teilnahme!
URL:https://www.argesolar-saar.de/va/alles-wissenswerte-ueber-pv-balkonkraftwerke-online-infoveranstaltung-der-landeshauptstadt-saarbruecken-der-landeskampagne-energieberatung-saar/
LOCATION:Online
CATEGORIES:Landeskampagne "Energieberatung Saar"
ATTACH;FMTTYPE=image/png:https://www.argesolar-saar.de/wp-content/uploads/2026/02/EBS_LHS-SB-Logo.png
END:VEVENT
BEGIN:VEVENT
DTSTART;TZID=Europe/Berlin:20260325T170000
DTEND;TZID=Europe/Berlin:20260325T183000
DTSTAMP:20260420T002500
CREATED:20260217T115244Z
LAST-MODIFIED:20260217T115244Z
UID:15258-1774458000-1774463400@www.argesolar-saar.de
SUMMARY:"Heizen und Stromerzeugung mit der Sonne" – Online-Infoveranstaltung der Landeshauptstadt Saarbrücken & der Landeskampagne “Energieberatung Saar”
DESCRIPTION:Am 25. März 2026 laden die Landeshauptstadt Saarbrücken und die Landeskampagne „Energieberatung Saar“ des Ministeriums für Wirtschaft\, Innovation\, Digitales und Energie gemeinsam zu einer Online-Informationsveranstaltung zum Thema “Heizen und Stromerzeugung mit der Sonne” ein. Von 17 bis 18:30 Uhr informiert Sie Dipl. Ing. Cathrin Becker\, Energieberatering der Verbraucherzentrale Saarland\, und beantwortet Ihre Fragen. \nIm Gegensatz zu allen anderen Energieträgern steht uns die Sonnenenergie kostenlos zur Verfügung. Durch die Installation einer solarthermischen Anlage können wir die Kraft der Sonne für die Warmwasserbereitung\, aber auch zur Heizungsunterstützung nutzen. Die Referentin erläutert die Funktionsweise einer Solarkollektor-Anlage und erklärt\, für welche Häuser und Nutzergruppen eine solche Anlage geeignet ist. Auch die Kostenfrage und die staatliche Förderung werden im Rahmen des Vortrags angesprochen.\nEin weiteres Thema ist die Stromerzeugung mit einer Photovoltaikanlage. Die Expertin erläutert\, welche Faktoren bei der Vorhersage des Ertrags zu beachten sind. \nDie Teilnahme ist kostenlos\, eine Anmeldung unter folgendem Link ist allerdings notwendig: JETZT HIER ANMELDEN \nWir freuen uns auf Ihre Teilnahme!
URL:https://www.argesolar-saar.de/va/heizen-und-stromerzeugung-mit-der-sonne-online-infoveranstaltung-der-landeshauptstadt-saarbruecken-der-landeskampagne-energieberatung-saar/
LOCATION:Online
CATEGORIES:Landeskampagne "Energieberatung Saar"
ATTACH;FMTTYPE=image/png:https://www.argesolar-saar.de/wp-content/uploads/2026/02/EBS_LHS-SB-Logo.png
END:VEVENT
END:VCALENDAR