BEGIN:VCALENDAR
VERSION:2.0
PRODID:-//ARGE SOLAR e.V. - ECPv6.15.20//NONSGML v1.0//EN
CALSCALE:GREGORIAN
METHOD:PUBLISH
X-WR-CALNAME:ARGE SOLAR e.V.
X-ORIGINAL-URL:https://www.argesolar-saar.de
X-WR-CALDESC:Veranstaltungen für ARGE SOLAR e.V.
REFRESH-INTERVAL;VALUE=DURATION:PT1H
X-Robots-Tag:noindex
X-PUBLISHED-TTL:PT1H
BEGIN:VTIMEZONE
TZID:Europe/Berlin
BEGIN:DAYLIGHT
TZOFFSETFROM:+0100
TZOFFSETTO:+0200
TZNAME:CEST
DTSTART:20240331T010000
END:DAYLIGHT
BEGIN:STANDARD
TZOFFSETFROM:+0200
TZOFFSETTO:+0100
TZNAME:CET
DTSTART:20241027T010000
END:STANDARD
BEGIN:DAYLIGHT
TZOFFSETFROM:+0100
TZOFFSETTO:+0200
TZNAME:CEST
DTSTART:20250330T010000
END:DAYLIGHT
BEGIN:STANDARD
TZOFFSETFROM:+0200
TZOFFSETTO:+0100
TZNAME:CET
DTSTART:20251026T010000
END:STANDARD
BEGIN:DAYLIGHT
TZOFFSETFROM:+0100
TZOFFSETTO:+0200
TZNAME:CEST
DTSTART:20260329T010000
END:DAYLIGHT
BEGIN:STANDARD
TZOFFSETFROM:+0200
TZOFFSETTO:+0100
TZNAME:CET
DTSTART:20261025T010000
END:STANDARD
END:VTIMEZONE
BEGIN:VEVENT
DTSTART;TZID=Europe/Berlin:20250916T183000
DTEND;TZID=Europe/Berlin:20250916T200000
DTSTAMP:20260420T082301
CREATED:20250827T090113Z
LAST-MODIFIED:20250829T110608Z
UID:14675-1758047400-1758052800@www.argesolar-saar.de
SUMMARY:Veranstaltung im Projekt Erneuerbare Energie-Gemeinschaften „Grüner Strom in Fraulautern: lokal erzeugen und gemeinsam nutzen“
DESCRIPTION:In unserem Forschungsprojekt „Modell zur Umsetzung von Erneuerbare Energie-Gemeinschaften“ möchten wir eine Gruppe an interessierten Privatpersonen\, lokalen Unternehmen und öffentlichen Einrichtungen in Fraulautern gewinnen\, um eine Erneuerbare Energie-Gemeinschaft (EE-Gemeinschaft) modellhaft zu initiieren. \nWir möchten Sie herzlich einladen\, mit uns und unseren Expert*innen aus der Praxis über die Umsetzung einer EE-Gemeinschaft in Fraulautern zu diskutieren. Unsere interaktive Veranstaltung informiert Sie über die aktuellen Entwicklungen. Dabei sollen juristische\, finanzielle und technische Fragen im Fokus stehen. \nWann: Dienstag\, 16. September 2025\, 18h30 \nWo: In den Räumlichkeiten der Stadtwerke Saarlouis\, Holtzendorffer Straße 12\, 66740 Saarlouis \nZielgruppe: Privatpersonen\, lokale Unternehmen und öffentliche Einrichtungen in Saarlouis-Fraulautern\, mit oder ohne eigene Photovoltaik-Anlage \n  \nAGENDA \n18h30 – 18h45        Begrüßung und Einführung in die Thematik \n18h45 – 19h45        Moderierte Diskussion und Austausch an Thementischen \n19h45 – 20h00        Zusammenfassung der Ergebnisse und Ausblick \nAb 20h00                Offener Austausch mit Imbiss \n  \nANMELDUNG \nDie Teilnahme ist kostenlos! \nEine Anmeldung ist jedoch erforderlich. Bitte folgen Sie diesem Link\, um sich im Vorfeld anzumelden: https://www.etermin.net/terminbuchung_swsls \nWir bitten um eine zeitnahe Anmeldungen. \n  \nKONTAKT \neege@argesolar-saar.de \nadam@izes.de \nwagner@izes.de
URL:https://www.argesolar-saar.de/va/veranstaltung-im-projekt-erneuerbare-energie-gemeinschaften-gruener-strom-in-fraulautern-lokal-erzeugen-und-gemeinsam-nutzen/
LOCATION:Privat: Stadtwerke Saarlouis\, Holtzendorffer Straße 12\, 66740 Saarlouis\, Saarland\, Germany
CATEGORIES:EEGE
ATTACH;FMTTYPE=image/jpeg:https://www.argesolar-saar.de/wp-content/uploads/2025/08/EEGE-Logo-08.2025.jpg
ORGANIZER;CN="ARGE SOLAR e.V.":MAILTO:veranstaltung@argesolar-saar.de
END:VEVENT
BEGIN:VEVENT
DTSTART;TZID=Europe/Berlin:20250917T150000
DTEND;TZID=Europe/Berlin:20250917T160000
DTSTAMP:20260420T082301
CREATED:20250124T101614Z
LAST-MODIFIED:20250124T101614Z
UID:13524-1758121200-1758124800@www.argesolar-saar.de
SUMMARY:Landeskampagne “Energieberatung Saar” – Online-Sprechstunde für Kommunen und KMU
DESCRIPTION:Am 17.09.25 findet die nächste Online-Sprechstunde für Kommunen und KMU von 15.00 bis 16.00 Uhr statt.\nDie Veranstaltung findet im Rahmen der der Landeskampagne “Energieberatung Saar” statt. \n  \nDie Online-Sprechstunde richtet sich an alle Interessierten Mitarbeitenden und Verantwortlichen in Kommunen und Unternehmen\, die Fragen zur Steigerung der Energieeffizienz\, Einsatz Erneuerbarer Energien oder energetischen Förderprogrammen haben. Besonders angesprochen sind diejenigen\, die praktisch und professionell mit Haustechnik vor Ort in öffentlichen und gewerblichen Gebäuden zu tun haben wie z. B. Hausmeister\, Verwaltungsmitarbeitende und viele mehr. \n  \nDie Teilnahme an der Veranstaltung ist kostenfrei\, eine Anmeldung ist jedoch erforderlich. \nAlternativ können Sie sich per Mail anmelden unter: veranstaltung@argesolar-saar.de oder energieberatung@wirtschaft.saarland.de \n 
URL:https://www.argesolar-saar.de/va/landeskampagne-energieberatung-saar-online-sprechstunde-fuer-kommunen-und-kmu-9/
LOCATION:Online
CATEGORIES:Landeskampagne "Energieberatung Saar"
ATTACH;FMTTYPE=image/jpeg:https://www.argesolar-saar.de/wp-content/uploads/2024/10/Logo-Landeskampagne-EBS.jpg
END:VEVENT
BEGIN:VEVENT
DTSTART;TZID=Europe/Berlin:20250918T130000
DTEND;TZID=Europe/Berlin:20250918T170000
DTSTAMP:20260420T082301
CREATED:20250721T110528Z
LAST-MODIFIED:20250915T090432Z
UID:14461-1758200400-1758214800@www.argesolar-saar.de
SUMMARY:Landeskampagne „Energieberatung Saar“ - Online-Fachtagung: Tag der Solarenergie
DESCRIPTION:Fachveranstaltung „Tag der Solarenergie“\nONLINE | DONNERSTAG 18.09.2025 | 13:00 – 17:00 UHR \nIn der Online-Fachtagung der Landeskampagne „Energieberatung Saar“ in Kooperation mit ARGE SOLAR gibt es einen Überblick über den aktuellen Stand der Technik\, Entwicklung und Anwendungsfelder der Photovoltaik\, regulatorische Rahmenbedingungen\, einen Ausblick auf Forschung und zukünftige Anwendungen und die Vorstellung interessanter Best-Practice-Beispiele.\nDie Veranstaltung wendet sich an kommunale Vertreter:innen\, Fachleute aus der Energiewirtschaft\, Mitarbeiter:innen von Stadt- und Gemeindewerken\, Unternehmen\, Wohnungsbaugesellschaften Energieberater:innen\, Architekten:innen\, Ingenieure:innen\, Handwerker:innen und interessierte Multiplikatoren.\nVeranstalter ist die Landeskampagne „Energieberatung Saar“ des Ministeriums für Wirtschaft\, Innovation\, Digitales und Energie (MWIDE) statt.\nWir freuen uns auf Ihre Anmeldungen! \nDie Teilnahme an der Veranstaltung ist kostenlos\, eine Anmeldung ist allerdings notwendig. \nHier finden Sie die Einladung zum Tag der Solarenergie 2025. \n  \nProgramm: \n13:00 Uhr: Begrüßung \nDr. Lesya Matiyuk\, Abteilungsleiterin Energie-\, Industrie- und Fachkräftepolitik\, Ministerium für Wirtschaft\, Innovation\, Digitales und Energie. \n13:10 Uhr: Situation im Saarland: Photovoltaik- und Batteriespeicherzubau – aktuelle Auswertung des Marktstammdatenregisters\nJannik Palumbo\, Ministerium für Wirtschaft\, Innovation\, Digitales und Energie. \n13:30 Uhr: Neue LBO im Saarland – Wissenswertes zu Vorgaben rund um Solarenergie\nDr. Daniel Turchi\, Ministerium für Inneres\, Bauen und Sport Saarland. \n13:50 Uhr: Technische Entwicklung und Anwendungsfelder der Photovoltaik\nDr. Harry Wirth\, Fraunhofer-Institut für Solare Energiesysteme ISE. \n14:20 Uhr: Gebäudeintegrierte Photovoltaik – aktueller Stand und Trends\nFabian Flade\, Allianz Bauwerkintegrierte Photovoltaik e.V. \n14:45 Uhr: Pause \n15:00 Uhr: Technische Grundlagen für Solarsteckergeräte\nJoseph Bergner\, Hochschule für Technik und Wirtschaft (htw) Berlin. \n15:25 Uhr: Dezentrale Stromspeicher: aktuelle Markt- und Technologieentwicklung & Einsatzmöglichkeiten und Auswahlkriterien von Solarspeichern\nDr. Jan Figgener\, RWTH Aachen. \n15:50 Uhr: Aufbau von kalten Nahwärmenetzen durch Nachrüstung von PV-Freiflächenanlagen mit solaren Wärmeübertragern\nNicholas Broß\, Labor für Solare Energiesysteme der htw saar \n16:10 Uhr: Herausforderungen aus Sicht der Netzbetreiber und Energieversorgungsunternehmen (EVU)\nBenedikt Kessler\, energis-Netzgesellschaft mbH\nund Riccardo Nobile\, energis GmbH \n16:30 Uhr: Vermarktung von Solarstrom: Möglichkeiten und Beispiele\nManuel Klingler\, VSE AG. \n16:50 Uhr: abschließende Fragerunde und Zusammenfassung. \nCa. 17:00 Uhr: Ende der Veranstaltung \nModeration: Ralph Schmidt\, ARGE SOLAR e.V. \n 
URL:https://www.argesolar-saar.de/va/tag-der-solarenergie-3/
LOCATION:Online
CATEGORIES:Landeskampagne "Energieberatung Saar"
ATTACH;FMTTYPE=image/png:https://www.argesolar-saar.de/wp-content/uploads/2025/05/EBS-eckig.png
END:VEVENT
BEGIN:VEVENT
DTSTART;TZID=Europe/Berlin:20250923T180000
DTEND;TZID=Europe/Berlin:20250923T193000
DTSTAMP:20260420T082301
CREATED:20250131T154446Z
LAST-MODIFIED:20251013T135122Z
UID:13584-1758650400-1758655800@www.argesolar-saar.de
SUMMARY:Landeskampagne „Energieberatung Saar“ – Online-Infoveranstaltung: Energetische Gebäudesanierung
DESCRIPTION:Am Dienstag\, den 23.09.2025 bietet die Landeskampagne „Energieberatung Saar“ in Kooperation mit der Verbraucherzentrale Saarland von 18:00 bis 19:30 Uhr einen Online-Vortrag zum Thema „Energetische Gebäudesanierung“ an. \nCathrin Becker\, Energieberaterin der Verbraucherzentrale\, erläutert in diesem Vortrag mögliche und sinnvolle Sanierungsmaßnahmen an der Gebäudehülle und geht insbesondere auf die Heizungstechnik ein. Welche erneuerbaren Wärmeerzeuger gibt es\, ist eine Wärmepumpe geeignet\, wie kann ich eine bestehende Heizung optimieren? Gesetzliche Anforderungen werden ebenso erklärt wie die zu erwartenden Einsparungen. Welche Möglichkeiten einer individuellen Beratung können in Anspruch genommen werden? Ein Schwerpunkt im Vortrag ist auch die Förderung energetischer Maßnahmen. \n  \nDie Teilnahme ist kostenfrei. Eine Anmeldung ist allerdings erforderlich. \n  \nINFO: Die Landeskampagne „Energieberatung Saar“ organisiert in Zusammenarbeit mit der Verbraucherzentrale Saarland in diesem Jahr eine informative Veranstaltungsreihe. Jeden Monat finden spannende Vorträge zu Themen wie Energiewende\, Energieeffizienz und weiteren Aspekten statt. Alle Details zu den einzelnen Terminen sowie die Möglichkeit zur Anmeldung werden unter folgendem Link verfügbar sein: https://www.argesolar-saar.de/veranstaltungen/ \n  \nWenn Sie Ihr Wissen vertiefen möchten\, nutzen Sie das Online-WIKI der Landeskampagne „Energieberatung Saar“: Dort erwarten Sie umfassende Informationen und sorgfältig zusammengestellte Materialien. Erfahren Sie u. a. mehr über Energiesparen\, Energieeffizienz\, energetische Sanierung\, erneuerbare Energien\, Förderprogramme\, effiziente Heizsysteme und viele weitere relevante Themen. Auf unserer stetig wachsenden Wissensplattform „Energiespar WIKI“ finden Sie interessante Informationen zum Stöbern\, Informieren\, und Teilen von Wissen für unterschiedliche Zielgruppen.
URL:https://www.argesolar-saar.de/va/landeskampagne-energieberatung-saar-online-infoveranstaltung-energetische-gebaeudesanierung/
LOCATION:Online
CATEGORIES:Landeskampagne "Energieberatung Saar"
ATTACH;FMTTYPE=image/jpeg:https://www.argesolar-saar.de/wp-content/uploads/2025/02/VZ-und-EBS-neu.jpg
END:VEVENT
BEGIN:VEVENT
DTSTART;VALUE=DATE:20250926
DTEND;VALUE=DATE:20250929
DTSTAMP:20260420T082301
CREATED:20250822T110927Z
LAST-MODIFIED:20250901T092659Z
UID:14616-1758844800-1759103999@www.argesolar-saar.de
SUMMARY:Stand der Landeskampagne „Energieberatung Saar“ auf der Leistungsmesse "Großer Markt 2025" in Saarlouis
DESCRIPTION:Vom 26. bis 28. September 2025 findet in Saarlouis die Leistungsmesse Großer Markt 2025 statt. \nAuf dem großen Messegelände mit Innen- und Außenbereichen präsentieren sich zahlreiche Aussteller aus Handel\, Handwerk\, Industrie\, Dienstleistungssektor sowie aus sozialen und öffentlichen Bereichen. Die Veranstaltung bietet ein vielfältiges Programm für Besucherinnen und Besucher aller Altersgruppen. \nIn der „GroMa-Halle“ (Festzelt) wird auch die Landeskampagne “Energieberatung Saar” mit einem Informations- und Beratungsstand vertreten sein und für sämtliche Fragen zur Verfügung stehen.
URL:https://www.argesolar-saar.de/va/ebs-stand-auf-der-leistungsmesse-grosser-markt-2025-in-saarlouis/
LOCATION:Großer Markt\, 66740 Saarlouis
CATEGORIES:Landeskampagne "Energieberatung Saar"
ATTACH;FMTTYPE=image/png:https://www.argesolar-saar.de/wp-content/uploads/2025/08/GroMa2025.png
END:VEVENT
END:VCALENDAR