BEGIN:VCALENDAR
VERSION:2.0
PRODID:-//ARGE SOLAR e.V. - ECPv6.15.20//NONSGML v1.0//EN
CALSCALE:GREGORIAN
METHOD:PUBLISH
X-WR-CALNAME:ARGE SOLAR e.V.
X-ORIGINAL-URL:https://www.argesolar-saar.de
X-WR-CALDESC:Veranstaltungen für ARGE SOLAR e.V.
REFRESH-INTERVAL;VALUE=DURATION:PT1H
X-Robots-Tag:noindex
X-PUBLISHED-TTL:PT1H
BEGIN:VTIMEZONE
TZID:Europe/Berlin
BEGIN:DAYLIGHT
TZOFFSETFROM:+0100
TZOFFSETTO:+0200
TZNAME:CEST
DTSTART:20240331T010000
END:DAYLIGHT
BEGIN:STANDARD
TZOFFSETFROM:+0200
TZOFFSETTO:+0100
TZNAME:CET
DTSTART:20241027T010000
END:STANDARD
BEGIN:DAYLIGHT
TZOFFSETFROM:+0100
TZOFFSETTO:+0200
TZNAME:CEST
DTSTART:20250330T010000
END:DAYLIGHT
BEGIN:STANDARD
TZOFFSETFROM:+0200
TZOFFSETTO:+0100
TZNAME:CET
DTSTART:20251026T010000
END:STANDARD
BEGIN:DAYLIGHT
TZOFFSETFROM:+0100
TZOFFSETTO:+0200
TZNAME:CEST
DTSTART:20260329T010000
END:DAYLIGHT
BEGIN:STANDARD
TZOFFSETFROM:+0200
TZOFFSETTO:+0100
TZNAME:CET
DTSTART:20261025T010000
END:STANDARD
END:VTIMEZONE
BEGIN:VEVENT
DTSTART;TZID=Europe/Berlin:20250818T140000
DTEND;TZID=Europe/Berlin:20250818T160000
DTSTAMP:20260420T095520
CREATED:20250707T082942Z
LAST-MODIFIED:20250728T123611Z
UID:14396-1755525600-1755532800@www.argesolar-saar.de
SUMMARY:IMPULS – Online-Fachveranstaltung –Energiespar-Contracting für Landesliegenschaften
DESCRIPTION:In der Fachveranstaltung gibt Ihnen Mechthild Zumbusch\, Bereichsleiterin bei der Berliner Energieagentur (BEA)\, einen Überblick über „Energiespar-Contracting“ (ESC) als Geschäftsmodell zur Umsetzung von Klimaschutz- und Energieeffizienzmaßnahmen und erläutert dieses anhand von Praxisbeispielen. \nDurch veraltete Gebäudetechnik können in Nichtwohngebäuden immense Energiekosten und CO2-Emissionen entstehen. Um die Klimaschutzziele im Gebäudesektor zu erreichen und dem Druck steigender Energiekosten entgegenzuwirken\, muss die Energieeffizienz steigen. Häufig fehlen die Mittel und personelle Kapazitäten\, die die notwendigen Maßnahmen auf den Weg bringen. Das „Energiespar-Contracting“ (ESC) kann eine Lösung bieten\, da die Reduzierung der Energiekosten über erzielte Einsparungen finanziert wird und ein Energiedienstleister die Umsetzung durchführt.\nWie ESC funktioniert\, welche Schritte für eine Projektumsetzung notwendig sind und welche Chancen sowie Herausforderungen bestehen\, werden bei dieser Veranstaltung erläutert. \n  \nDiese Veranstaltung ist Teil einer Reihe\, in der das Thema Energiespar-Contracting (ESC) für verschiedene Zielgruppen beleuchtet wird:\nSie können sich bei Interesse auch gerne für mehrere Veranstaltungen dieser Reihe anmelden. \n\n18.08.2025\, 14:00 – 16:00 Uhr\nESC für Landesliegenschaften\nBspw. Ämter\, Ministerien\, JVA\, Landespolizei\nHier finden Sie den Flyer zur Veranstaltung.\n\n  \n\n19.08.2025\, 10:00 – 12:00 Uhr\nESC für Kleine & Mittelständische Unternehmen (KMU) & Soziale Träger\nBspw. Bürogebäude\, Verwaltungen\, Pflegeheime\, Krankenhäuser\, kirchliche Einrichtungen\nHier finden Sie den Flyer zur Veranstaltung.\n\n  \n\n27.08.2025\, 10:00 -12:00 Uhr\nESC für Öffentliche Verwaltung\, Kommunen & Landkreise\nBspw. Ämter\, Schulen\, Rathäuser\, Hallen\, Kulturhäuser\nHier finden Sie den Flyer zur Veranstaltung.\n\n  \nVeranstalter sind die Landeskampagne „Energieberatung Saar“ (EBS) des Ministeriums für Wirtschaft\, Innovation\, Digitales und Energie (MWIDE) durchgeführt von ARGE SOLAR e.V. in Kooperation mit der Berliner Energieagentur (BEA) und der Klimaschutz- und Energieagentur Baden-Württemberg (KEA) im Auftrag des „ESC-Mentoring“-Programms des Kompetenzzentrums Contracting der Deutschen Energie-Agentur GmbH (dena). \n  \nDie Teilnahme ist kostenfrei. Eine Anmeldung ist allerdings erforderlich. \n 
URL:https://www.argesolar-saar.de/va/impuls-online-fachveranstaltung-modell-energiespar-contracting-landesliegenschaften-z-b-jva-verwaltungsgebaeude/
LOCATION:Online
CATEGORIES:Landeskampagne "Energieberatung Saar"
ATTACH;FMTTYPE=image/png:https://www.argesolar-saar.de/wp-content/uploads/2025/07/EBS_dena_Contracting.png
END:VEVENT
BEGIN:VEVENT
DTSTART;TZID=Europe/Berlin:20250819T100000
DTEND;TZID=Europe/Berlin:20250819T120000
DTSTAMP:20260420T095520
CREATED:20250707T083914Z
LAST-MODIFIED:20250728T123410Z
UID:14402-1755597600-1755604800@www.argesolar-saar.de
SUMMARY:IMPULS – Online-Fachveranstaltung –Energiespar-Contracting für KMU & Soziale Träger
DESCRIPTION:In der Fachveranstaltung gibt Ihnen Mechthild Zumbusch\, Bereichsleiterin bei der Berliner Energieagentur (BEA)\, einen Überblick über „Energiespar-Contracting“ (ESC) als Geschäftsmodell zur Umsetzung von Klimaschutz- und Energieeffizienzmaßnahmen und erläutert dieses anhand von Praxisbeispielen. \nDurch veraltete Gebäudetechnik können in Nichtwohngebäuden immense Energiekosten und CO2-Emissionen entstehen. Um die Klimaschutzziele im Gebäudesektor zu erreichen und dem Druck steigender Energiekosten entgegenzuwirken\, muss die Energieeffizienz steigen. Häufig fehlen die Mittel und personelle Kapazitäten\, die die notwendigen Maßnahmen auf den Weg bringen. Das „Energiespar-Contracting“ (ESC) kann eine Lösung bieten\, da die Reduzierung der Energiekosten über erzielte Einsparungen finanziert wird und ein Energiedienstleister die Umsetzung durchführt.\nWie ESC funktioniert\, welche Schritte für eine Projektumsetzung notwendig sind und welche Chancen sowie Herausforderungen bestehen\, werden bei dieser Veranstaltung erläutert. \n  \nDiese Veranstaltung ist Teil einer Reihe\, in der das Thema Energiespar-Contracting (ESC) für verschiedene Zielgruppen beleuchtet wird:\nSie können sich bei Interesse auch gerne für mehrere Veranstaltungen dieser Reihe anmelden. \n\n18.08.2025\, 14:00 – 16:00 Uhr\nESC für Landesliegenschaften\nBspw. Ämter\, Ministerien\, JVA\, Landespolizei\nHier finden Sie den Flyer zur Veranstaltung.\n\n  \n\n19.08.2025\, 10:00 – 12:00 Uhr\nESC für Kleine & Mittelständische Unternehmen (KMU) & Soziale Träger\nBspw. Bürogebäude\, Verwaltungen\, Pflegeheime\, Krankenhäuser\, kirchliche Einrichtungen\nHier finden Sie den Flyer zur Veranstaltung.\n\n  \n\n27.08.2025\, 10:00 -12:00 Uhr\nESC für Öffentliche Verwaltung\, Kommunen & Landkreise\nBspw. Ämter\, Schulen\, Rathäuser\, Hallen\, Kulturhäuser\nHier finden Sie den Flyer zur Veranstaltung.\n\n  \nVeranstalter sind die Landeskampagne „Energieberatung Saar“ (EBS) des Ministeriums für Wirtschaft\, Innovation\, Digitales und Energie (MWIDE) durchgeführt von ARGE SOLAR e.V. in Kooperation mit der Berliner Energieagentur (BEA) und der Klimaschutz- und Energieagentur Baden-Württemberg (KEA) im Auftrag des „ESC-Mentoring“-Programms des Kompetenzzentrums Contracting der Deutschen Energie-Agentur GmbH (dena). \n  \nDie Teilnahme ist kostenfrei. Eine Anmeldung ist allerdings erforderlich. \n  \n 
URL:https://www.argesolar-saar.de/va/impuls-online-fachveranstaltung-modell-energiespar-contracting-ihk-mitglieder-buerogebaeude-verwaltungen-und-soziale-traeger-pflegeheime-krankenhaeuser-kirchliche-einrichtu/
LOCATION:Online
CATEGORIES:Landeskampagne "Energieberatung Saar"
ATTACH;FMTTYPE=image/png:https://www.argesolar-saar.de/wp-content/uploads/2025/07/EBS_dena_Contracting.png
END:VEVENT
BEGIN:VEVENT
DTSTART;TZID=Europe/Berlin:20250820T150000
DTEND;TZID=Europe/Berlin:20250820T160000
DTSTAMP:20260420T095520
CREATED:20250124T101442Z
LAST-MODIFIED:20250124T101442Z
UID:13522-1755702000-1755705600@www.argesolar-saar.de
SUMMARY:Landeskampagne “Energieberatung Saar” – Online-Sprechstunde für Kommunen und KMU
DESCRIPTION:Am 20.08.25 findet die nächste Online-Sprechstunde für Kommunen und KMU von 15.00 bis 16.00 Uhr statt.\nDie Veranstaltung findet im Rahmen der der Landeskampagne “Energieberatung Saar” statt. \n  \nDie Online-Sprechstunde richtet sich an alle Interessierten Mitarbeitenden und Verantwortlichen in Kommunen und Unternehmen\, die Fragen zur Steigerung der Energieeffizienz\, Einsatz Erneuerbarer Energien oder energetischen Förderprogrammen haben. Besonders angesprochen sind diejenigen\, die praktisch und professionell mit Haustechnik vor Ort in öffentlichen und gewerblichen Gebäuden zu tun haben wie z. B. Hausmeister\, Verwaltungsmitarbeitende und viele mehr. \n  \nDie Teilnahme an der Veranstaltung ist kostenfrei\, eine Anmeldung ist jedoch erforderlich. \nAlternativ können Sie sich per Mail anmelden unter: veranstaltung@argesolar-saar.de oder energieberatung@wirtschaft.saarland.de
URL:https://www.argesolar-saar.de/va/landeskampagne-energieberatung-saar-online-sprechstunde-fuer-kommunen-und-kmu-8/
LOCATION:Online
CATEGORIES:Landeskampagne "Energieberatung Saar"
ATTACH;FMTTYPE=image/jpeg:https://www.argesolar-saar.de/wp-content/uploads/2024/10/Logo-Landeskampagne-EBS.jpg
END:VEVENT
BEGIN:VEVENT
DTSTART;TZID=Europe/Berlin:20250826T180000
DTEND;TZID=Europe/Berlin:20250826T193000
DTSTAMP:20260420T095520
CREATED:20250131T154152Z
LAST-MODIFIED:20250131T155142Z
UID:13581-1756231200-1756236600@www.argesolar-saar.de
SUMMARY:Landeskampagne „Energieberatung Saar“ – Online-Infoveranstaltung: Heizen und Stromerzeugung mit der Sonne
DESCRIPTION:Am Dienstag\, den 26.08.2025 bietet die Landeskampagne „Energieberatung Saar“ in Kooperation mit der Verbraucherzentrale Saarland von 18:00 bis 19:30 Uhr einen Online-Vortrag zum Thema „Heizen und Stromerzeugung mit der Sonne“ an. \nIm Gegensatz zu allen anderen Energieträgern steht uns die Sonnenenergie kostenlos zur Verfügung. Durch die Installation einer solarthermischen Anlage können wir die Kraft der Sonne für die Warmwasserbereitung\, aber auch zur Heizungsunterstützung nutzen. Cathrin Becker\, Energieberaterin der Verbraucherzentrale Saarland\, erläutert die Funktionsweise einer Solarkollektor-Anlage und erklärt\, für welche Häuser und Nutzergruppen eine solche Anlage geeignet ist. Auch die Kostenfrage und die staatliche Förderung werden im Rahmen des Vortrags angesprochen.  \nEin weiteres Thema ist die Stromerzeugung mit einer Photovoltaikanlage. Die Expertin erläutert\, welche Faktoren bei der Vorhersage des Ertrags zu beachten sind. \n  \nDie Teilnahme ist kostenfrei. Eine Anmeldung ist allerdings erforderlich. \n  \nINFO: Die Landeskampagne „Energieberatung Saar“ organisiert in Zusammenarbeit mit der Verbraucherzentrale Saarland in diesem Jahr eine informative Veranstaltungsreihe. Jeden Monat finden spannende Vorträge zu Themen wie Energiewende\, Energieeffizienz und weiteren Aspekten statt. Alle Details zu den einzelnen Terminen sowie die Möglichkeit zur Anmeldung werden unter folgendem Link verfügbar sein: https://www.argesolar-saar.de/veranstaltungen/ \n  \nWenn Sie Ihr Wissen vertiefen möchten\, nutzen Sie das Online-WIKI der Landeskampagne „Energieberatung Saar“: Dort erwarten Sie umfassende Informationen und sorgfältig zusammengestellte Materialien. Erfahren Sie u. a. mehr über Energiesparen\, Energieeffizienz\, energetische Sanierung\, erneuerbare Energien\, Förderprogramme\, effiziente Heizsysteme und viele weitere relevante Themen. Auf unserer stetig wachsenden Wissensplattform „Energiespar WIKI“ finden Sie interessante Informationen zum Stöbern\, Informieren\, und Teilen von Wissen für unterschiedliche Zielgruppen.
URL:https://www.argesolar-saar.de/va/landeskampagne-energieberatung-saar-online-infoveranstaltung-heizen-und-stromerzeugung-mit-der-sonne/
LOCATION:Online
CATEGORIES:Landeskampagne "Energieberatung Saar"
ATTACH;FMTTYPE=image/png:https://www.argesolar-saar.de/wp-content/uploads/2024/10/VZEBS1.png
END:VEVENT
BEGIN:VEVENT
DTSTART;TZID=Europe/Berlin:20250827T100000
DTEND;TZID=Europe/Berlin:20250827T120000
DTSTAMP:20260420T095520
CREATED:20250707T084120Z
LAST-MODIFIED:20250804T072502Z
UID:14407-1756288800-1756296000@www.argesolar-saar.de
SUMMARY:IMPULS – Online-Fachveranstaltung –Energiespar-Contracting für Öffentliche Verwaltung\, Kommunen & Landkreise
DESCRIPTION:In der Fachveranstaltung gibt Ihnen Dr.-Ing. Anders Berg\, Leiter des Bereichs Contracting bei der Klimaschutz- und Energieagentur Baden-Württemberg GmbH (KEA-BW)\, einen Überblick über „Energiespar-Contracting“ (ESC) als Geschäftsmodell zur Umsetzung von Klimaschutz- und Energieeffizienzmaßnahmen und erläutert dieses anhand von Praxisbeispielen. \nDurch veraltete Gebäudetechnik können in Nichtwohngebäuden immense Energiekosten und CO2-Emissionen entstehen. Um die Klimaschutzziele im Gebäudesektor zu erreichen und dem Druck steigender Energiekosten entgegenzuwirken\, muss die Energieeffizienz steigen. Häufig fehlen die Mittel und personelle Kapazitäten\, die die notwendigen Maßnahmen auf den Weg bringen. Das „Energiespar-Contracting“ (ESC) kann eine Lösung bieten\, da die Reduzierung der Energiekosten über erzielte Einsparungen finanziert wird und ein Energiedienstleister die Umsetzung durchführt.\nWie ESC funktioniert\, welche Schritte für eine Projektumsetzung notwendig sind und welche Chancen sowie Herausforderungen bestehen\, werden bei dieser Veranstaltung erläutert. \n  \nDiese Veranstaltung ist Teil einer Reihe\, in der das Thema Energiespar-Contracting (ESC) für verschiedene Zielgruppen beleuchtet wird: \nSie können sich bei Interesse auch gerne für mehrere Veranstaltungen dieser Reihe anmelden. \n\n18.08.2025\, 14:00 – 16:00 Uhr\nESC für Landesliegenschaften\nBspw. Ämter\, Ministerien\, JVA\, Landespolizei\nHier finden Sie den Flyer zur Veranstaltung.\n\n  \n\n19.08.2025\, 10:00 – 12:00 Uhr\nESC für Kleine & Mittelständische Unternehmen (KMU) & Soziale Träger\nBspw. Bürogebäude\, Verwaltungen\, Pflegeheime\, Krankenhäuser\, kirchliche Einrichtungen\nHier finden Sie den Flyer zur Veranstaltung.\n\n  \n\n27.08.2025\, 10:00 -12:00 Uhr\nESC für Öffentliche Verwaltung\, Kommunen & Landkreise\nBspw. Ämter\, Schulen\, Rathäuser\, Hallen\, Kulturhäuser\nHier finden Sie den Flyer zur Veranstaltung.\n\n  \nVeranstalter sind die Landeskampagne „Energieberatung Saar“ (EBS) des Ministeriums für Wirtschaft\, Innovation\, Digitales und Energie (MWIDE) durchgeführt von ARGE SOLAR e.V. in Kooperation mit der Berliner Energieagentur (BEA) und der Klimaschutz- und Energieagentur Baden-Württemberg (KEA) im Auftrag des „ESC-Mentoring“-Programms des Kompetenzzentrums Contracting der Deutschen Energie-Agentur GmbH (dena). \n  \nDie Teilnahme ist kostenfrei. Eine Anmeldung ist allerdings erforderlich. \n 
URL:https://www.argesolar-saar.de/va/impuls-online-fachveranstaltung-modell-energiespar-contracting-oeffentliche-verwaltung-kommunen-landkreise-schulen-rathaeuser-hallen-kulturhaeuser/
LOCATION:Online
CATEGORIES:Landeskampagne "Energieberatung Saar"
ATTACH;FMTTYPE=image/png:https://www.argesolar-saar.de/wp-content/uploads/2025/07/EBS_dena_Contracting.png
END:VEVENT
BEGIN:VEVENT
DTSTART;TZID=Europe/Berlin:20250828T140000
DTEND;TZID=Europe/Berlin:20250828T180000
DTSTAMP:20260420T095520
CREATED:20250616T101658Z
LAST-MODIFIED:20250731T102419Z
UID:14341-1756389600-1756404000@www.argesolar-saar.de
SUMMARY:Fachtag „Energieeffizienz und kommunaler Klimaschutz – Stärkung der Zusammenarbeit auf lokaler Ebene“
DESCRIPTION:Am Donnerstag\, den 28.08.2025\, findet der Fachtag „Energieeffizienz und kommunaler Klimaschutz – Stärkung der Zusammenarbeit auf lokaler Ebene“ statt. Die hybride Veranstaltung kann sowohl vor Ort\, im Ministerium für Wirtschaft\, Innovation\, Digitales und Energie (Franz-Josef-Röder-Str. 17\, 66119 Saarbrücken)\, oder Online besucht werden.\nDie Veranstaltung richtet sich insbesondere an Akteure im Bereich der kommunalen Energiewende. Im Fokus steht die Frage\, wie in Zukunft die Zusammenarbeit auf lokaler Ebene gestärkt und unterschiedliche Akteursgruppen für Energieeffizienz- und Klimaschutzprojekte aktiviert werden können. \nNach einem Grußwort aus den Ministerien für Wirtschaft\, Innovation\, Digitales und Energie (MWIDE) sowie für Umwelt\, Klima\, Mobilität\, Agrar und Verbraucherschutz (MUKMAV) folgt eine Keynote mit Praxisbeispielen aus dem Landratsamt Ludwigsburg zu Energiesparmodellen an Schulen. Anschließend berichten Aline Adam und Jan Hildebrand vom Institut für ZukunftsEnergie- und Stoffstromsysteme (IZES) über Erkenntnisse zur Rolle von Beteiligung und Kommunikation aus dem Projekt Modell EEGe. \nIm weiteren Verlauf geben überregionale und lokale Beispiele\, unter anderem aus Rheinland-Pfalz und dem Saarland\, Einblick in erfolgreiche Projekte zur Aktivierung von Bürgerinnen und Bürgern\, digitalen Tools und interkommunalen Kooperationen. Mit dabei sind Klimaschutzmanagerin Janine Sieben (Landkreis Neuwied)\, Johannes Tolk vom Planungsbüro Resilientcities mit überregionalen Beispielen. Klimaschutzmanagerin Christina Morlo-Martin (Landkreis Neunkirchen) sowie Klimaschutzmanager Michael Walter und Klimaschutzkoordinator Alexander Dämmgen (Landkreis St. Wendel) stellen regionale Beispiele aus dem Saarland vor. \nNach einer Diskussions- und Fragerunde wird man den Fachtag gegen 18:00 Uhr gemütlich ausklingen lassen. \nPROGRAMM: \n14.00 Uhr: Begrüßung\, Grußwort MWIDE & MUKMAV \n\nKlaus-Dieter Uhrhan\, Referatsleiter\, Förderung der Energieeffizienz Referat F/3\, Ministerium für Wirtschaft\, Innovation\, Digitales und Energie\nNicola Saccà\, Klimaschutzkoordinator der Landesregierung\, Referatsleiter C/5\, Ministerium für Umwelt\, Klima\, Mobilität\, Agrar und Verbraucherschutz\n\n14.15 Uhr: Impuls/ Keynotes \n\nKlimaschutzkoordination Jennifer Häusler: Aktivierung verschiedener Akteursgruppen und Zusammenarbeit vor Ort. Praxisbeispiel aus Baden-Württemberg\, Landratsamt Ludwigsburg: Klimaschutz von Schule bis Kommune\nIZES\, Aline Adam und Jan Hildebrand: Die Rolle von Beteiligung und Kommunikation bei lokalen Klimaschutzprojekten. Ergebnisse aus dem Projekt Modell EEGe.\n\n15.15 Uhr: Überregionale Beispiele \n\nKlimaschutzmanagerin Janine Sieben: Informationen und Aktivierung verschiedener Akteursgruppen und Zusammenarbeit vor Ort. Praxisbeispiel aus Rheinland-Pfalz\, Landkreis Neuwied: Digitales Klimaschutzportal\, Ausbildung Bürger zum Solarbotschafter.\nPlanungsbüro Resilientcities\, Dipl.-Des. Johannes Tolk (Online): Multi-Akteurs-Prototyping. Bundesweite Praxisbeispiele aus Luckau\, Erkner und Berlin-Wedding-Parkviertel: Klimatandem und 8-Wochen-Ideen\n\n16.15 Uhr: Kaffeepause \n16.30 Uhr: Lokale Beispiele \n\nKlimaschutzmanagerin Christina Morlo-Martin: Zusammenarbeit und interkommunale Synergien: Das Kommunale Klimaschutz-Netzwerk im Landkreis Neunkirchen (KKSN)\nKlimaschutzkoordinator Alexander Dämmgen oder Michael Welter: Zusammenarbeit mit unterschiedlichen Akteursgruppen – Praxisbeispiele aus dem Landkreis St. Wendel.\n\n17.30 Uhr: Diskussionsrunde \n18.00 Uhr: Gemütlicher Ausklang \nModeration: Ina Kunz\, ARGE SOLAR e.V. \n  \nHIER finden Sie das Programm nochmal als PDF zum Download. \nDie Teilnahme an der Veranstaltung ist kostenfrei\, die Teilnehmeranzahl vor Ort ist allerdings begrenzt.\nEine Anmeldung unter folgendem Link ist erforderlich: ZUR ANMELDUNG \n  \nWenn Sie Ihr Wissen vertiefen möchten\, nutzen Sie das Online-WIKI der Landeskampagne „Energieberatung Saar“: Dort erwarten Sie umfassende Informationen und sorgfältig zusammengestellte Materialien. Erfahren Sie u. a. mehr über Energiesparen\, Energieeffizienz\, energetische Sanierung\, erneuerbare Energien\, Förderprogramme\, effiziente Heizsysteme und viele weitere relevante Themen. Auf unserer stetig wachsenden Wissensplattform „Energiespar WIKI“ finden Sie interessante Informationen zum Stöbern\, Informieren\, und Teilen von Wissen für unterschiedliche Zielgruppen.
URL:https://www.argesolar-saar.de/va/fachtag-energieeffizienz-und-kommunaler-klimaschutz-staerkung-der-zusammenarbeit-auf-lokaler-ebene/
LOCATION:Raum E.003\, Franz-Josef-Röder-Str. 17 (MWIDE)\, 66119 Saarbrücken oder Online (Webex)
CATEGORIES:Landeskampagne "Energieberatung Saar"
ATTACH;FMTTYPE=image/jpeg:https://www.argesolar-saar.de/wp-content/uploads/2025/05/Logo-Landeskampagne-EBS.jpg
END:VEVENT
END:VCALENDAR