BEGIN:VCALENDAR
VERSION:2.0
PRODID:-//ARGE SOLAR e.V. - ECPv6.15.20//NONSGML v1.0//EN
CALSCALE:GREGORIAN
METHOD:PUBLISH
X-WR-CALNAME:ARGE SOLAR e.V.
X-ORIGINAL-URL:https://www.argesolar-saar.de
X-WR-CALDESC:Veranstaltungen für ARGE SOLAR e.V.
REFRESH-INTERVAL;VALUE=DURATION:PT1H
X-Robots-Tag:noindex
X-PUBLISHED-TTL:PT1H
BEGIN:VTIMEZONE
TZID:Europe/Berlin
BEGIN:DAYLIGHT
TZOFFSETFROM:+0100
TZOFFSETTO:+0200
TZNAME:CEST
DTSTART:20240331T010000
END:DAYLIGHT
BEGIN:STANDARD
TZOFFSETFROM:+0200
TZOFFSETTO:+0100
TZNAME:CET
DTSTART:20241027T010000
END:STANDARD
BEGIN:DAYLIGHT
TZOFFSETFROM:+0100
TZOFFSETTO:+0200
TZNAME:CEST
DTSTART:20250330T010000
END:DAYLIGHT
BEGIN:STANDARD
TZOFFSETFROM:+0200
TZOFFSETTO:+0100
TZNAME:CET
DTSTART:20251026T010000
END:STANDARD
BEGIN:DAYLIGHT
TZOFFSETFROM:+0100
TZOFFSETTO:+0200
TZNAME:CEST
DTSTART:20260329T010000
END:DAYLIGHT
BEGIN:STANDARD
TZOFFSETFROM:+0200
TZOFFSETTO:+0100
TZNAME:CET
DTSTART:20261025T010000
END:STANDARD
END:VTIMEZONE
BEGIN:VEVENT
DTSTART;TZID=Europe/Berlin:20250703T180000
DTEND;TZID=Europe/Berlin:20250703T193000
DTSTAMP:20260420T113607
CREATED:20250131T153848Z
LAST-MODIFIED:20250131T153848Z
UID:13579-1751565600-1751571000@www.argesolar-saar.de
SUMMARY:Landeskampagne „Energieberatung Saar“ – Online-Infoveranstaltung: Wärmepumpe für mein Haus
DESCRIPTION:Am Donnerstag\, den 03.07.2025 bietet die Landeskampagne „Energieberatung Saar“ in Kooperation mit der Verbraucherzentrale Saarland von 18:00 bis 19:30 Uhr einen Online-Vortrag zum Thema „Wärmepumpe für mein Haus“ an. \nDenken Sie an eine Heizungserneuerung in Ihrem Bestandsgebäude? Heizen Sie mit Öl oder Gas\, vielleicht auch Kohle oder Koks oder einer Nachtstromspeicherheizung? Das „Heizungsgesetz“ sprich Gebäudeenergiegesetz 2024\, will fossile Brennstoffe beim Heizen begrenzen und ab 2045 eindämmen. \nDa bietet es sich an\, über die Umstellung auf eine Wärmepumpenheizung nachzudenken. \nChristine Mörgen\, Energieberaterin der Verbraucherzentrale\, geht in ihrem Vortrag u. a. auf folgende Fragen ein: Wie funktioniert eine Wärmepumpe? Welche Voraussetzungen braucht man\, damit man sie effizient betreiben kann? Muss ich mein Haus sanieren? Mit welchen Investitionskosten muss ich rechnen? Was ist beim Betrieb einer Wärmepumpe zu beachten? Kann ich Erdwärme nutzen? Ist eine Eigenstromnutzung mit Photovoltaik sinnvoll? \n  \nDie Teilnahme ist kostenfrei. Eine Anmeldung ist allerdings erforderlich. \n  \nINFO: Die Landeskampagne „Energieberatung Saar“ organisiert in Zusammenarbeit mit der Verbraucherzentrale Saarland in diesem Jahr eine informative Veranstaltungsreihe. Jeden Monat finden spannende Vorträge zu Themen wie Energiewende\, Energieeffizienz und weiteren Aspekten statt. Alle Details zu den einzelnen Terminen sowie die Möglichkeit zur Anmeldung werden unter folgendem Link verfügbar sein: https://www.argesolar-saar.de/veranstaltungen/ \n  \nWenn Sie Ihr Wissen vertiefen möchten\, nutzen Sie das Online-WIKI der Landeskampagne „Energieberatung Saar“: Dort erwarten Sie umfassende Informationen und sorgfältig zusammengestellte Materialien. Erfahren Sie u. a. mehr über Energiesparen\, Energieeffizienz\, energetische Sanierung\, erneuerbare Energien\, Förderprogramme\, effiziente Heizsysteme und viele weitere relevante Themen. Auf unserer stetig wachsenden Wissensplattform „Energiespar WIKI“ finden Sie interessante Informationen zum Stöbern\, Informieren\, und Teilen von Wissen für unterschiedliche Zielgruppen.
URL:https://www.argesolar-saar.de/va/landeskampagne-energieberatung-saar-online-infoveranstaltung-waermepumpe-fuer-mein-haus/
LOCATION:Online
CATEGORIES:Landeskampagne "Energieberatung Saar"
ATTACH;FMTTYPE=image/png:https://www.argesolar-saar.de/wp-content/uploads/2024/10/VZEBS1.png
END:VEVENT
BEGIN:VEVENT
DTSTART;TZID=Europe/Berlin:20250716T150000
DTEND;TZID=Europe/Berlin:20250716T160000
DTSTAMP:20260420T113607
CREATED:20250124T101310Z
LAST-MODIFIED:20250124T101310Z
UID:13520-1752678000-1752681600@www.argesolar-saar.de
SUMMARY:Landeskampagne “Energieberatung Saar” – Online-Sprechstunde für Kommunen und KMU
DESCRIPTION:Am 16.07.25 findet die nächste Online-Sprechstunde für Kommunen und KMU von 15.00 bis 16.00 Uhr statt.\nDie Veranstaltung findet im Rahmen der der Landeskampagne “Energieberatung Saar” statt. \n  \nDie Online-Sprechstunde richtet sich an alle Interessierten Mitarbeitenden und Verantwortlichen in Kommunen und Unternehmen\, die Fragen zur Steigerung der Energieeffizienz\, Einsatz Erneuerbarer Energien oder energetischen Förderprogrammen haben. Besonders angesprochen sind diejenigen\, die praktisch und professionell mit Haustechnik vor Ort in öffentlichen und gewerblichen Gebäuden zu tun haben wie z. B. Hausmeister\, Verwaltungsmitarbeitende und viele mehr. \n  \nDie Teilnahme an der Veranstaltung ist kostenfrei\, eine Anmeldung ist jedoch erforderlich. \nAlternativ können Sie sich per Mail anmelden unter: veranstaltung@argesolar-saar.de oder energieberatung@wirtschaft.saarland.de \n 
URL:https://www.argesolar-saar.de/va/landeskampagne-energieberatung-saar-online-sprechstunde-fuer-kommunen-und-kmu-7/
LOCATION:Online
CATEGORIES:Landeskampagne "Energieberatung Saar"
ATTACH;FMTTYPE=image/jpeg:https://www.argesolar-saar.de/wp-content/uploads/2024/10/Logo-Landeskampagne-EBS.jpg
END:VEVENT
END:VCALENDAR