BEGIN:VCALENDAR
VERSION:2.0
PRODID:-//ARGE SOLAR e.V. - ECPv6.15.20//NONSGML v1.0//EN
CALSCALE:GREGORIAN
METHOD:PUBLISH
X-WR-CALNAME:ARGE SOLAR e.V.
X-ORIGINAL-URL:https://www.argesolar-saar.de
X-WR-CALDESC:Veranstaltungen für ARGE SOLAR e.V.
REFRESH-INTERVAL;VALUE=DURATION:PT1H
X-Robots-Tag:noindex
X-PUBLISHED-TTL:PT1H
BEGIN:VTIMEZONE
TZID:Europe/Berlin
BEGIN:DAYLIGHT
TZOFFSETFROM:+0100
TZOFFSETTO:+0200
TZNAME:CEST
DTSTART:20240331T010000
END:DAYLIGHT
BEGIN:STANDARD
TZOFFSETFROM:+0200
TZOFFSETTO:+0100
TZNAME:CET
DTSTART:20241027T010000
END:STANDARD
BEGIN:DAYLIGHT
TZOFFSETFROM:+0100
TZOFFSETTO:+0200
TZNAME:CEST
DTSTART:20250330T010000
END:DAYLIGHT
BEGIN:STANDARD
TZOFFSETFROM:+0200
TZOFFSETTO:+0100
TZNAME:CET
DTSTART:20251026T010000
END:STANDARD
BEGIN:DAYLIGHT
TZOFFSETFROM:+0100
TZOFFSETTO:+0200
TZNAME:CEST
DTSTART:20260329T010000
END:DAYLIGHT
BEGIN:STANDARD
TZOFFSETFROM:+0200
TZOFFSETTO:+0100
TZNAME:CET
DTSTART:20261025T010000
END:STANDARD
END:VTIMEZONE
BEGIN:VEVENT
DTSTART;TZID=Europe/Berlin:20250605T120000
DTEND;TZID=Europe/Berlin:20250605T183000
DTSTAMP:20260422T103636
CREATED:20250514T095900Z
LAST-MODIFIED:20250514T100048Z
UID:14191-1749124800-1749148200@www.argesolar-saar.de
SUMMARY:Landeskampagne "Energieberatung Saar" beim Landesverbandstag Haus & Grund Saarland
DESCRIPTION:Die Landeskampagne “Energieberatung Saar” beteiligt sich am Haus & Grund Saarland Landesverbandstag am Donnerstag\, 5. Juni 2025\, von 12 bis 18.30 Uhr mit einem Vortrag im Rahmenprogramm sowie mit einem Informations- und Beratungsstand im Rahmen der Ausstellung.\nEingeladen sind alle Mitglieder der angeschlossenen Ortsvereine sowie interessierte Eigentümer.\nDie Veranstaltung ist kostenfrei und eine vorherige Anmeldung ist nicht notwendig. Kommen Sie vorbei und lassen Sie sich beraten\, wir freuen uns auf Sie! \nZeitplan der Veranstaltung (Änderungen und Aktualisierungen vorbehalten): \n\n13.30 Uhr: Eröffnung durch Rechtsanwalt Norbert Behle\, Vorstandsvorsitzender von Haus & Grund Saarland\n14.00 Uhr: Grußwort von Uwe Conradt\, Oberbürgermeister der Landeshauptstadt Saarbrücken\n14.30 Uhr: Vortrag von Reinhold Jost\, saarländischer Minister für Inneres\, Bauen und Sport\n15.00 Uhr: Vortrag von Techem\n15.30 Uhr: Vortrag von Kriminalhauptkommissar Reiner Both\, Präventionsbeauftragter beim saarländischen Landeskriminalamt zum Thema „Sicher wohnen – Schutz vor Wohnungseinbruch“\n16.00 Uhr: Vorstellung der Landeskampagne der Energieberatung Saar\n16.30 Uhr: Vortrag von Peter Holger\, Alpha Innotec Wärmepumpen\, zum Thema „Wärmepumpe – So funktioniert’s auch im Bestandsgebäude“\n17.00 Uhr: Vortrag Gothaer von Stefan Lantz: Undichte Fugen\, Überschwemmung und Fahrlässigkeit – Themen\, die Eigentümer und Vermieter in der Praxis umtreiben.\n17.30 Uhr: Vortrag von Dipl.-Ing. Thomas Neu zum Thema „Grubenwasser als Wärmequelle“\n\nDie Ausstellung findet von 12:00 bis 18:30 Uhr parallel zum Vortragsprogramm statt. \n  \n 
URL:https://www.argesolar-saar.de/va/landesverbandstag-haus-grund-saarland/
LOCATION:Congress-Centrum Saar\, Hafenstraße 12\, Saarbrücken\, Saarland\, 66111\, Germany
CATEGORIES:Landeskampagne "Energieberatung Saar"
ATTACH;FMTTYPE=image/png:https://www.argesolar-saar.de/wp-content/uploads/2025/05/HuG-SocialMedia-1080x1080px-Landeskampagne.png
END:VEVENT
BEGIN:VEVENT
DTSTART;TZID=Europe/Berlin:20250611T180000
DTEND;TZID=Europe/Berlin:20250611T193000
DTSTAMP:20260422T103636
CREATED:20250131T153517Z
LAST-MODIFIED:20250131T155113Z
UID:13576-1749664800-1749670200@www.argesolar-saar.de
SUMMARY:Landeskampagne „Energieberatung Saar“ – Online-Infoveranstaltung: Welche Sanierung für mein Haus?
DESCRIPTION:Am Mittwoch\, den 11.06.2025 bietet die Landeskampagne „Energieberatung Saar“ in Kooperation mit der Verbraucherzentrale Saarland von 18:00 bis 19:30 Uhr einen Online-Vortrag zum Thema „Welche Sanierung für mein Haus?“ an. \nSie planen eine energetische Sanierung und haben viele offene Fragen? Im Rahmen des Vortrages erhalten Sie wertvolle Informationen zu den wichtigsten Themen: \n\nWelches sind die typischen Wärmeverluste?\nWas ist sinnvoll: Dämmen\, neue Fenster oder Komplettsanierung?\nWie lässt sich Schimmel vermeiden?\nWelche Fehler sollten bei Planung und Umsetzung vermieden werden?\nWelche Fördermöglichkeiten gibt es?\n\nChristine Mörgen\, Energieberaterin bei der Verbraucherzentrale Saarland e.V.\, erläutert mögliche Sanierungsschritte und informiert zu den Beratungsangeboten der Verbraucherzentrale Saarland e.V.. \n  \nDie Teilnahme ist kostenfrei. Eine Anmeldung ist allerdings erforderlich. \n  \nINFO: Die Landeskampagne „Energieberatung Saar“ organisiert in Zusammenarbeit mit der Verbraucherzentrale Saarland in diesem Jahr eine informative Veranstaltungsreihe. Jeden Monat finden spannende Vorträge zu Themen wie Energiewende\, Energieeffizienz und weiteren Aspekten statt. Alle Details zu den einzelnen Terminen sowie die Möglichkeit zur Anmeldung werden unter folgendem Link verfügbar sein: https://www.argesolar-saar.de/veranstaltungen/ \n  \nWenn Sie Ihr Wissen vertiefen möchten\, nutzen Sie das Online-WIKI der Landeskampagne „Energieberatung Saar“: Dort erwarten Sie umfassende Informationen und sorgfältig zusammengestellte Materialien. Erfahren Sie u. a. mehr über Energiesparen\, Energieeffizienz\, energetische Sanierung\, erneuerbare Energien\, Förderprogramme\, effiziente Heizsysteme und viele weitere relevante Themen. Auf unserer stetig wachsenden Wissensplattform „Energiespar WIKI“ finden Sie interessante Informationen zum Stöbern\, Informieren\, und Teilen von Wissen für unterschiedliche Zielgruppen.
URL:https://www.argesolar-saar.de/va/landeskampagne-energieberatung-saar-online-infoveranstaltung-welche-sanierung-fuer-mein-haus/
LOCATION:Online
CATEGORIES:Landeskampagne "Energieberatung Saar"
ATTACH;FMTTYPE=image/png:https://www.argesolar-saar.de/wp-content/uploads/2024/10/VZEBS1.png
END:VEVENT
BEGIN:VEVENT
DTSTART;TZID=Europe/Berlin:20250618T150000
DTEND;TZID=Europe/Berlin:20250618T160000
DTSTAMP:20260422T103636
CREATED:20250124T101127Z
LAST-MODIFIED:20250124T101127Z
UID:13518-1750258800-1750262400@www.argesolar-saar.de
SUMMARY:Landeskampagne “Energieberatung Saar” – Online-Sprechstunde für Kommunen und KMU
DESCRIPTION:Am 18.06.25 findet die nächste Online-Sprechstunde für Kommunen und KMU von 15.00 bis 16.00 Uhr statt.\nDie Veranstaltung findet im Rahmen der der Landeskampagne “Energieberatung Saar” statt. \n  \nDie Online-Sprechstunde richtet sich an alle Interessierten Mitarbeitenden und Verantwortlichen in Kommunen und Unternehmen\, die Fragen zur Steigerung der Energieeffizienz\, Einsatz Erneuerbarer Energien oder energetischen Förderprogrammen haben. Besonders angesprochen sind diejenigen\, die praktisch und professionell mit Haustechnik vor Ort in öffentlichen und gewerblichen Gebäuden zu tun haben wie z. B. Hausmeister\, Verwaltungsmitarbeitende und viele mehr. \n  \nDie Teilnahme an der Veranstaltung ist kostenfrei\, eine Anmeldung ist jedoch erforderlich. \nAlternativ können Sie sich per Mail anmelden unter: veranstaltung@argesolar-saar.de oder energieberatung@wirtschaft.saarland.de
URL:https://www.argesolar-saar.de/va/landeskampagne-energieberatung-saar-online-sprechstunde-fuer-kommunen-und-kmu-6/
LOCATION:Online
CATEGORIES:Landeskampagne "Energieberatung Saar"
ATTACH;FMTTYPE=image/jpeg:https://www.argesolar-saar.de/wp-content/uploads/2024/10/Logo-Landeskampagne-EBS.jpg
END:VEVENT
BEGIN:VEVENT
DTSTART;TZID=Europe/Berlin:20250624T180000
DTEND;TZID=Europe/Berlin:20250624T200000
DTSTAMP:20260422T103636
CREATED:20250528T083745Z
LAST-MODIFIED:20250616T142651Z
UID:14253-1750788000-1750795200@www.argesolar-saar.de
SUMMARY:„SolarOffensive“ – Veranstaltung im Landkreis Neunkirchen zum Thema „Bürgerenergiegenossenschaften“
DESCRIPTION:Am Dienstag\, den 24.06.2025 lädt Das Kommunale Klimaschutz-Netzwerk im Landkreis Neunkirchen (KKSN) und der BUND Saar zur “SolarOffensive” im Ratssaal des Rathauses Spiesen-Elversberg ein. Die Veranstaltung wird in Kooperation mit der Gemeinde Spiesen-Elversberg\, der Verbraucherzentrale Saarland und der Landeskampagne „Energieberatung Saar“ organisiert. \nDie Teilnahme an der Veranstaltung ist kostenfrei\, eine Anmeldung ist jedoch erforderlich. Wir freuen uns über Ihr Interesse und Ihre Teilnahme! \nDas Programm finden Sie HIER. \nHIER geht’s zur Anmeldung. \n  \nInformationen zum Kommunalen Klimaschutz-Netzwerk im Landkreis Neunkirchen (KKSN):\nDer Landkreis Neunkirchen und dessen Kommunen Neunkirchen\, Ottweiler\, Schiffweiler\, Eppelborn\, Spiesen-Elversberg sowie die lokalen Energieversorger Kommunale Energie- und Wasserversorgung AG (KEW)\, Wasserversorgung Ostsaar GmbH (WVO) und Gaswerk Illingen Zweckverband haben sich im Juni 2022 zu einem Klimaschutz-Netzwerk zusammengeschlossen. Ziel ist es\, durch die Zusammenarbeit der Netzwerkteilnehmer die Planung und Umsetzung von Klimaschutzmaßnahmen gemeinsam voranzutreiben und dabei Synergien zu nutzen.\nEin Schwerpunkt liegt darauf\, Energieeinsparpotentiale aufzudecken\, geeignete Maßnahmen zur Minderung der Energieverbräuche zu initiieren sowie den Einsatz erneuerbarer Energien zu forcieren. Das Netzwerk wird aus Mitteln der Nationalen Klimaschutzinitiative des Bundesministeriums für Wirtschaft und Klimaschutz gefördert.
URL:https://www.argesolar-saar.de/va/solaroffensive-neunkirchen-buergerenergiegenossenschaften/
LOCATION:Rathaus Spiesen-Elversberg\, Hauptstr. 116\, Spiesen-Elversberg\, Saarland\, 66583\, Germany
CATEGORIES:Landeskampagne "Energieberatung Saar"
ATTACH;FMTTYPE=image/png:https://www.argesolar-saar.de/wp-content/uploads/2024/10/Logo-KKSN-LK-NK-ausgeschnitten.png
END:VEVENT
BEGIN:VEVENT
DTSTART;TZID=Europe/Berlin:20250630T140000
DTEND;TZID=Europe/Berlin:20250630T170000
DTSTAMP:20260422T103636
CREATED:20250530T141132Z
LAST-MODIFIED:20250613T091011Z
UID:14259-1751292000-1751302800@www.argesolar-saar.de
SUMMARY:“Umsetzung der Kommunalen Wärmeplanung in der Praxis” – Hybrid-Veranstaltung der Landeskampagne „Energieberatung Saar“
DESCRIPTION:Die Veranstaltung richtet sich insbesondere an Vertreter:innen von Kommunen und Landkreisen\, der Energiewirtschaft und von Stadt- und Gemeindewerken\, Unternehmen\, Wohnungsbaugesellschaften\, Energieberater:innen\, Architekten:innen\, Ingenieure:innen\, Handwerker:innen als auch an interessierte Multiplikatoren. Veranstalter ist die Landeskampagne „Energieberatung Saar“ des Ministeriums für Wirtschaft\, Innovation\, Digitales und Energie (MWIDE) in Kooperation mit der AG kommunale Wärmeplanung. In der Veranstaltung soll ein Überblick über den Stand der Kommunalen Wärmeplanung im Saarland/Maßnahmen des Landes\, über aktuelle saarländische Projekte und Herangehensweisen bei der Umsetzung der Kommunalen Wärmeplanung und Umsetzung von Maßnahmen im Bereich der Wärmewende gegeben werden. \n  \nWeitere Informationen finden Sie zeitnah auch im Flyer zur Veranstaltung. \nDie Teilnahme an der Veranstaltung in Präsenz oder online ist kostenfrei\, eine Anmeldung ist jedoch erforderlich. Wir freuen uns auf Ihre Anmeldungen! \n  \nHYBRID-VERANSTALTUNG | MONTAG\, 30.06.25 | 14:00 – 17:00 UHR\nPräsenz: Saarländisches Ministerium für Wirtschaft | Franz-Josef-Röder-Str. 17 | 66119 Saarbrücken | Raum E.003\nOnline: Teilnahmemöglichkeit per Webex \nVeranstalter: Landeskampagne „Energieberatung Saar“ (EBS) / Ministerium für Wirtschaft\, Innovation\, Digitales und Energie (MWIDE) \n  \nProgramm: \nAb 13:30 Uhr: Ankommen und Gelegenheit für Austausch / zum Netzwerken \n14:00 Uhr: Begrüßung: \n\nLesya Matiyuk\, Abteilungsleiterin Energie- \,Industrie- und Fachkräftepolitik\, Ministerium für Wirtschaft\, Innovation\, Digitalisierung und Energie des Saarlandes\nHans-Henning Krämer als Vertreter der „AG kommunale Wärmeplanung“\n\n14:15 Uhr: Einführung: Aktueller Stand der Kommunalen Wärmeplanung im Saarland/Maßnahmen des Landes – Henrike Jacob\, Leiterin Referat F/1 Energiepolitik & Energiewende\, Ministerium für Wirtschaft\, Innovation\, Digitales und Energie des Saarlandes \n14:35 Uhr: Vorstellung der Beratungsstelle für Kommunen und Unterstützungsangebote des Ministerium für Wirtschaft\, Innovation\, Digitalisierung und Energie – Nicolas Deutsch und Josephine Neuhaus\, PwC \n15:00 Uhr: „Erfahrungsberichte zur Umsetzung der kommunalen Wärmeplanung in den Kommunen“ \n\nKurzberichte aus kommunaler Sicht\nRückmeldungen\, Anliegen und Wünsche aus den Kommunen\n\n15:40 Uhr: Potentiale und Rahmenbedingungen der kommunalen Wärmeplanung \n\nRolle und Möglichkeiten zur Nutzung von Wasserstoff in einer zukünftigen Wärmeversorgung im Saarland – Dr. Bettina Hübschen\, Saarländische Wasserstoffagentur\nWärmeversorgung im Kontext der Bauleitplanung: Instrumente zur Umsetzung von Ergebnissen der Wärmeplanung – Dennis Becker\, Firu mbH\, Kaiserslautern\n\n16:30 Uhr: Planung und Umsetzung von konkreten Wärmeprojekten in Folge der Kommunalen Wärmeplanung – Kurzberichte zu aktuell geplanten oder realisierten Projekten \n\nVorstellung „Pionierprojekt für klimaneutrale Wärmeversorgung in Illingen – Gewinnung von Wärmeenergie aus dem Abwasser“ – Christiane Sperling\, Gaswerk Illingen Zweckverband\n\n16:50 Uhr: weitere Fragen und Diskussion \n17.00 Uhr: Fazit und Schlusswort \n  \nIm Anschluss Gelegenheit für Austausch / Netzwerken \n  \nModeration: Ralph Schmidt\, ARGE SOLAR e.V. \n  \n  \nWenn Sie Ihr Wissen vertiefen möchten\, nutzen Sie das Online-WIKI der Landeskampagne „Energieberatung Saar“: Dort erwarten Sie umfassende Informationen und sorgfältig zusammengestellte Materialien. Erfahren Sie u. a. mehr über Energiesparen\, Energieeffizienz\, energetische Sanierung\, erneuerbare Energien\, Förderprogramme\, effiziente Heizsysteme und viele weitere relevante Themen. Auf unserer stetig wachsenden Wissensplattform „Energiespar WIKI“ finden Sie interessante Informationen zum Stöbern\, Informieren\, und Teilen von Wissen für unterschiedliche Zielgruppen.
URL:https://www.argesolar-saar.de/va/umsetzung-der-kommunalen-waermeplanung-in-der-praxis-hybrid-veranstaltung-der-landeskampagne-energieberatung-saar/
LOCATION:Raum E.003\, Franz-Josef-Röder-Str. 17 (MWIDE)\, 66119 Saarbrücken oder Online (Webex)
CATEGORIES:Landeskampagne "Energieberatung Saar"
ATTACH;FMTTYPE=image/jpeg:https://www.argesolar-saar.de/wp-content/uploads/2025/05/Logo-mit-Link_MWIDE_WW.jpg
END:VEVENT
END:VCALENDAR