BEGIN:VCALENDAR
VERSION:2.0
PRODID:-//ARGE SOLAR e.V. - ECPv6.15.20//NONSGML v1.0//EN
CALSCALE:GREGORIAN
METHOD:PUBLISH
X-ORIGINAL-URL:https://www.argesolar-saar.de
X-WR-CALDESC:Veranstaltungen für ARGE SOLAR e.V.
REFRESH-INTERVAL;VALUE=DURATION:PT1H
X-Robots-Tag:noindex
X-PUBLISHED-TTL:PT1H
BEGIN:VTIMEZONE
TZID:Europe/Berlin
BEGIN:DAYLIGHT
TZOFFSETFROM:+0100
TZOFFSETTO:+0200
TZNAME:CEST
DTSTART:20230326T010000
END:DAYLIGHT
BEGIN:STANDARD
TZOFFSETFROM:+0200
TZOFFSETTO:+0100
TZNAME:CET
DTSTART:20231029T010000
END:STANDARD
BEGIN:DAYLIGHT
TZOFFSETFROM:+0100
TZOFFSETTO:+0200
TZNAME:CEST
DTSTART:20240331T010000
END:DAYLIGHT
BEGIN:STANDARD
TZOFFSETFROM:+0200
TZOFFSETTO:+0100
TZNAME:CET
DTSTART:20241027T010000
END:STANDARD
BEGIN:DAYLIGHT
TZOFFSETFROM:+0100
TZOFFSETTO:+0200
TZNAME:CEST
DTSTART:20250330T010000
END:DAYLIGHT
BEGIN:STANDARD
TZOFFSETFROM:+0200
TZOFFSETTO:+0100
TZNAME:CET
DTSTART:20251026T010000
END:STANDARD
END:VTIMEZONE
BEGIN:VEVENT
DTSTART;TZID=Europe/Berlin:20241202T090000
DTEND;TZID=Europe/Berlin:20241202T130000
DTSTAMP:20260423T205121
CREATED:20241114T134722Z
LAST-MODIFIED:20241122T122112Z
UID:13222-1733130000-1733144400@www.argesolar-saar.de
SUMMARY:„Tag der Wärmewende in der Praxis“ - Hybrid-Veranstaltung der Landeskampagne „Energieberatung Saar“
DESCRIPTION:Die Veranstaltung wendet sich insbesondere an Vertreter von Kommunen und Landkreisen\, der Energiewirtschaft und von Stadt- und Gemeindewerken\, Unternehmen\, Wohnungsbaugesellschaften\, Energieberater:innen\, Architekten:innen\, Ingenieure:innen\, Handwerker:innen als auch an interessierte Multiplikatoren. Veranstalter ist die Landeskampagne „Energieberatung Saar“ des Ministeriums für Wirtschaft\, Innovation\, Digitales und Energie (MWIDE). In der Veranstaltung soll ein Überblick über aktuelle saarländische Projekte und Herangehensweisen bei der Umsetzung der Kommunalen Wärmeplanung und Umsetzung von Maßnahmen im Bereich der Wärmewende gegeben werden. \n  \nWeitere Informationen finden Sie im Flyer zur Veranstaltung. \nDie Teilnahme an der Veranstaltung ist kostenfrei\, eine Anmeldung (online) ist jedoch erforderlich. Wir freuen uns auf Ihre Anmeldungen! \n  \nHybridveranstaltung – im MWIDE in Saarbrücken (Raum E.003) und online per Webex \nMontag\, 02.12.2024 von 9:00 – ca. 13:00 Uhr \nVeranstalter: Landeskampagne „Energieberatung Saar“ (EBS) / Ministerium für Wirtschaft\, Innovation\, Digitales und Energie (MWIDE) \n  \nProgramm: \n09:00 Uhr: Begrüßung\nDr. Lesya Matiyuk\, Abteilungsleiterin Energie-\, Industrie- und Dienstleistungspolitik\, Ministerium für Wirtschaft\, Innovation\, Digitalisierung und Energie des Saarlandes\nArno Minn\, ARGE SOLAR e.V. \n09:15 Uhr: Einführung „Stand der gesetzlichen Rahmenbedingungen auf Bundes- und Landesebene und gesetzliche Umsetzung im Saarland“\nHenrike Jacob\, Referat F/1 Ministerium für Wirtschaft\, Innovation\, Digitales und Energie \n09:45 Uhr: „Maßnahmen zur Begleitung der kommunalen Wärmeplanung und Wärmewende im Saarland“\nNicolas Deutsch und Gloria Schmidt\, PwC \n10:15 Uhr: Fragen und Diskussion \n10:30 Uhr: Pause und Austausch / Netzwerken \nProjekte – Wärmewende in der Praxis – Wärmeplanungen und Wärmenetzausbau aus Sicht der Kommunen und EVU/Stadtwerke\, Praxisbeispiele:  \n11:00 Uhr: „Sicht der Kommunen“\nStadt Homburg (Oberbürgermeister Michael Forster)\,\nStadt Blieskastel (Susanne WagnerKlein\, Stadtplanungsamt)\,\nKreisstadt Merzig (Annika Dering\, Fachbereich Stadtplanung und Umwelt) \n11:50 Uhr: „Sicht der Landkreise\, kommunalen Verbünde“\nLandkreis St. Wendel (Alexander Dämmgen\, Klimaschutzkoordination) \n12:05 Uhr: „Herausforderungen und Herangehensweise aus Sicht der EVU und Netzbetreiber“\nenergis (Martin Backes)\, Biosphären Stadtwerke (Geschäftsführer Jürgen Bach)\,\nStadtwerke Saarbrücken Netz (Sarah Marie Lößlein und Mirko Wirschum) \n12:50 Uhr: Fragen und Diskussion \n13:00 Uhr: Zusammenfassung und Gelegenheit für weiteren Austausch / Netzwerken \nModeration: Ralph Schmidt\, ARGE SOLAR e.V. \n  \nEine Registrierung zur Veranstaltung erfolgt online.
URL:https://www.argesolar-saar.de/va/tag-der-waermewende-in-der-praxis-hybrid-veranstaltung-der-landeskampagne-energieberatung-saar/
LOCATION:Raum E.003\, Franz-Josef-Röder-Str. 17 (MWIDE)\, 66119 Saarbrücken oder Online (Webex)
CATEGORIES:Landeskampagne "Energieberatung Saar"
ATTACH;FMTTYPE=image/jpeg:https://www.argesolar-saar.de/wp-content/uploads/2024/10/Logo-Landeskampagne-EBS.jpg
END:VEVENT
BEGIN:VEVENT
DTSTART;TZID=Europe/Berlin:20241203T090000
DTEND;TZID=Europe/Berlin:20241203T140000
DTSTAMP:20260423T205121
CREATED:20241114T133835Z
LAST-MODIFIED:20241122T122221Z
UID:13218-1733216400-1733234400@www.argesolar-saar.de
SUMMARY:„Tag der Förderprogramme" Online-Veranstaltung der Landeskampagne „Energieberatung Saar"
DESCRIPTION:Die Veranstaltung wendet sich insbesondere an Vertreter:innen von Kommunen und Landkreisen\, der Energiewirtschaft und von Stadt- und Gemeindewerken\, Unternehmen\, Wohnungsbaugesellschaften\, Energieberater:innen\, Architekten:innen\, Ingenieure:innen\, Handwerker:innen als auch an interessierte Bürgerinnen und Bürger.\nVeranstalter ist die Landeskampagne „Energieberatung Saar“ des Ministeriums für Wirtschaft\, Innovation\, Digitales und Energie (MWIDE). In der Veranstaltung soll ein Überblick über Inhalte und Neuerungen zu relevanten energetischen Förderprogrammen gegeben werden. \n  \nWeitere Informationen finden Sie im Flyer zur Veranstaltung. \nDie Teilnahme an der Veranstaltung ist kostenfrei\, eine Anmeldung (online) ist jedoch erforderlich. Wir freuen uns auf Ihre Anmeldungen! \n  \nOnline-Veranstaltung (per Webex) \nDienstag\, 03.12.2024 von 9:00 – ca. 14:00 Uhr \nVeranstalter: Landeskampagne „Energieberatung Saar“ (EBS) \n  \nProgramm: \n9:00 Uhr Begrüßung \nLANDESFÖRDERPROGRAMME  \n09:15 Uhr: „Förderung der Energieeffizienz und der Erneuerbaren Energien auf Landesebene“\nKlaus-Dieter Uhrhan\, Referat F/3\, Ministerium für Wirtschaft\, Innovation\, Digitales und Energie \n9:45 Uhr: „Energetische Programme für KMU und saarländische Wohnraumförderung“\nElke Lorson\, Sabrina Adam und Tina Dörr\, Saarländische Investitionskreditbank AG \n10:15 Uhr: Diskussion und Fragen \nBUNDESFÖRDERPROGRAMME (TEIL 1)  \n10:30 Uhr: „Neuerungen und Veränderungen zur Bundesförderung für effiziente Gebäude aus Sicht der KfW (online) inkl. BEG Einzelmaßnahmen Heizung“\nMarcus Kaufmann\, Vertrieb KfW Bankengruppe \n11:15 Uhr: „Die Nationale Klimaschutzinitiative des BMWK – die überarbeitete Kommunalrichtlinie“ Update und Erfahrungen aus der Praxis und Ausblick 2025\nFelix Braun\, Agentur für kommunalen Klimaschutz am Deutschen Institut für Urbanistik (Difu) \n12:00 Uhr: Diskussion und Fragen \n12:15 Uhr: Pause \nBUNDESFÖRDERPROGRAMME (TEIL 2) \n12:45 Uhr: „Bundesförderung für effiziente Gebäude – Einzelmaßnahmen Gebäude (BAFA)\, Aufgaben eines Sachverständigen bei Beantragung\, Förderung Beratung EBW\, EBN“\nEva Kiefer-Kremer\, Landeskampagne Energieberatung Saar \n13:15 Uhr: „Die Bundesförderung für Energie- und Ressourceneffizienz in der Wirtschaft“ (EEW– Energieeffizienz in der Wirtschaft)“\nJona Knoke\, Referat 513\, Energieeffizienz in der Wirtschaft im Bundesamt für Wirtschaft und Ausfuhrkontrolle (BAFA) \n13:45 Uhr: Diskussion und Fragen \n14:00 Uhr: Fazit und Schlussworte Moderation: Ralph Schmidt\, ARGE SOLAR e.V. \n  \nAnerkennung als Fortbildung: Der Fachkongress wird voraussichtlich von der Deutschen Energie-Agentur GmbH (dena) als Fortbildung und von der Architektenkammer des Saarlandes (mit 5 Punkten) als Fortbildungsveranstaltung anerkannt. \nEine Registrierung zur Veranstaltung erfolgt online.
URL:https://www.argesolar-saar.de/va/tag-der-foerderprogramme-online-veranstaltung-der-landeskampagne-energieberatung-saar/
LOCATION:Online
CATEGORIES:Landeskampagne "Energieberatung Saar"
ATTACH;FMTTYPE=image/jpeg:https://www.argesolar-saar.de/wp-content/uploads/2024/10/Logo-Landeskampagne-EBS.jpg
END:VEVENT
BEGIN:VEVENT
DTSTART;TZID=Europe/Berlin:20241204T150000
DTEND;TZID=Europe/Berlin:20241204T160000
DTSTAMP:20260423T205121
CREATED:20241115T105758Z
LAST-MODIFIED:20241115T105758Z
UID:13229-1733324400-1733328000@www.argesolar-saar.de
SUMMARY:\,\,Energieberatung Saar” Online-Sprechstunde für Kommunen und KMU
DESCRIPTION:Am 04.12.2024 findet die nächste Online-Sprechstunde für Kommunen und KMU von 15.00 bis 16.00 Uhr statt.\nDie Veranstaltung findet im Rahmen der der Landeskampagne “Energieberatung Saar” statt. \n  \nDie Online-Sprechstunde richtet sich an diejenigen\, die praktisch und professionell mit Haustechnik vor Ort in öffentlichen und gewerblichen Gebäuden zu tun haben wie z. B. Hausmeister\, Verwaltungsmitarbeitende\, und viele mehr. \n  \nDie Teilnahme an der Veranstaltung ist kostenfrei\, eine Anmeldung ist jedoch erforderlich.
URL:https://www.argesolar-saar.de/va/energieberatung-saar-online-sprechstunde-fuer-kommunen-und-kmu-6/
LOCATION:Online
CATEGORIES:Landeskampagne "Energieberatung Saar"
ATTACH;FMTTYPE=image/jpeg:https://www.argesolar-saar.de/wp-content/uploads/2024/10/Logo-Landeskampagne-EBS.jpg
END:VEVENT
BEGIN:VEVENT
DTSTART;TZID=Europe/Berlin:20241205T180000
DTEND;TZID=Europe/Berlin:20241205T190000
DTSTAMP:20260423T205121
CREATED:20240923T141315Z
LAST-MODIFIED:20241204T113312Z
UID:12510-1733421600-1733425200@www.argesolar-saar.de
SUMMARY:ABGESAGT // Vortrag "Das Kommunale Klimaschutz-Netzwerk im Landkreis Neunkirchen stellt sich vor!"
DESCRIPTION:Leider muss die Veranstaltung entfallen. Wir bitten um Verständnis. \n  \n  \nAm 05.12.2024 findet ab 18.00 Uhr eine Online-Infoveranstaltung rund um das „Kommunale Klimaschutz-Netzwerk im Landkreis Neunkirchen“ statt. \n  \nHier finden Sie den Flyer zur Veranstaltung. \n  \nWeitere Informationen zum Projekt „Kommunales Klimaschutz-Netzwerk im Landkreis Neunkirchen“ finden Sie hier: https://www.argesolar-saar.de/kommunales-klimaschutz-netzwerk-im-landkreis-neunkirchen/ \n  \n  \nAlle unsere Veranstaltungen finden Sie unter www.argesolar-saar.de/veranstaltungen/. \nInformationen und/oder Präsentationsmaterialien zu dieser und weiteren Veranstaltungen finden Sie\, wie immer\, im multimedialen Online-Wiki der Landeskampagne „Energieberatung Saar“. Dort finden Sie auch den monatlichen Newsletter der Landeskampagne zum Nachlesen.
URL:https://www.argesolar-saar.de/va/vortrag-das-kommunale-klimaschutz-netzwerk-im-landkreis-neunkirchen-stellt-sich-vor/
LOCATION:Online
ATTACH;FMTTYPE=image/png:https://www.argesolar-saar.de/wp-content/uploads/2024/10/Logo-KKSN-LK-NK-ausgeschnitten.png
END:VEVENT
END:VCALENDAR