BEGIN:VCALENDAR
VERSION:2.0
PRODID:-//ARGE SOLAR e.V. - ECPv6.15.20//NONSGML v1.0//EN
CALSCALE:GREGORIAN
METHOD:PUBLISH
X-ORIGINAL-URL:https://www.argesolar-saar.de
X-WR-CALDESC:Veranstaltungen für ARGE SOLAR e.V.
REFRESH-INTERVAL;VALUE=DURATION:PT1H
X-Robots-Tag:noindex
X-PUBLISHED-TTL:PT1H
BEGIN:VTIMEZONE
TZID:Europe/Berlin
BEGIN:DAYLIGHT
TZOFFSETFROM:+0100
TZOFFSETTO:+0200
TZNAME:CEST
DTSTART:20230326T010000
END:DAYLIGHT
BEGIN:STANDARD
TZOFFSETFROM:+0200
TZOFFSETTO:+0100
TZNAME:CET
DTSTART:20231029T010000
END:STANDARD
BEGIN:DAYLIGHT
TZOFFSETFROM:+0100
TZOFFSETTO:+0200
TZNAME:CEST
DTSTART:20240331T010000
END:DAYLIGHT
BEGIN:STANDARD
TZOFFSETFROM:+0200
TZOFFSETTO:+0100
TZNAME:CET
DTSTART:20241027T010000
END:STANDARD
BEGIN:DAYLIGHT
TZOFFSETFROM:+0100
TZOFFSETTO:+0200
TZNAME:CEST
DTSTART:20250330T010000
END:DAYLIGHT
BEGIN:STANDARD
TZOFFSETFROM:+0200
TZOFFSETTO:+0100
TZNAME:CET
DTSTART:20251026T010000
END:STANDARD
END:VTIMEZONE
BEGIN:VEVENT
DTSTART;TZID=Europe/Berlin:20240904T150000
DTEND;TZID=Europe/Berlin:20240904T163000
DTSTAMP:20260424T015900
CREATED:20240708T084234Z
LAST-MODIFIED:20240730T145226Z
UID:12167-1725462000-1725467400@www.argesolar-saar.de
SUMMARY:EBS - Online - Fachvortrag Hybridheizungssysteme: sinnvolle Kombination von Wärmeerzeugern\, bestehende Heizungen mit Wärmepumpen
DESCRIPTION:Hybridheizungssysteme: sinnvolle Kombination von Wärmeerzeugern\, bestehende Heizungen mit Wärmepumpen und Optimierung bestehender Heizungsanlagen \nReferent: Dipl.-Ing. Hans-Gerd Eisenbarth \n  \nDie Veranstaltung findet im Rahmen der der Landeskampagne “Energieberatung Saar” statt. \nDie Teilnahme an der Veranstaltung ist kostenfrei\, eine Anmeldung ist jedoch erforderlich. \nWir freuen uns auf Ihre Anmeldungen! \nHier geht es zur Registrierung! \n  \nAlle unsere Veranstaltungen finden Sie unter www.argesolar-saar.de/veranstaltungen/. \nInformationen und/oder Präsentationsmaterialien zu dieser und weiteren Veranstaltungen finden Sie\, wie immer\, im multimedialen Online-Wiki der Landeskampagne „Energieberatung Saar“. Dort finden Sie auch den monatlichen Newsletter der Landeskampagne zum Nachlesen.
URL:https://www.argesolar-saar.de/va/ebs-online-fachvortrag-hybridheizungssysteme-sinnvolle-kombination-von-waermeerzeugern-bestehende-heizungen-mit-waermepumpen/
LOCATION:Online
CATEGORIES:Landeskampagne "Energieberatung Saar"
ATTACH;FMTTYPE=image/png:https://www.argesolar-saar.de/wp-content/uploads/2023/12/ebs-mit-text-43.png
END:VEVENT
BEGIN:VEVENT
DTSTART;TZID=Europe/Berlin:20240911T140000
DTEND;TZID=Europe/Berlin:20240911T180000
DTSTAMP:20260424T015900
CREATED:20240702T101817Z
LAST-MODIFIED:20240830T101702Z
UID:12153-1726063200-1726077600@www.argesolar-saar.de
SUMMARY:EBS-Stand und Vortrag auf der Klima.Con
DESCRIPTION:Wohl kein Gesetz im letzten Jahr hat derart hohe Wellen geschlagen\, wie das „Gebäudeenergiegesetz“ (GEG) oder auch „Heizungsgesetz“ genannt. Doch was bedeutet das in Kraft getretene Gesetz für die Hausbesitzer:innen und welche Förderungen spielen hier eine Rolle? \nAus diesem Grund lädt Sie die Landeskampagne “Energieberatung Saar“ im Rahmen der Klima.Con am 11.09.2024 ab 14.00 Uhr herzlichst zum EBS-Messestand im Rathaus St. Johann ein. Hier können Sie direkt vor Ort Beratungen erhalten. \nDie Geschäftsführerin der ARGE-SOLAR e.V.\, Frau Eva Kiefer-Kremer\, wird zusätzlich in einem Vortrag beleuchten\, was nun genau verabschiedet wurde\, welche Maßnahmen greifen und welche Fördergelder es gibt. \n  \n  \nWeitere Infos zur Klima.Con finden Sie unter: \nhttps://www.saarbruecken.de/umwelt_und_klima/klimaschutz/klimacon \nhttps://www.saarbruecken.de/leben_in_saarbruecken/veranstaltungskalender/veranstaltungs_detailseite/event-66853c1577a58/date-711785
URL:https://www.argesolar-saar.de/va/12153/
LOCATION:Klima.Con im Rathaus St. Johann
CATEGORIES:Landeskampagne "Energieberatung Saar"
ATTACH;FMTTYPE=image/png:https://www.argesolar-saar.de/wp-content/uploads/2023/12/ebs-mit-text-43.png
END:VEVENT
BEGIN:VEVENT
DTSTART;TZID=Europe/Berlin:20240918T150000
DTEND;TZID=Europe/Berlin:20240918T160000
DTSTAMP:20260424T015900
CREATED:20240521T090421Z
LAST-MODIFIED:20240730T145225Z
UID:11998-1726671600-1726675200@www.argesolar-saar.de
SUMMARY:"Energieberatung Saar" Online-Sprechstunde für Kommunen und KMU
DESCRIPTION:Am 18.09.2024 findet die nächste Online-Sprechstunde für Kommunen und KMU von 15.00 bis 16.00 Uhr statt.’\nDie Veranstaltung findet im Rahmen der der Landeskampagne “Energieberatung Saar” statt. \n  \nDie Online-Sprechstunde richtet sich an diejenigen\, die praktisch und professionell mit Haustechnik vor Ort in öffentlichen und gewerblichen Gebäuden zu tun haben wie z. B. Hausmeister\, Verwaltungsmitarbeitende\, und viele mehr. \nAls Referent wird H. G. Eisenbarth in den Themenbereichen Bautechnik und Förderprogramme den Vortrag neben den Fachberater:innen der ARGE SOLAR unterstützen. \n  \n  \nDie Teilnahme an der Veranstaltung ist kostenfrei\, eine Anmeldung ist jedoch erforderlich. \nWir freuen uns auf Ihre Anmeldungen! \nHier geht es zur Registrierung! \n  \n  \nAlle unsere Veranstaltungen finden Sie unter www.argesolar-saar.de/veranstaltungen/. \nInformationen und/oder Präsentationsmaterialien zu dieser und weiteren Veranstaltungen finden Sie\, wie immer\, im multimedialen Online-Wiki der Landeskampagne „Energieberatung Saar“. Dort finden Sie auch den monatlichen Newsletter der Landeskampagne zum Nachlesen. \n 
URL:https://www.argesolar-saar.de/va/energieberatung-saar-online-sprechstunde-fuer-kommunen-und-kmu-4/
LOCATION:Online
CATEGORIES:Landeskampagne "Energieberatung Saar"
ATTACH;FMTTYPE=image/jpeg:https://www.argesolar-saar.de/wp-content/uploads/2024/04/Motiv-Landeskampagne-EBS.jpg
END:VEVENT
END:VCALENDAR