BEGIN:VCALENDAR
VERSION:2.0
PRODID:-//ARGE SOLAR e.V. - ECPv6.15.20//NONSGML v1.0//EN
CALSCALE:GREGORIAN
METHOD:PUBLISH
X-ORIGINAL-URL:https://www.argesolar-saar.de
X-WR-CALDESC:Veranstaltungen für ARGE SOLAR e.V.
REFRESH-INTERVAL;VALUE=DURATION:PT1H
X-Robots-Tag:noindex
X-PUBLISHED-TTL:PT1H
BEGIN:VTIMEZONE
TZID:Europe/Berlin
BEGIN:DAYLIGHT
TZOFFSETFROM:+0100
TZOFFSETTO:+0200
TZNAME:CEST
DTSTART:20230326T010000
END:DAYLIGHT
BEGIN:STANDARD
TZOFFSETFROM:+0200
TZOFFSETTO:+0100
TZNAME:CET
DTSTART:20231029T010000
END:STANDARD
BEGIN:DAYLIGHT
TZOFFSETFROM:+0100
TZOFFSETTO:+0200
TZNAME:CEST
DTSTART:20240331T010000
END:DAYLIGHT
BEGIN:STANDARD
TZOFFSETFROM:+0200
TZOFFSETTO:+0100
TZNAME:CET
DTSTART:20241027T010000
END:STANDARD
BEGIN:DAYLIGHT
TZOFFSETFROM:+0100
TZOFFSETTO:+0200
TZNAME:CEST
DTSTART:20250330T010000
END:DAYLIGHT
BEGIN:STANDARD
TZOFFSETFROM:+0200
TZOFFSETTO:+0100
TZNAME:CET
DTSTART:20251026T010000
END:STANDARD
END:VTIMEZONE
BEGIN:VEVENT
DTSTART;TZID=Europe/Berlin:20240702T153000
DTEND;TZID=Europe/Berlin:20240702T170000
DTSTAMP:20260424T054139
CREATED:20240613T071721Z
LAST-MODIFIED:20240708T100202Z
UID:12088-1719934200-1719939600@www.argesolar-saar.de
SUMMARY:EBS-Online-Fachveranstaltung zur Energetischen Altbausanierung mit Passivhauskomponenten (EnerPHit) - Konzept\, Qualitätssicherung\, Zertifizierung und Beispiele energetischer Modernisierungen mit hohem Qualitätsanspruch
DESCRIPTION:Am 02.07.2024 von 15:30 – 17:00 Uhr findet die EBS-Online-Fachveranstaltung statt\, in dieser Dr. Berthold Kaufmann vom Passivhaus Institut Darmstadt als Referent Ansätze der energetischen Altbausanierung\, zum Beispiel auch der seriellen Sanierung vorstellen wird. \nDiesbezüglich erfahren Sie\, wie die Gebäudehülle (Außenwand und Dach) mit einem WDVS oder auch mit einer Holzständerkonstruktion mit Zellulosefüllung und Dämmplatte aus Holzfaser ertüchtigt werden kann. Eine neue Hülle aus vorgefertigten Elementen (serielle Sanierung) wird ebenso als potentielle Option vorgestellt. In diesem Zusammenhang wird auch die Problematik der Dämmung im Bereich des Kellerabgangs näher erläutert. \nDes Weiteren erhalten Sie wertvolle Tipps im Umgang mit der Haustechnik bei der Sanierung von Altbauten. So birgt beispielsweise die Kanalführung bei der Installation von Lüftungsgeräten mit Wärmerückgewinnung einige Herausforderungen\, die mit dem richtigen Know How gut überwunden werden können. Auch die Möglichkeit der Nutzung kostengünstiger Wärmepumpen-Klima-Split-Geräte zum Beheizen und Kühlen hoch energieeffizienter Gebäude wird ein wichtiges Thema sein. \n  \nDie Teilnahme an der Veranstaltung ist kostenfrei\, eine Anmeldung ist jedoch erforderlich. \nWir freuen uns auf Ihre Anmeldungen! \nHier geht es zur Registrierung! \n  \nHier gibt es den Flyer zur Veranstaltung!
URL:https://www.argesolar-saar.de/va/ebs-online-fachveranstaltung-online-fachveranstaltung-zur-energetische-altbausanierung-mit-passivhauskomponenten-enerphit-konzept-qualitaetssicherung-zertifizierung-und-beispiele-energetisch/
LOCATION:Online
CATEGORIES:Landeskampagne "Energieberatung Saar"
ATTACH;FMTTYPE=image/jpeg:https://www.argesolar-saar.de/wp-content/uploads/2024/04/Motiv-Landeskampagne-EBS.jpg
END:VEVENT
BEGIN:VEVENT
DTSTART;TZID=Europe/Berlin:20240707T110000
DTEND;TZID=Europe/Berlin:20240707T180000
DTSTAMP:20260424T054139
CREATED:20240702T094608Z
LAST-MODIFIED:20240702T103032Z
UID:12150-1720350000-1720375200@www.argesolar-saar.de
SUMMARY:„Energie erleben“ Mitmach-Aktion
DESCRIPTION:Am Sonntag\, den 07.07.2024 findet von 11:00 bis 18:00 Uhr im Stadtpark Homburg das Familien- und Kinderfest statt. \nZum diesjährigen Angebot gehören neben spannenden Bühnenauftritten kostenlose Mitmachangebote in den Bereichen Sport\, Kreatives\, Aktion sowie Natur und Umwelt. \nZu dem letzten Punkt wird die Landeskampagne “Energieberatung Saar” mit einem Energie erleben-Stand vertreten sein und das Fest mit ihrem Mitmachangebot bereichern. Hier gewinnen Kinder und Jugendliche Einblicke in die Welt der Energie.
URL:https://www.argesolar-saar.de/va/energie-erleben/
LOCATION:Stadtpark Homburg
CATEGORIES:Landeskampagne "Energieberatung Saar"
ATTACH;FMTTYPE=image/png:https://www.argesolar-saar.de/wp-content/uploads/2023/12/ebs-mit-text-43.png
END:VEVENT
BEGIN:VEVENT
DTSTART;TZID=Europe/Berlin:20240711T100000
DTEND;TZID=Europe/Berlin:20240711T120000
DTSTAMP:20260424T054139
CREATED:20240701T062725Z
LAST-MODIFIED:20240708T095825Z
UID:12143-1720692000-1720699200@www.argesolar-saar.de
SUMMARY:EBS-Online-Fachvortrag "GEG 2024 – Informationen zum Status Quo"
DESCRIPTION:EBS-Online-Fachvortrag \nAm 11.07.2024 findet von 10:00 – 12:00 Uhr der EBS-Online-Fachvortrag zum Thema “GEG 2024 – Informationen zum Status Quo” statt. Referentin ist Frau Melanie Bart vom Referat WB 2 – Bundesinstitut für Bau-\, Stadt- und Raumforschung\, Bonn. \n  \nAnerkennung als Fortbildung: \nDie Veranstaltung wird voraussichtlich von der Deutschen Energie-Agentur GmbH (dena) als Fortbildung anerkannt. Damit können Sie für diese Veranstaltung Fortbildungspunkte erhalten. \n  \nDie Teilnahme an der Veranstaltung ist kostenfrei\, eine Anmeldung ist jedoch erforderlich. \nWir freuen uns auf Ihre Anmeldungen! \nHier geht es zur Registrierung! \n  \nHier gibt es den Flyer zur Veranstaltung!
URL:https://www.argesolar-saar.de/va/ebs-online-fachvortrag-geg-2024-informationen-zum-status-quo/
LOCATION:Online
CATEGORIES:Landeskampagne "Energieberatung Saar"
ATTACH;FMTTYPE=image/png:https://www.argesolar-saar.de/wp-content/uploads/2023/12/ebs-mit-text-43.png
END:VEVENT
BEGIN:VEVENT
DTSTART;TZID=Europe/Berlin:20240717T150000
DTEND;TZID=Europe/Berlin:20240717T160000
DTSTAMP:20260424T054139
CREATED:20240521T085957Z
LAST-MODIFIED:20240521T090128Z
UID:11994-1721228400-1721232000@www.argesolar-saar.de
SUMMARY:"Energieberatung Saar" Online-Sprechstunde für Kommunen und KMU
DESCRIPTION:Am 17.07.2024 findet die nächste EBS Online-Sprechstunde für Kommunen und KMU von 15.00 bis 16.00 Uhr statt. \n  \nDie Online-Sprechstunde richtet sich an diejenigen\, die praktisch und professionell mit Haustechnik vor Ort in öffentlichen und gewerblichen Gebäuden zu tun haben wie z. B. Hausmeister\, Verwaltungsmitarbeitende\, und viele mehr. \nAls Referent wird H. G. Eisenbarth in den Themenbereichen Bautechnik und Förderprogramme den Vortrag neben den Fachberater:innen der ARGE SOLAR unterstützen. \n  \n  \nDie Teilnahme an der Veranstaltung ist kostenfrei\, eine Anmeldung ist jedoch erforderlich. \nWir freuen uns auf Ihre Anmeldungen! \nHier geht es zur Registrierung! \n  \nWeitere Sprechstunden-Termine sind geplant am: 18.09.2024 \n 
URL:https://www.argesolar-saar.de/va/energieberatung-saar-online-sprechstunde-fuer-kommunen-und-kmu-3/
LOCATION:Online
CATEGORIES:Landeskampagne "Energieberatung Saar"
ATTACH;FMTTYPE=image/jpeg:https://www.argesolar-saar.de/wp-content/uploads/2024/04/Motiv-Landeskampagne-EBS.jpg
END:VEVENT
END:VCALENDAR