BEGIN:VCALENDAR
VERSION:2.0
PRODID:-//ARGE SOLAR e.V. - ECPv6.15.20//NONSGML v1.0//EN
CALSCALE:GREGORIAN
METHOD:PUBLISH
X-WR-CALNAME:ARGE SOLAR e.V.
X-ORIGINAL-URL:https://www.argesolar-saar.de
X-WR-CALDESC:Veranstaltungen für ARGE SOLAR e.V.
REFRESH-INTERVAL;VALUE=DURATION:PT1H
X-Robots-Tag:noindex
X-PUBLISHED-TTL:PT1H
BEGIN:VTIMEZONE
TZID:Europe/Berlin
BEGIN:DAYLIGHT
TZOFFSETFROM:+0100
TZOFFSETTO:+0200
TZNAME:CEST
DTSTART:20220327T010000
END:DAYLIGHT
BEGIN:STANDARD
TZOFFSETFROM:+0200
TZOFFSETTO:+0100
TZNAME:CET
DTSTART:20221030T010000
END:STANDARD
BEGIN:DAYLIGHT
TZOFFSETFROM:+0100
TZOFFSETTO:+0200
TZNAME:CEST
DTSTART:20230326T010000
END:DAYLIGHT
BEGIN:STANDARD
TZOFFSETFROM:+0200
TZOFFSETTO:+0100
TZNAME:CET
DTSTART:20231029T010000
END:STANDARD
BEGIN:DAYLIGHT
TZOFFSETFROM:+0100
TZOFFSETTO:+0200
TZNAME:CEST
DTSTART:20240331T010000
END:DAYLIGHT
BEGIN:STANDARD
TZOFFSETFROM:+0200
TZOFFSETTO:+0100
TZNAME:CET
DTSTART:20241027T010000
END:STANDARD
END:VTIMEZONE
BEGIN:VEVENT
DTSTART;TZID=Europe/Berlin:20231012T090000
DTEND;TZID=Europe/Berlin:20231012T163000
DTSTAMP:20260424T212056
CREATED:20230919T110553Z
LAST-MODIFIED:20231006T110423Z
UID:10876-1697101200-1697128200@www.argesolar-saar.de
SUMMARY:Energieberatertag Saar 2023 - Fachkongress "Energetische Sanierung in der Praxis"
DESCRIPTION:Der Fachkongress findet zum zehnten Mal statt und wendet sich an Energieberater\, Architekten\, Ingenieure\, Handwerker und Fachleute aus dem Bereich der energetischen Gebäudesanierung und Immobilienwirtschaft sowie interessierte Multiplikatoren\, Unternehmen und kommunale Vertreter\, die aktuelle Informationen zu nationalen förderrechtlichen und regulatorischen Themen erhalten und ihre Fachkenntnisse im Bereich des energieeffizienten Bauens und der Gebäudesanierung ausbauen möchten. \nIn diesem Jahr wird der Energieberatertag wieder als Online-Veranstaltung durchgeführt und bietet dazu wie gewohnt Informationen zu nationalen förderrechtlichen und regulatorischen Themen und aktuelle Informationen über technische Neuerungen\, Anwendungshilfen\, Tipps und Wissen zur Energieberatung in der Praxis. Veranstalter sind der Gebäudeenergieberater Saarland e. V. und die Landeskampagne „Energieberatung Saar“ (EBS)\, die vom Ministerium für Wirtschaft\, Innovation\, Digitales und Energie (MWIDE) durchgeführt wird. Zwischen den Vorträgen wird es Pausen und die Möglichkeit für Fragen und Diskussionen (via Chat) geben. \nDie Broschüre zur Veranstaltung finden Sie hier als PDF zum Download \nDie Teilnahme ist kostenpflichtig\, eine Anmeldung ist erforderlich. \nTeilnahmegebühr:\n60\,- EURO pro Person/Teilnehmer zzgl. MwSt. (für Mitglieder des GEB Saar)\,\n80\,- EURO pro Person/Teilnehmer zzgl. MwSt. (für Partner der Landeskampagne EBS\, Mitglieder der Kooperationspartner und anderer Landesverbände des GIH BV)\,\n120\,- EURO pro Person/Teilnehmer zzgl. MwSt. (für alle anderen Teilnehmer) \nAnmeldungen an: veranstaltung@argesolar-saar.de
URL:https://www.argesolar-saar.de/va/energieberatertag-saar-2023-fachkongress-energieberatung-in-der-praxis/
LOCATION:Online
ATTACH;FMTTYPE=image/jpeg:https://www.argesolar-saar.de/wp-content/uploads/2023/07/AdobeStock_525636373.jpeg
ORGANIZER;CN="ARGE SOLAR e.V.":MAILTO:veranstaltung@argesolar-saar.de
END:VEVENT
BEGIN:VEVENT
DTSTART;TZID=Europe/Berlin:20231017T100000
DTEND;TZID=Europe/Berlin:20231017T113000
DTSTAMP:20260424T212056
CREATED:20230828T054210Z
LAST-MODIFIED:20230828T054310Z
UID:10799-1697536800-1697542200@www.argesolar-saar.de
SUMMARY:Optimierung bestehender Heizung\, wie mache ich diese sparsamer? Heizungen fit machen für die Heizperiode?
DESCRIPTION:Optimierung bestehender Heizung\, wie mache ich diese sparsamer? Heizungen fit machen für die Heizperiode? \n  \nReferent: Hans-Gerd Eisenbarth \n  \nRegistrieren Sie sich direkt online für die Veranstaltung.
URL:https://www.argesolar-saar.de/va/optimierung-bestehender-heizung-wie-mache-ich-diese-sparsamer-heizungen-fit-machen-fuer-die-heizperiode/
ATTACH;FMTTYPE=image/jpeg:https://www.argesolar-saar.de/wp-content/uploads/2023/06/20230305_170139.jpg
END:VEVENT
END:VCALENDAR