BEGIN:VCALENDAR
VERSION:2.0
PRODID:-//ARGE SOLAR e.V. - ECPv6.15.20//NONSGML v1.0//EN
CALSCALE:GREGORIAN
METHOD:PUBLISH
X-ORIGINAL-URL:https://www.argesolar-saar.de
X-WR-CALDESC:Veranstaltungen für ARGE SOLAR e.V.
REFRESH-INTERVAL;VALUE=DURATION:PT1H
X-Robots-Tag:noindex
X-PUBLISHED-TTL:PT1H
BEGIN:VTIMEZONE
TZID:Europe/Berlin
BEGIN:DAYLIGHT
TZOFFSETFROM:+0100
TZOFFSETTO:+0200
TZNAME:CEST
DTSTART:20220327T010000
END:DAYLIGHT
BEGIN:STANDARD
TZOFFSETFROM:+0200
TZOFFSETTO:+0100
TZNAME:CET
DTSTART:20221030T010000
END:STANDARD
BEGIN:DAYLIGHT
TZOFFSETFROM:+0100
TZOFFSETTO:+0200
TZNAME:CEST
DTSTART:20230326T010000
END:DAYLIGHT
BEGIN:STANDARD
TZOFFSETFROM:+0200
TZOFFSETTO:+0100
TZNAME:CET
DTSTART:20231029T010000
END:STANDARD
BEGIN:DAYLIGHT
TZOFFSETFROM:+0100
TZOFFSETTO:+0200
TZNAME:CEST
DTSTART:20240331T010000
END:DAYLIGHT
BEGIN:STANDARD
TZOFFSETFROM:+0200
TZOFFSETTO:+0100
TZNAME:CET
DTSTART:20241027T010000
END:STANDARD
END:VTIMEZONE
BEGIN:VEVENT
DTSTART;TZID=Europe/Berlin:20230802T170000
DTEND;TZID=Europe/Berlin:20230802T180000
DTSTAMP:20260425T020000
CREATED:20230724T110136Z
LAST-MODIFIED:20230724T112706Z
UID:10380-1690995600-1690999200@www.argesolar-saar.de
SUMMARY:Online Sprechstunde: Förderung und Fördermittel
DESCRIPTION:Um die vielfältigen Beratungsanfragen abfangen und beantworten zu können\, bieten wir als ARGE SOLAR e.V. Online-Sprechstunden über die Plattform Webex an. In den einstündigen Veranstaltungen wird Frau Marina Wagner Ihnen Fragen zum Thema Förderung und Förderprogramme beantworten. \nDie Beratungsangebote sind unverbindlich und kostenfrei. \n  \nRegistrieren sie sich direkt online für die Veranstaltung. \n  \nEinen Flyer zur Veranstaltung finden Sie HIER
URL:https://www.argesolar-saar.de/va/online-sprechstunde-foerderung-und-foerdermittel/
LOCATION:Online
ATTACH;FMTTYPE=image/png:https://www.argesolar-saar.de/wp-content/uploads/2023/07/Bild18.png
ORGANIZER;CN="ARGE SOLAR e.V.":MAILTO:veranstaltung@argesolar-saar.de
END:VEVENT
BEGIN:VEVENT
DTSTART;TZID=Europe/Berlin:20230816T170000
DTEND;TZID=Europe/Berlin:20230816T180000
DTSTAMP:20260425T020000
CREATED:20230724T113908Z
LAST-MODIFIED:20230724T113908Z
UID:10396-1692205200-1692208800@www.argesolar-saar.de
SUMMARY:Online-Sprechstunde: Energiesparen\, Heizung\, Solar & Förderung
DESCRIPTION:Um die vielfältigen Beratungsanfragen abfangen und beantworten zu können\, bieten wir als ARGE SOLAR e.V. Online-Sprechstunden über die Plattform Webex an.\nIn den einstündigen Veranstaltungen wird Ralph Schmidt unser Geschäftsführer und Vorsitzender der Gebäudeenergieberater Saarland e.V. Fragen rund um die Themen Energiesparen\, Heizung\, Solar & Förderung beantworten. \nDie Beratungsangebote sind unverbindlich und kostenfrei. \n  \nRegistrieren Sie sich direkt online für die Veranstaltung. \n  \nEinen Flyer zur Veranstaltung finden Sie HIER
URL:https://www.argesolar-saar.de/va/online-sprechstunde-energiesparen-heizung-solar-foerderung-4/
LOCATION:Online
ATTACH;FMTTYPE=image/png:https://www.argesolar-saar.de/wp-content/uploads/2023/07/Bild18.png
ORGANIZER;CN="ARGE SOLAR e.V.":MAILTO:veranstaltung@argesolar-saar.de
END:VEVENT
BEGIN:VEVENT
DTSTART;TZID=Europe/Berlin:20230824T100000
DTEND;TZID=Europe/Berlin:20230824T113000
DTSTAMP:20260425T020000
CREATED:20230724T093911Z
LAST-MODIFIED:20230731T120957Z
UID:10368-1692871200-1692876600@www.argesolar-saar.de
SUMMARY:"ARGE SOLAR Exklusiv" Klimatechnik & Kühlung in privaten Gebäuden
DESCRIPTION:Vorstellung des Bereichs der Klimatechnik im Hinblick auf die Kühlung von privaten Gebäuden \nIm Anschluss besteht die Möglichkeit in einer Fragerunde noch offene Fragen zu diskutieren. \nReferent: Hans-Gerd Eisenbarth \n  \nRegistrieren Sie sich direkt online für die Veranstaltung.
URL:https://www.argesolar-saar.de/va/arge-solar-exklusiv-klimatechnik-kuehlung-in-privaten-gebaeuden/
LOCATION:Online
CATEGORIES:ARGE Solar Exklusiv
ATTACH;FMTTYPE=image/jpeg:https://www.argesolar-saar.de/wp-content/uploads/2023/07/AdobeStock_525636373.jpeg
ORGANIZER;CN="ARGE SOLAR e.V.":MAILTO:veranstaltung@argesolar-saar.de
END:VEVENT
BEGIN:VEVENT
DTSTART;TZID=Europe/Berlin:20230824T170000
DTEND;TZID=Europe/Berlin:20230824T180000
DTSTAMP:20260425T020000
CREATED:20230724T113945Z
LAST-MODIFIED:20230724T113945Z
UID:10393-1692896400-1692900000@www.argesolar-saar.de
SUMMARY:Online-Sprechstunde: Energiesparen\, Heizung\, Solar & Förderung
DESCRIPTION:Um die vielfältigen Beratungsanfragen abfangen und beantworten zu können\, bieten wir als ARGE SOLAR e.V. Online-Sprechstunden über die Plattform Webex an.\nIn den einstündigen Veranstaltungen wird Ralph Schmidt unser Geschäftsführer und Vorsitzender der Gebäudeenergieberater Saarland e.V. Fragen rund um die Themen Energiesparen\, Heizung\, Solar & Förderung beantworten. \nDie Beratungsangebote sind unverbindlich und kostenfrei. \n  \nRegistrieren Sie sich direkt online für die Veranstaltung. \n  \nEinen Flyer zur Veranstaltung finden Sie HIER
URL:https://www.argesolar-saar.de/va/online-sprechstunde-energiesparen-heizung-solar-foerderung-5/
LOCATION:Online
ATTACH;FMTTYPE=image/png:https://www.argesolar-saar.de/wp-content/uploads/2023/07/Bild18.png
ORGANIZER;CN="ARGE SOLAR e.V.":MAILTO:veranstaltung@argesolar-saar.de
END:VEVENT
BEGIN:VEVENT
DTSTART;TZID=Europe/Berlin:20230830T170000
DTEND;TZID=Europe/Berlin:20230830T180000
DTSTAMP:20260425T020000
CREATED:20230724T110402Z
LAST-MODIFIED:20230724T112702Z
UID:10382-1693414800-1693418400@www.argesolar-saar.de
SUMMARY:Online Sprechstunde: Förderung und Fördermittel
DESCRIPTION:Um die vielfältigen Beratungsanfragen abfangen und beantworten zu können\, bieten wir als ARGE SOLAR e.V. Online-Sprechstunden über die Plattform Webex an. In den einstündigen Veranstaltungen wird Frau Marina Wagner Ihnen Fragen zum Thema Förderung und Förderprogramme beantworten. \nDie Beratungsangebote sind unverbindlich und kostenfrei. \n  \nRegistrieren sie sich direkt online für die Veranstaltung. \n  \nEinen Flyer zur Veranstaltung finden Sie HIER
URL:https://www.argesolar-saar.de/va/online-sprechstunde-foerderung-und-foerdermittel-2/
LOCATION:Online
ATTACH;FMTTYPE=image/png:https://www.argesolar-saar.de/wp-content/uploads/2023/07/Bild18.png
ORGANIZER;CN="ARGE SOLAR e.V.":MAILTO:veranstaltung@argesolar-saar.de
END:VEVENT
BEGIN:VEVENT
DTSTART;TZID=Europe/Berlin:20230831T100000
DTEND;TZID=Europe/Berlin:20230831T120000
DTSTAMP:20260425T020000
CREATED:20230724T094806Z
LAST-MODIFIED:20230725T072041Z
UID:10373-1693476000-1693483200@www.argesolar-saar.de
SUMMARY:"ARGE SOLAR Exklusiv" Update gesetzliche Vorgaben GEG und KWP für Mitglieder
DESCRIPTION:Vorstellung der gesetzlichen Vorgaben mit Fokus auf Heizen. Gebäudeenergiegesetz (GEG) und kommunale Wärmeplanung (kWP). \nReferent: Ralph Schmidt \n  \nRegistrieren Sie sich direkt online für die Veranstaltung.
URL:https://www.argesolar-saar.de/va/arge-solar-exklusiv-update-gesetzliche-vorgaben-geg-fuer-mitglieder/
LOCATION:Online
CATEGORIES:ARGE Solar Exklusiv
ATTACH;FMTTYPE=image/jpeg:https://www.argesolar-saar.de/wp-content/uploads/2023/06/AdobeStock_121878091.jpeg
ORGANIZER;CN="ARGE SOLAR e.V.":MAILTO:veranstaltung@argesolar-saar.de
END:VEVENT
END:VCALENDAR