BEGIN:VCALENDAR
VERSION:2.0
PRODID:-//ARGE SOLAR e.V. - ECPv6.15.20//NONSGML v1.0//EN
CALSCALE:GREGORIAN
METHOD:PUBLISH
X-WR-CALNAME:ARGE SOLAR e.V.
X-ORIGINAL-URL:https://www.argesolar-saar.de
X-WR-CALDESC:Veranstaltungen für ARGE SOLAR e.V.
REFRESH-INTERVAL;VALUE=DURATION:PT1H
X-Robots-Tag:noindex
X-PUBLISHED-TTL:PT1H
BEGIN:VTIMEZONE
TZID:Europe/Berlin
BEGIN:DAYLIGHT
TZOFFSETFROM:+0100
TZOFFSETTO:+0200
TZNAME:CEST
DTSTART:20220327T010000
END:DAYLIGHT
BEGIN:STANDARD
TZOFFSETFROM:+0200
TZOFFSETTO:+0100
TZNAME:CET
DTSTART:20221030T010000
END:STANDARD
BEGIN:DAYLIGHT
TZOFFSETFROM:+0100
TZOFFSETTO:+0200
TZNAME:CEST
DTSTART:20230326T010000
END:DAYLIGHT
BEGIN:STANDARD
TZOFFSETFROM:+0200
TZOFFSETTO:+0100
TZNAME:CET
DTSTART:20231029T010000
END:STANDARD
BEGIN:DAYLIGHT
TZOFFSETFROM:+0100
TZOFFSETTO:+0200
TZNAME:CEST
DTSTART:20240331T010000
END:DAYLIGHT
BEGIN:STANDARD
TZOFFSETFROM:+0200
TZOFFSETTO:+0100
TZNAME:CET
DTSTART:20241027T010000
END:STANDARD
END:VTIMEZONE
BEGIN:VEVENT
DTSTART;TZID=Europe/Berlin:20230706T160000
DTEND;TZID=Europe/Berlin:20230706T173000
DTSTAMP:20260425T015742
CREATED:20230706T064314Z
LAST-MODIFIED:20230706T064314Z
UID:10143-1688659200-1688664600@www.argesolar-saar.de
SUMMARY:Online Sprechstunde: Energiesparen\, Heizung\, Solar\, Förderung
DESCRIPTION:Online Sprechstunde: Energiesparen\, Heizung\, Solar\, Förderung mit Ralph Schmidt Geschäftsführer der ARGE SOLAR e.V. \nRegistrieren Sie sich gerne direkt online für die Veranstaltung.
URL:https://www.argesolar-saar.de/va/online-sprechstunde-energiesparen-heizung-solar-foerderung-2/
LOCATION:Online
ATTACH;FMTTYPE=image/jpeg:https://www.argesolar-saar.de/wp-content/uploads/2023/06/AdobeStock_543522446.jpeg
ORGANIZER;CN="ARGE SOLAR e.V.":MAILTO:veranstaltung@argesolar-saar.de
END:VEVENT
BEGIN:VEVENT
DTSTART;TZID=Europe/Berlin:20230711T160000
DTEND;TZID=Europe/Berlin:20230711T173000
DTSTAMP:20260425T015742
CREATED:20230706T064944Z
LAST-MODIFIED:20230706T064944Z
UID:10145-1689091200-1689096600@www.argesolar-saar.de
SUMMARY:Online Sprechstunde: Energiesparen\, Heizung\, Solar\, Förderung
DESCRIPTION:Online Sprechstunde: Energiesparen\, Heizung\, Solar\, Förderung mit Ralph Schmidt Geschäftsführer der ARGE SOLAR e.V. \nRegistrieren Sie sich gerne direkt online für die Veranstaltung.
URL:https://www.argesolar-saar.de/va/online-sprechstunde-energiesparen-heizung-solar-foerderung-3/
LOCATION:Online
ATTACH;FMTTYPE=image/jpeg:https://www.argesolar-saar.de/wp-content/uploads/2023/06/AdobeStock_543522446.jpeg
ORGANIZER;CN="ARGE SOLAR e.V.":MAILTO:veranstaltung@argesolar-saar.de
END:VEVENT
END:VCALENDAR