BEGIN:VCALENDAR
VERSION:2.0
PRODID:-//ARGE SOLAR e.V. - ECPv6.15.20//NONSGML v1.0//EN
CALSCALE:GREGORIAN
METHOD:PUBLISH
X-WR-CALNAME:ARGE SOLAR e.V.
X-ORIGINAL-URL:https://www.argesolar-saar.de
X-WR-CALDESC:Veranstaltungen für ARGE SOLAR e.V.
REFRESH-INTERVAL;VALUE=DURATION:PT1H
X-Robots-Tag:noindex
X-PUBLISHED-TTL:PT1H
BEGIN:VTIMEZONE
TZID:Europe/Berlin
BEGIN:DAYLIGHT
TZOFFSETFROM:+0100
TZOFFSETTO:+0200
TZNAME:CEST
DTSTART:20250330T010000
END:DAYLIGHT
BEGIN:STANDARD
TZOFFSETFROM:+0200
TZOFFSETTO:+0100
TZNAME:CET
DTSTART:20251026T010000
END:STANDARD
BEGIN:DAYLIGHT
TZOFFSETFROM:+0100
TZOFFSETTO:+0200
TZNAME:CEST
DTSTART:20260329T010000
END:DAYLIGHT
BEGIN:STANDARD
TZOFFSETFROM:+0200
TZOFFSETTO:+0100
TZNAME:CET
DTSTART:20261025T010000
END:STANDARD
BEGIN:DAYLIGHT
TZOFFSETFROM:+0100
TZOFFSETTO:+0200
TZNAME:CEST
DTSTART:20270328T010000
END:DAYLIGHT
BEGIN:STANDARD
TZOFFSETFROM:+0200
TZOFFSETTO:+0100
TZNAME:CET
DTSTART:20271031T010000
END:STANDARD
END:VTIMEZONE
BEGIN:VEVENT
DTSTART;TZID=Europe/Berlin:20260420T180000
DTEND;TZID=Europe/Berlin:20260420T193000
DTSTAMP:20260419T195814
CREATED:20260306T143413Z
LAST-MODIFIED:20260325T140106Z
UID:15318-1776708000-1776713400@www.argesolar-saar.de
SUMMARY:„Basiswissen Heizungstechnik & Optimierung bestehender Anlagen“ - Online-Infoveranstaltung der Landeshauptstadt Saarbrücken & Landeskampagne “Energieberatung Saar”
DESCRIPTION:Im Rahmen der Landeskampagne „Energieberatung Saar“ des Ministeriums für Wirtschaft\, Innovation\, Digitales und Energie (MWIDE) laden wir Sie am Montag\, den 20.04.2026 von 18 – 19:30 Uhr herzlich zur Online-Infoveranstaltung „Basiswissen Heizungstechnik & Optimierung bestehender Anlagen“ in Kooperation mit der Landeshauptstadt Saarbrücken ein.\nReferent ist Dipl.-Ing. (FH Versorgungstechnik) Hans-Gerd Eisenbarth\, der als ehemaliger Geschäftsführer eines Ingenieurbüros und als Referent über langjährige Erfahrungen in den Bereichen Technische Gebäudeausrüstung\, Energiemanagement und Energieoptimierung verfügt. \nBestehende Heizungsanlagen arbeiten häufig ineffizient\, sodass deren Optimierung als wichtige Stellschraube betrachtet wird\, um nachhaltig Energie und damit auch Kosten einzusparen. Insbesondere Privathaushalte können durch eine Heizungsoptimierung unnötige Kosten einsparen.\nIm Online-Vortrag werden praxisnahe Grundlagen zu den Themen Heizung und Wärmeerzeuger (klassisch und Erneuerbare Energien inkl. Solarthermie und Wärmepumpe)\, Warmwasserbereitung\, Hydraulischer Abgleich\, Regel-\, Steuer- und Messtechnik erläutert sowie Praxisbeispiele mit Fokus auf Optimierung (nicht und gering investiv) bestehender Anlagen gegeben. Der Schwerpunkt soll auf der Vermittlung von Know-How und der Befähigung zur kurzfristigen Optimierung von Anlagentechnik liegen. Fragen und Anliegen der Teilnehmenden werden aufgegriffen und besprochen. \nEine Anmeldung zur Veranstaltung ist erforderlich. \nAlternativ auch per Mail an energieberatung@wirtschaft.saarland.de oder telefonisch unter 0681 501-2030. \n  \nWenn Sie Ihr Wissen vertiefen möchten\, nutzen Sie das Online-WIKI der Landeskampagne „Energieberatung Saar“: Dort erwarten Sie umfassende Informationen und sorgfältig zusammengestellte Materialien. Erfahren Sie u. a. mehr über Energiesparen\, Energieeffizienz\, energetische Sanierung\, erneuerbare Energien\, Förderprogramme\, effiziente Heizsysteme und viele weitere relevante Themen. Auf unserer stetig wachsenden Wissensplattform „Energiespar WIKI“ finden Sie interessante Informationen zum Stöbern\, Informieren\, und Teilen von Wissen für unterschiedliche Zielgruppen.
URL:https://www.argesolar-saar.de/va/online-infoveranstaltung-basiswissen-heizungstechnik-optimierung-bestehender-anlagen/
LOCATION:Online
CATEGORIES:Landeskampagne "Energieberatung Saar"
ATTACH;FMTTYPE=image/png:https://www.argesolar-saar.de/wp-content/uploads/2026/02/EBS_LHS-SB-Logo.png
END:VEVENT
BEGIN:VEVENT
DTSTART;TZID=Europe/Berlin:20260422T150000
DTEND;TZID=Europe/Berlin:20260422T160000
DTSTAMP:20260419T195814
CREATED:20260219T082854Z
LAST-MODIFIED:20260219T082854Z
UID:15264-1776870000-1776873600@www.argesolar-saar.de
SUMMARY:Landeskampagne “Energieberatung Saar” – Online-Sprechstunde für Kommunen und KMU
DESCRIPTION:Am 22.04.26 findet die nächste Online-Sprechstunde für Kommunen und KMU von 15.00 bis 16.00 Uhr statt.\nDie Veranstaltung findet im Rahmen der der Landeskampagne “Energieberatung Saar” statt. \n  \nDie Online-Sprechstunde richtet sich an alle Interessierten Mitarbeitenden und Verantwortlichen in Kommunen und Unternehmen\, die Fragen zur Steigerung der Energieeffizienz\, Einsatz Erneuerbarer Energien oder energetischen Förderprogrammen haben. Besonders angesprochen sind diejenigen\, die praktisch und professionell mit Haustechnik vor Ort in öffentlichen und gewerblichen Gebäuden zu tun haben wie z. B. Hausmeister\, Verwaltungsmitarbeitende und viele mehr. \n  \nDie Teilnahme an der Veranstaltung ist kostenfrei\, eine Anmeldung ist jedoch erforderlich. \nAlternativ können Sie sich per Mail anmelden unter: energieberatung@wirtschaft.saarland.de
URL:https://www.argesolar-saar.de/va/landeskampagne-energieberatung-saar-online-sprechstunde-fuer-kommunen-und-kmu-14/
LOCATION:Online
CATEGORIES:Landeskampagne "Energieberatung Saar"
ATTACH;FMTTYPE=image/jpeg:https://www.argesolar-saar.de/wp-content/uploads/2025/05/Logo-Landeskampagne-EBS.jpg
END:VEVENT
BEGIN:VEVENT
DTSTART;TZID=Europe/Berlin:20260427T163000
DTEND;TZID=Europe/Berlin:20260427T183000
DTSTAMP:20260419T195814
CREATED:20260330T150330Z
LAST-MODIFIED:20260330T150330Z
UID:15397-1777307400-1777314600@www.argesolar-saar.de
SUMMARY:"Energetische Sanierung im Eigenheim" Info-Veranstaltung der Landeskampagne "Energieberatung Saar" & Landeshauptstadt Saarbrücken
DESCRIPTION:Am Montag\, den 27. April 2026 lädt die Landeskampagne „Energieberatung Saar“ von 16:30 Uhr bis ca. 18:30 Uhr gemeinsam mit der Landeshauptstadt Saarbrücken und den Stadtwerken Saarbrücken zu einer Informationsveranstaltung zum Thema „Energetische Sanierung im Eigenheim“ ein. Die Veranstaltung findet in Präsenz im Verwaltungsgebäude der Stadtwerke Saarbrücken statt\, welches ein Vorzeigeprojekt für nachhaltiges und energieeffizientes Bauen ist. \nSteigende Energiepreise und der Klimawandel stellen viele Haus- und Wohnungseigentümer:innen vor große Herausforderungen. Wer heute modernisiert\, steht oft vor der Frage\, welche Sanierungsmaßnahmen sich wirklich lohnen. Eine gezielte energetische Sanierung kann dabei helfen\, den Energieverbrauch nachhaltig zu senken\, den Wohnkomfort zu steigern und den Immobilienwert langfristig zu sichern.\nChristian Port\, Energieberater der Verbraucherzentrale Saarland\, gibt in seinem Vortrag anschauliche und praxisnahe Einblicke in die wichtigsten Schritte der Gebäudeoptimierung. Im Mittelpunkt stehen dabei Außenwände\, Dach\, Fenster\, Kellerdecke und Heizsysteme. Vorgestellt werden sowohl einfache\, kostengünstige Maßnahmen\, die sich teilweise in Eigenleistung umsetzen lassen\, als auch umfassendere Sanierungsvorhaben. Alle Optionen werden nachvollziehbar nach Aufwand\, Kosten und Einsparpotenzial eingeordnet.\nZiel der Veranstaltung ist es\, unabhängig und neutral über Möglichkeiten der energetischen Sanierung zu informieren und Eigentümer:innen eine verlässliche Orientierung für anstehende Modernisierungsentscheidungen zu geben. \nIm Anschluss des Vortrages haben Sie zudem die Möglichkeit an einer Führung durch das Verwaltungsgebäude teilzunehmen. Das Gebäue erhielt das DGNB-Zertifikat (Deutsche Gesellschaft für Nachhaltiges Bauen) in Gold und erfüllt die Kriterien der KfW-Bank als Effizienzhaus 40 NH. \nDie Teilnahme an der Veranstaltung ist kostenfrei\, eine Anmeldung ist jedoch notwendig. Die Teilnehmerzahl ist auf max. 30 Personen begrenzt. \nHIER geht es zur Anmeldung. \n  \nAblauf der Veranstaltung: \n16:30 Uhr – Begrüßung der Gastgeber (Landeskampagne „Energieberatung Saar“\, Landeshauptstadt Saarbrücken\, Stadtwerke Saarbrücken) \n16:45 Uhr – Vortrag „Energetische Sanierung im Eigenheim“ (Christian Port\, Energieberater der Verbraucherzentrale Saarland) \n18:15 Uhr – Fragerunde \nAbschließend – Führung durch das Verwaltungsgebäude
URL:https://www.argesolar-saar.de/va/energetische-sanierung-im-eigenheim-info-veranstaltung-der-landeskampagne-energieberatung-saar-landeshauptstadt-saarbruecken/
LOCATION:Stadtwerke Saarbrücken GmbH Zentrale\, Heuduckstraße 36\, Saarbrücken\, Saarland\, 66117\, Germany
CATEGORIES:Landeskampagne "Energieberatung Saar"
ATTACH;FMTTYPE=image/png:https://www.argesolar-saar.de/wp-content/uploads/2026/02/EBS_LHS-SB-Logo.png
END:VEVENT
BEGIN:VEVENT
DTSTART;TZID=Europe/Berlin:20260428T090000
DTEND;TZID=Europe/Berlin:20260428T133000
DTSTAMP:20260419T195814
CREATED:20260402T135925Z
LAST-MODIFIED:20260416T143214Z
UID:15404-1777366800-1777383000@www.argesolar-saar.de
SUMMARY:„Fachtag Heizungsoptimierung – Praxis\, Effizienz\, Innovation“ – Landeskampagne „Energieberatung Saar“ in Kooperation mit der SHK-Innung und der Schornsteinfegerinnung
DESCRIPTION:Im Rahmen der Landeskampagne „Energieberatung Saar“ lädt das Ministerium für Wirtschaft\, Innovation\, Digitales und Energie (MWIDE) in Kooperation mit der SHK-Innung und der Schornsteinfegerinnung des Saarlandes am 28. April von 9 bis 13:30 Uhr zum hybriden Fachtag „Heizungsoptimierung – Praxis\, Effizienz\, Innovation“ ein. \nEs erwarten Sie Beiträge zu aktuellem Bestand und Entwicklungen im Saarland\, zu gesetzlichen Anforderungen und praktischen Lösungen für effiziente Wärmeerzeugung. Fachvorträge aus Handwerk\, Industrie und Forschung beleuchten Themen wie die Optimierung bestehender Anlagen\, das Gebäudemodernisierungsgesetz\, digitale Monitoring-Systeme und zukunftsweisende Hybridlösungen. \nDer Fachtag richtet sich an Fachbetriebe\, Energieberater:innen\, Vertreter.innen aus Innungen und Kammern sowie sonstige\, fachlich Interessierte. Die Veranstaltung findet hybrid im MWIDE und Online per Webex statt. \nDie Teilnahme ist kostenlos\, eine Anmeldung ist allerdings notwendig. HIER geht es zur Anmeldung. \nHIER finden Sie auch den offiziellen Einladungsflyer. \nWir freuen uns auf Ihre Teilnahme! \n  \nVorläufiges Programm (Stand 02.04.26): \n9:00 Uhr – Begrüßung \n9:10 Uhr – Betrachtung des Anlagen-Bestands im Saarland: Erhebungen des Schornsteinfegerhandwerks\, Verpflichtung der Prüfung und Optimierung älterer Heizungsanlagen gemäß § 60 b GEG\nEric Scherer\, Landesinnungsmeister\, Schornsteinfegerinnung für das Saarland \n09:50 Uhr – Ausblick auf das Gebäudemodernisierungsgesetz\nDr. Norbert Azuma-Dicke\, Bundesverband der Deutschen Heizungsindustrie (BDH) \n10:30 Uhr – Optimierung von Heizungsanlagen im Bestand auf Grundlage der Fachregeln\nRoman Salm\, Fachgruppenleiter / Installateur und Heizungsbauer\, SHK Landesinnung für das Saarland \n11:05 Uhr Pause \n11:15 Uhr – Dynamische Auslegung von Heizungsanlagen\nHans-Gerd Eisenbarth\, Dipl.-Ing.\, Energieberater und Heizungsexperte \n12:05 Uhr – Monitoring im Heizungskeller: Digitale Effizienz für Heizungsanlagen\nKompetenzzentrum Energieeffizienz durch Digitalisierung (KEDi)/ Deutsche Energie-Agentur (dena) \n12:40 Uhr – PVT Ready\, Integration von PVT-Anlagen in das Heizungssystem\nBärbel Epp\, Geschäftsführerin Solrico\, Initiative integraTE-XL (BMWE-gefördert) \n13:20 Uhr – Fazit & Verabschiedung \nEnde der Veranstaltung
URL:https://www.argesolar-saar.de/va/fachtag-heizungsoptimierung-praxis-effizienz-innovation-lk-ebs-shk-schornsteinfeger-saarland/
LOCATION:Ministerium für Wirtschaft\, Innovation\, Digitales und Energie (MWIDE)\, Franz-Josef-Röder-Str. 17\, 66119 Saarbrücken\, Raum E.003
CATEGORIES:Landeskampagne "Energieberatung Saar"
ATTACH;FMTTYPE=image/png:https://www.argesolar-saar.de/wp-content/uploads/2026/04/Logos_EBS_SHK_SI.png
END:VEVENT
BEGIN:VEVENT
DTSTART;TZID=Europe/Berlin:20260520T170000
DTEND;TZID=Europe/Berlin:20260520T193000
DTSTAMP:20260419T195814
CREATED:20260306T143739Z
LAST-MODIFIED:20260416T143118Z
UID:15320-1779296400-1779305400@www.argesolar-saar.de
SUMMARY:Online-Infoveranstaltung „Einblick in aktuelle Technologie und Einsatzmöglichkeiten von Solarspeichern & Vorstellung Förderprogramm „PV-Speicher Saar“ für den saarländischen Mittelstand“
DESCRIPTION:Im Rahmen der Landeskampagne „Energieberatung Saar“ des Ministeriums für Wirtschaft\, Innovation\, Digitales und Energie (MWIDE) laden wir Vertreter:innen saarländischer Unternehmen und Sonstige Interessierte am Mittwoch\, den 20.05.2026 von 17:00 – 19:30 Uhr herzlich zur Online-Infoveranstaltung „Einblick in aktuelle Technologie und Einsatzmöglichkeiten von Solarspeichern & Vorstellung Förderprogramm „PV-Speicher Saar“ für den saarländischen Mittelstand“ ein. \nNach einer Begrüßung von Herr Klaus-Dieter Uhrhan\, Leiter des Referats E/6 für Förderung der Energieeffizienz des MWIDE\, gibt Ihnen Jan Figgener\, Gastwissenschaftler an der RWTH Aachen und Experte für Batteriespeicher\, einen Überblick über die aktuellen Markt- und Technologieentwicklungen dezentraler Stromspeicher sowie die Einsatzmöglichkeiten und Auswahlkriterien von Solarspeichern. \nAnschließend gehen Marcel Quinten\, Fachbereichsleiter für Energie-\, Umwelt- und Nachhaltigkeitsberatung bei der Handwerkskammer des Saarlandes\, Udo Schmidt\, Landesinnungsmeister der saarländischen Innung für Elektro- und Informationstechnische Handwerke\, und Herr Nicolaus\, Mitarbeiter des Elektrobetriebs Udo Schmidt aus Blieskastel\, auf praktische Umsetzungsmöglichkeiten aus Sicht der Kammer\, Innung und Handwerksbetriebe ein. \nAbschließend stellt Klaus-Dieter Uhrhan die neue Richtlinie zur Förderung von elektrischen Speichersystemen in saarländischen Unternehmen (PV-Speicher Saar) vor und beantwortet Ihre Fragen und Anliegen dazu. \nDie Teilnahme an der Veranstaltung ist kostenfrei. Eine Anmeldung zur Veranstaltung ist allerdings erforderlich.\nAlternativ auch per Mail an energieberatung@wirtschaft.saarland.de oder telefonisch unter 0681 501-2030.\n \nHIER finden Sie auch den offiziellen Einladungsflyer. \n\nProgramm: \n17 Uhr – Begrüßung – Klaus-Dieter Uhrhan\, Referatsleiter E/6\, Ministeriums für Wirtschaft\, Innovation\, Digitales und Energie \n17:05 Uhr – Überblick Aktuelle Technologieentwicklung & Einsatzmöglichkeiten von Solarspeichern\nDr. Jan Figgener\, Gastwissenschaftler an der RWTH Aachen & Gründer von „Battery Charts“ \n18:00 Uhr – Praktische Umsetzungsmöglichkeiten\nMarcel Quinten\, Handwerkskammer des Saarlandes\nUdo Schmidt\, Landesinnungsmeister Elektro\nHerr Nicolaus\, Firma Udo Schmidt Blieskastel \nFrage- und Diskussionsrunde \n18:45 Uhr – Vorstellung der Richtlinie zur Förderung von elektrischen Speichersystemen in saarländischen Unternehmen (PV-Speicher Saar)\nKlaus-Dieter Uhrhan\, Referatsleiter E/6\, Ministeriums für Wirtschaft\, Innovation\, Digitales und Energie\, \nFrage- und Diskussionsrunde \nCa. 19:30 Uhr Ende der Veranstaltung \n  \nHIER GEHT’S ZUR ANMELDUNG. \nAlternativ auch per Mail an energieberatung@wirtschaft.saarland.de oder telefonisch unter 0681 501-2030. \n  \nWenn Sie Ihr Wissen vertiefen möchten\, nutzen Sie das Online-WIKI der Landeskampagne „Energieberatung Saar“: Dort erwarten Sie umfassende Informationen und sorgfältig zusammengestellte Materialien. Erfahren Sie u. a. mehr über Energiesparen\, Energieeffizienz\, energetische Sanierung\, erneuerbare Energien\, Förderprogramme\, effiziente Heizsysteme und viele weitere relevante Themen. Auf unserer stetig wachsenden Wissensplattform „Energiespar WIKI“ finden Sie interessante Informationen zum Stöbern\, Informieren\, und Teilen von Wissen für unterschiedliche Zielgruppen.
URL:https://www.argesolar-saar.de/va/online-infoveranstaltung-foerderung-von-elektrischen-speichersystemen-in-saarlaendischen-unternehmen-aktuelle-technologie-einsatzmoeglichkeiten-von-solarspeichern/
LOCATION:Online
CATEGORIES:Landeskampagne "Energieberatung Saar"
ATTACH;FMTTYPE=image/jpeg:https://www.argesolar-saar.de/wp-content/uploads/2025/05/Logo-Landeskampagne-EBS.jpg
END:VEVENT
BEGIN:VEVENT
DTSTART;TZID=Europe/Berlin:20260527T090000
DTEND;TZID=Europe/Berlin:20260527T130000
DTSTAMP:20260419T195814
CREATED:20260402T144134Z
LAST-MODIFIED:20260414T133052Z
UID:15414-1779872400-1779886800@www.argesolar-saar.de
SUMMARY:Landeskampagne „Energieberatung Saar“ – Fachveranstaltung: “Umsetzung der Kommunalen Wärmeplanung in der Praxis” (Teil 6)
DESCRIPTION:Am Mittwoch\, den 27.05.2026 findet von 09:00 bis 13:00 Uhr die Fachveranstaltung (hybrid) „Umsetzung der Kommunalen Wärmeplanung in der Praxis“ (Teil 6) statt. Die Teilnahme ist in Präsenz im Saarländischen Ministerium für Wirtschaft\, 66119 Saarbrücken\, Raum E.003 oder Online (Webex) möglich. \nIn der Veranstaltung soll ein Überblick über den Stand der Kommunalen Wärmeplanung im Saarland/Maßnahmen des Landes\, über aktuelle saarländische Projekte und Herangehensweisen bei der Umsetzung der Kommunalen Wärmeplanung und Umsetzung von Maßnahmen im Bereich der Wärmewende gegeben werden. Veranstalter der Reihe sind die AG kommunale Wärmeplanung des Referats E/3 und die Landeskampagne „Energieberatung Saar“ des Ministeriums für Wirtschaft\, Innovation\, Digitales und Energie (MWIDE). \nDie Veranstaltung richtet sich insbesondere an Vertreter:innen von Kommunen und Landkreisen\, der Energiewirtschaft und von Stadt- und Gemeindewerken\, Unternehmen\, Wohnungsbaugesellschaften\, Energieberater:innen\, Architekten:innen\, Ingenieure:innen\, Handwerker:innen als auch an interessierte Multiplikatoren. \nDas Programm folgt in Kürze. \nDie Teilnahme an der Veranstaltung ist kostenfrei. Eine Anmeldung ist jedoch erforderlich.
URL:https://www.argesolar-saar.de/va/landeskampagne-energieberatung-saar-fachveranstaltung-umsetzung-der-kommunalen-waermeplanung-in-der-praxis-teil-6/
LOCATION:Ministerium für Wirtschaft\, Innovation\, Digitales und Energie (MWIDE)\, Franz-Josef-Röder-Str. 17\, 66119 Saarbrücken\, Raum E.003
CATEGORIES:Landeskampagne "Energieberatung Saar"
ATTACH;FMTTYPE=image/jpeg:https://www.argesolar-saar.de/wp-content/uploads/2025/05/Logo-mit-Link_MWIDE_WW.jpg
END:VEVENT
END:VCALENDAR