BEGIN:VCALENDAR
VERSION:2.0
PRODID:-//ARGE SOLAR e.V. - ECPv6.15.20//NONSGML v1.0//EN
CALSCALE:GREGORIAN
METHOD:PUBLISH
X-WR-CALNAME:ARGE SOLAR e.V.
X-ORIGINAL-URL:https://www.argesolar-saar.de
X-WR-CALDESC:Veranstaltungen für ARGE SOLAR e.V.
REFRESH-INTERVAL;VALUE=DURATION:PT1H
X-Robots-Tag:noindex
X-PUBLISHED-TTL:PT1H
BEGIN:VTIMEZONE
TZID:Europe/Berlin
BEGIN:DAYLIGHT
TZOFFSETFROM:+0100
TZOFFSETTO:+0200
TZNAME:CEST
DTSTART:20250330T010000
END:DAYLIGHT
BEGIN:STANDARD
TZOFFSETFROM:+0200
TZOFFSETTO:+0100
TZNAME:CET
DTSTART:20251026T010000
END:STANDARD
BEGIN:DAYLIGHT
TZOFFSETFROM:+0100
TZOFFSETTO:+0200
TZNAME:CEST
DTSTART:20260329T010000
END:DAYLIGHT
BEGIN:STANDARD
TZOFFSETFROM:+0200
TZOFFSETTO:+0100
TZNAME:CET
DTSTART:20261025T010000
END:STANDARD
BEGIN:DAYLIGHT
TZOFFSETFROM:+0100
TZOFFSETTO:+0200
TZNAME:CEST
DTSTART:20270328T010000
END:DAYLIGHT
BEGIN:STANDARD
TZOFFSETFROM:+0200
TZOFFSETTO:+0100
TZNAME:CET
DTSTART:20271031T010000
END:STANDARD
END:VTIMEZONE
BEGIN:VEVENT
DTSTART;TZID=Europe/Berlin:20260527T090000
DTEND;TZID=Europe/Berlin:20260527T130000
DTSTAMP:20260420T004620
CREATED:20260402T144134Z
LAST-MODIFIED:20260414T133052Z
UID:15414-1779872400-1779886800@www.argesolar-saar.de
SUMMARY:Landeskampagne „Energieberatung Saar“ – Fachveranstaltung: “Umsetzung der Kommunalen Wärmeplanung in der Praxis” (Teil 6)
DESCRIPTION:Am Mittwoch\, den 27.05.2026 findet von 09:00 bis 13:00 Uhr die Fachveranstaltung (hybrid) „Umsetzung der Kommunalen Wärmeplanung in der Praxis“ (Teil 6) statt. Die Teilnahme ist in Präsenz im Saarländischen Ministerium für Wirtschaft\, 66119 Saarbrücken\, Raum E.003 oder Online (Webex) möglich. \nIn der Veranstaltung soll ein Überblick über den Stand der Kommunalen Wärmeplanung im Saarland/Maßnahmen des Landes\, über aktuelle saarländische Projekte und Herangehensweisen bei der Umsetzung der Kommunalen Wärmeplanung und Umsetzung von Maßnahmen im Bereich der Wärmewende gegeben werden. Veranstalter der Reihe sind die AG kommunale Wärmeplanung des Referats E/3 und die Landeskampagne „Energieberatung Saar“ des Ministeriums für Wirtschaft\, Innovation\, Digitales und Energie (MWIDE). \nDie Veranstaltung richtet sich insbesondere an Vertreter:innen von Kommunen und Landkreisen\, der Energiewirtschaft und von Stadt- und Gemeindewerken\, Unternehmen\, Wohnungsbaugesellschaften\, Energieberater:innen\, Architekten:innen\, Ingenieure:innen\, Handwerker:innen als auch an interessierte Multiplikatoren. \nDas Programm folgt in Kürze. \nDie Teilnahme an der Veranstaltung ist kostenfrei. Eine Anmeldung ist jedoch erforderlich.
URL:https://www.argesolar-saar.de/va/landeskampagne-energieberatung-saar-fachveranstaltung-umsetzung-der-kommunalen-waermeplanung-in-der-praxis-teil-6/
LOCATION:Ministerium für Wirtschaft\, Innovation\, Digitales und Energie (MWIDE)\, Franz-Josef-Röder-Str. 17\, 66119 Saarbrücken\, Raum E.003
CATEGORIES:Landeskampagne "Energieberatung Saar"
ATTACH;FMTTYPE=image/jpeg:https://www.argesolar-saar.de/wp-content/uploads/2025/05/Logo-mit-Link_MWIDE_WW.jpg
END:VEVENT
END:VCALENDAR