BEGIN:VCALENDAR
VERSION:2.0
PRODID:-//ARGE SOLAR e.V. - ECPv6.15.20//NONSGML v1.0//EN
CALSCALE:GREGORIAN
METHOD:PUBLISH
X-ORIGINAL-URL:https://www.argesolar-saar.de
X-WR-CALDESC:Veranstaltungen für ARGE SOLAR e.V.
REFRESH-INTERVAL;VALUE=DURATION:PT1H
X-Robots-Tag:noindex
X-PUBLISHED-TTL:PT1H
BEGIN:VTIMEZONE
TZID:Europe/Berlin
BEGIN:DAYLIGHT
TZOFFSETFROM:+0100
TZOFFSETTO:+0200
TZNAME:CEST
DTSTART:20250330T010000
END:DAYLIGHT
BEGIN:STANDARD
TZOFFSETFROM:+0200
TZOFFSETTO:+0100
TZNAME:CET
DTSTART:20251026T010000
END:STANDARD
BEGIN:DAYLIGHT
TZOFFSETFROM:+0100
TZOFFSETTO:+0200
TZNAME:CEST
DTSTART:20260329T010000
END:DAYLIGHT
BEGIN:STANDARD
TZOFFSETFROM:+0200
TZOFFSETTO:+0100
TZNAME:CET
DTSTART:20261025T010000
END:STANDARD
BEGIN:DAYLIGHT
TZOFFSETFROM:+0100
TZOFFSETTO:+0200
TZNAME:CEST
DTSTART:20270328T010000
END:DAYLIGHT
BEGIN:STANDARD
TZOFFSETFROM:+0200
TZOFFSETTO:+0100
TZNAME:CET
DTSTART:20271031T010000
END:STANDARD
END:VTIMEZONE
BEGIN:VEVENT
DTSTART;TZID=Europe/Berlin:20260520T170000
DTEND;TZID=Europe/Berlin:20260520T193000
DTSTAMP:20260420T004752
CREATED:20260306T143739Z
LAST-MODIFIED:20260416T143118Z
UID:15320-1779296400-1779305400@www.argesolar-saar.de
SUMMARY:Online-Infoveranstaltung „Einblick in aktuelle Technologie und Einsatzmöglichkeiten von Solarspeichern & Vorstellung Förderprogramm „PV-Speicher Saar“ für den saarländischen Mittelstand“
DESCRIPTION:Im Rahmen der Landeskampagne „Energieberatung Saar“ des Ministeriums für Wirtschaft\, Innovation\, Digitales und Energie (MWIDE) laden wir Vertreter:innen saarländischer Unternehmen und Sonstige Interessierte am Mittwoch\, den 20.05.2026 von 17:00 – 19:30 Uhr herzlich zur Online-Infoveranstaltung „Einblick in aktuelle Technologie und Einsatzmöglichkeiten von Solarspeichern & Vorstellung Förderprogramm „PV-Speicher Saar“ für den saarländischen Mittelstand“ ein. \nNach einer Begrüßung von Herr Klaus-Dieter Uhrhan\, Leiter des Referats E/6 für Förderung der Energieeffizienz des MWIDE\, gibt Ihnen Jan Figgener\, Gastwissenschaftler an der RWTH Aachen und Experte für Batteriespeicher\, einen Überblick über die aktuellen Markt- und Technologieentwicklungen dezentraler Stromspeicher sowie die Einsatzmöglichkeiten und Auswahlkriterien von Solarspeichern. \nAnschließend gehen Marcel Quinten\, Fachbereichsleiter für Energie-\, Umwelt- und Nachhaltigkeitsberatung bei der Handwerkskammer des Saarlandes\, Udo Schmidt\, Landesinnungsmeister der saarländischen Innung für Elektro- und Informationstechnische Handwerke\, und Herr Nicolaus\, Mitarbeiter des Elektrobetriebs Udo Schmidt aus Blieskastel\, auf praktische Umsetzungsmöglichkeiten aus Sicht der Kammer\, Innung und Handwerksbetriebe ein. \nAbschließend stellt Klaus-Dieter Uhrhan die neue Richtlinie zur Förderung von elektrischen Speichersystemen in saarländischen Unternehmen (PV-Speicher Saar) vor und beantwortet Ihre Fragen und Anliegen dazu. \nDie Teilnahme an der Veranstaltung ist kostenfrei. Eine Anmeldung zur Veranstaltung ist allerdings erforderlich.\nAlternativ auch per Mail an energieberatung@wirtschaft.saarland.de oder telefonisch unter 0681 501-2030.\n \nHIER finden Sie auch den offiziellen Einladungsflyer. \n\nProgramm: \n17 Uhr – Begrüßung – Klaus-Dieter Uhrhan\, Referatsleiter E/6\, Ministeriums für Wirtschaft\, Innovation\, Digitales und Energie \n17:05 Uhr – Überblick Aktuelle Technologieentwicklung & Einsatzmöglichkeiten von Solarspeichern\nDr. Jan Figgener\, Gastwissenschaftler an der RWTH Aachen & Gründer von „Battery Charts“ \n18:00 Uhr – Praktische Umsetzungsmöglichkeiten\nMarcel Quinten\, Handwerkskammer des Saarlandes\nUdo Schmidt\, Landesinnungsmeister Elektro\nHerr Nicolaus\, Firma Udo Schmidt Blieskastel \nFrage- und Diskussionsrunde \n18:45 Uhr – Vorstellung der Richtlinie zur Förderung von elektrischen Speichersystemen in saarländischen Unternehmen (PV-Speicher Saar)\nKlaus-Dieter Uhrhan\, Referatsleiter E/6\, Ministeriums für Wirtschaft\, Innovation\, Digitales und Energie\, \nFrage- und Diskussionsrunde \nCa. 19:30 Uhr Ende der Veranstaltung \n  \nHIER GEHT’S ZUR ANMELDUNG. \nAlternativ auch per Mail an energieberatung@wirtschaft.saarland.de oder telefonisch unter 0681 501-2030. \n  \nWenn Sie Ihr Wissen vertiefen möchten\, nutzen Sie das Online-WIKI der Landeskampagne „Energieberatung Saar“: Dort erwarten Sie umfassende Informationen und sorgfältig zusammengestellte Materialien. Erfahren Sie u. a. mehr über Energiesparen\, Energieeffizienz\, energetische Sanierung\, erneuerbare Energien\, Förderprogramme\, effiziente Heizsysteme und viele weitere relevante Themen. Auf unserer stetig wachsenden Wissensplattform „Energiespar WIKI“ finden Sie interessante Informationen zum Stöbern\, Informieren\, und Teilen von Wissen für unterschiedliche Zielgruppen.
URL:https://www.argesolar-saar.de/va/online-infoveranstaltung-foerderung-von-elektrischen-speichersystemen-in-saarlaendischen-unternehmen-aktuelle-technologie-einsatzmoeglichkeiten-von-solarspeichern/
LOCATION:Online
CATEGORIES:Landeskampagne "Energieberatung Saar"
ATTACH;FMTTYPE=image/jpeg:https://www.argesolar-saar.de/wp-content/uploads/2025/05/Logo-Landeskampagne-EBS.jpg
END:VEVENT
END:VCALENDAR