BEGIN:VCALENDAR
VERSION:2.0
PRODID:-//ARGE SOLAR e.V. - ECPv6.15.20//NONSGML v1.0//EN
CALSCALE:GREGORIAN
METHOD:PUBLISH
X-WR-CALNAME:ARGE SOLAR e.V.
X-ORIGINAL-URL:https://www.argesolar-saar.de
X-WR-CALDESC:Veranstaltungen für ARGE SOLAR e.V.
REFRESH-INTERVAL;VALUE=DURATION:PT1H
X-Robots-Tag:noindex
X-PUBLISHED-TTL:PT1H
BEGIN:VTIMEZONE
TZID:Europe/Berlin
BEGIN:DAYLIGHT
TZOFFSETFROM:+0100
TZOFFSETTO:+0200
TZNAME:CEST
DTSTART:20250330T010000
END:DAYLIGHT
BEGIN:STANDARD
TZOFFSETFROM:+0200
TZOFFSETTO:+0100
TZNAME:CET
DTSTART:20251026T010000
END:STANDARD
BEGIN:DAYLIGHT
TZOFFSETFROM:+0100
TZOFFSETTO:+0200
TZNAME:CEST
DTSTART:20260329T010000
END:DAYLIGHT
BEGIN:STANDARD
TZOFFSETFROM:+0200
TZOFFSETTO:+0100
TZNAME:CET
DTSTART:20261025T010000
END:STANDARD
BEGIN:DAYLIGHT
TZOFFSETFROM:+0100
TZOFFSETTO:+0200
TZNAME:CEST
DTSTART:20270328T010000
END:DAYLIGHT
BEGIN:STANDARD
TZOFFSETFROM:+0200
TZOFFSETTO:+0100
TZNAME:CET
DTSTART:20271031T010000
END:STANDARD
END:VTIMEZONE
BEGIN:VEVENT
DTSTART;TZID=Europe/Berlin:20260210T150000
DTEND;TZID=Europe/Berlin:20260210T180000
DTSTAMP:20260420T022059
CREATED:20260130T090237Z
LAST-MODIFIED:20260130T100150Z
UID:15225-1770735600-1770746400@www.argesolar-saar.de
SUMMARY:PERSÖNLICHE ENERGIEBERATUNG – individuelle und kostenlose Beratung zu Fragen rund um Energetische Sanierung\, Erneuerbare Energien-Anlagen & Informationen zu Erneuerbaren Energie-Gemeinschaften!
DESCRIPTION:An den folgenden Terminen bieten die Stadtwerke Saarlouis GmbH in Zusammenarbeit mit den Expert:innen der ARGE SOLAR e.V. die Möglichkeit\, kostenlos und neutral zu den Themen Erneuerbaren Energien\, Sanierung der Gebäudehülle und Erneuerbare Energie- Gemeinschaften beraten zu werden. \n\n10. Februar 2026\n24. Februar 2026\n17. März 2026\n31. März 2026\n\nSollten Sie Fragen dazu haben\, wie Sie Ihr Gebäude energieeffizient Sanieren\, welche Möglichkeiten Sie bei der Erneuerung Ihrer Heizung haben\, was eine Erneuerbare Energie-Gemeinschaft ist oder wie sie sich daran beteiligen können\, dann können Sie sich gerne zu einem der obigen Termine anmelden. Ihre Fragen werden dann in ca. 30 minütigen individuellen Gesprächen von unseren Fachexperten umfassend beantwortet. \nDie Beratungsnachmittage finden jeweils von 15:00 bis 18:00 Uhr in den Räumlichkeiten der Stadtwerke Saarlouis\, Holtzendorffer Str. 12\, 66740 Saarlouis\, statt. \nEine Anmeldung bis zum Vortag ist dringend erforderlich. Dies ist über die Online-Terminbuchungsseite der Stadtwerke Saarlouis möglich. Die Anzahl der Terminslots ist begrenzt\, sichern Sie sich Ihren Termin am besten sofort. \nDas Angebot der hier beworbenen neutralen Energieberatung hat sich aus der gemeinsamen Zusammenarbeit im Projekt „Modell Zur Umsetzung von Erneuerbare Energie (EE) – Gemeinschaften“ ergeben. Sollten Sie ein grundsätzliches Interesse am Thema Erneuerbare Energie-Gemeinschaften haben\, stellen wir Ihnen gerne basisorientierte Informationsmaterialien zur Verfügung.
URL:https://www.argesolar-saar.de/va/persoenliche-energieberatung-individuelle-und-kostenlose-beratung-zu-fragen-rund-um-energetische-sanierung-erneuerbare-energien-anlagen-informationen-zu-erneuerbaren-energie-gemeinschafte/
LOCATION:Stadtwerke Saarlouis (Holtzendorffer Str. 12\, 66740 Saarlouis)
CATEGORIES:EEGE
ATTACH;FMTTYPE=image/png:https://www.argesolar-saar.de/wp-content/uploads/2026/01/Beratung-EEGe.png
END:VEVENT
END:VCALENDAR