BEGIN:VCALENDAR
VERSION:2.0
PRODID:-//ARGE SOLAR e.V. - ECPv6.15.20//NONSGML v1.0//EN
CALSCALE:GREGORIAN
METHOD:PUBLISH
X-ORIGINAL-URL:https://www.argesolar-saar.de
X-WR-CALDESC:Veranstaltungen für ARGE SOLAR e.V.
REFRESH-INTERVAL;VALUE=DURATION:PT1H
X-Robots-Tag:noindex
X-PUBLISHED-TTL:PT1H
BEGIN:VTIMEZONE
TZID:Europe/Berlin
BEGIN:DAYLIGHT
TZOFFSETFROM:+0100
TZOFFSETTO:+0200
TZNAME:CEST
DTSTART:20250330T010000
END:DAYLIGHT
BEGIN:STANDARD
TZOFFSETFROM:+0200
TZOFFSETTO:+0100
TZNAME:CET
DTSTART:20251026T010000
END:STANDARD
BEGIN:DAYLIGHT
TZOFFSETFROM:+0100
TZOFFSETTO:+0200
TZNAME:CEST
DTSTART:20260329T010000
END:DAYLIGHT
BEGIN:STANDARD
TZOFFSETFROM:+0200
TZOFFSETTO:+0100
TZNAME:CET
DTSTART:20261025T010000
END:STANDARD
BEGIN:DAYLIGHT
TZOFFSETFROM:+0100
TZOFFSETTO:+0200
TZNAME:CEST
DTSTART:20270328T010000
END:DAYLIGHT
BEGIN:STANDARD
TZOFFSETFROM:+0200
TZOFFSETTO:+0100
TZNAME:CET
DTSTART:20271031T010000
END:STANDARD
END:VTIMEZONE
BEGIN:VEVENT
DTSTART;TZID=Europe/Berlin:20260203T100000
DTEND;TZID=Europe/Berlin:20260203T123000
DTSTAMP:20260420T022709
CREATED:20251215T115927Z
LAST-MODIFIED:20260116T085106Z
UID:15077-1770112800-1770121800@www.argesolar-saar.de
SUMMARY:2. Fachtagung Forschungsprojekt EE-Gemeinschaften
DESCRIPTION:Rechtliche\, regulatorische und technische Entwicklungen sowie Umsetzungsbeispiele im Bereich des Energy Sharing \nWann: Dienstag\, 3. Februar 2026\, 10:00 bis 12:30 Uhr\nWo: Stadtwerke Saarlouis\, Holtzendorffer Str. 12\, 66740 Saarlouis. Es besteht auch die Möglichkeit einer online-Teilnahme.\nZielgruppe: Netzbetreiber\, Stadtwerke\, Vertreter*innen aus der Bürgerenergie\, Kommunen \nIn unserem Forschungsprojekt untersuchen wir gemeinsam mit unseren Partnern\, wie eine sog. Erneuerbare-Energie-Gemeinschaft (EE-Gemeinschaft) ganz konkret in die Praxis umgesetzt werden kann. Gerade bzgl. der Umsetzungsmöglichkeiten hat sich seit Projektstart viel getan. Es gibt mittlerweile viele Möglichkeiten\, Energie und speziell Strom aus Erneuerbaren Energien in größerem Stil zu teilen. \nHierüber möchten wie Sie informieren und Ihnen Beispiele vorstellen. Auch die Aufgaben und Rollen von Netzbetreibern\, Stadtwerken und sonstigen Energieversorgern werden wir anhand von Beispielen darstellen und mit Ihnen diskutieren. Denn das Energy Sharing bietet neben noch immer bestehenden Hürden auch Chancen für alle beteiligten Akteure. \n  \nHier finden Sie eine Anmeldung zur Veranstaltung. \nEinwahllink: Wenn Sie sich zur online-Teilnahme anmelden\, erhalten Sie Ihren Einwahllink einen Tag vor der Veranstaltung. \n  \nProgrammentwurf (Stand 15.01.2026) \n10.00 h Begrüßung: \n\nRalf Levacher\, Geschäftsführung der Stadtwerke SLS\nBarbara Dröschel\, IZES gGmbH\n\n10.15 h Stand im Forschungsprojekt ModellEEGe\, Barbara Dröschel\, IZES \n10.35 h Neue gesetzliche Grundlagen für das Energy Sharing\, Felicitas Strauch\, vbvh Berlin \n10.55 h Der Blick über den Tellerrand – Wie unsere Nachbarn das Energy Sharing umsetzen\, Dr. Constanze Adolf\, Items GmbH \n11.15 h Stadtwerkewelt von morgen: Gemeinsam angehen und Lösungen schaffen\, Eva Kiefer-Kremer\, KEW Neunkirchen\, Steven Eich\, SW Saarlouis \n11.40 h Energy-Sharing-Varianten für Energieversorger und Erfahrungen aus dem DACH-Gebiet\, Thies Stillahn\, Exnaton \n12.00 h Diskussion\, Moderation Barbara Dröschel \n12.30h Ende der Veranstaltung und Mittagsimbiss \n  \n  \n  \n 
URL:https://www.argesolar-saar.de/va/2-fachtagung-forschungsprojekt-ee-gemeinschaften/
LOCATION:Stadtwerke Saarlouis (Holtzendorffer Str. 12\, 66740 Saarlouis) oder Online (Webex)
CATEGORIES:EEGE
ATTACH;FMTTYPE=image/png:https://www.argesolar-saar.de/wp-content/uploads/2024/12/EEGE-1.png
END:VEVENT
END:VCALENDAR