BEGIN:VCALENDAR
VERSION:2.0
PRODID:-//ARGE SOLAR e.V. - ECPv6.15.20//NONSGML v1.0//EN
CALSCALE:GREGORIAN
METHOD:PUBLISH
X-WR-CALNAME:ARGE SOLAR e.V.
X-ORIGINAL-URL:https://www.argesolar-saar.de
X-WR-CALDESC:Veranstaltungen für ARGE SOLAR e.V.
REFRESH-INTERVAL;VALUE=DURATION:PT1H
X-Robots-Tag:noindex
X-PUBLISHED-TTL:PT1H
BEGIN:VTIMEZONE
TZID:Europe/Berlin
BEGIN:DAYLIGHT
TZOFFSETFROM:+0100
TZOFFSETTO:+0200
TZNAME:CEST
DTSTART:20240331T010000
END:DAYLIGHT
BEGIN:STANDARD
TZOFFSETFROM:+0200
TZOFFSETTO:+0100
TZNAME:CET
DTSTART:20241027T010000
END:STANDARD
BEGIN:DAYLIGHT
TZOFFSETFROM:+0100
TZOFFSETTO:+0200
TZNAME:CEST
DTSTART:20250330T010000
END:DAYLIGHT
BEGIN:STANDARD
TZOFFSETFROM:+0200
TZOFFSETTO:+0100
TZNAME:CET
DTSTART:20251026T010000
END:STANDARD
BEGIN:DAYLIGHT
TZOFFSETFROM:+0100
TZOFFSETTO:+0200
TZNAME:CEST
DTSTART:20260329T010000
END:DAYLIGHT
BEGIN:STANDARD
TZOFFSETFROM:+0200
TZOFFSETTO:+0100
TZNAME:CET
DTSTART:20261025T010000
END:STANDARD
END:VTIMEZONE
BEGIN:VEVENT
DTSTART;TZID=Europe/Berlin:20251208T150000
DTEND;TZID=Europe/Berlin:20251208T170000
DTSTAMP:20260420T051456
CREATED:20251114T082455Z
LAST-MODIFIED:20251205T125923Z
UID:15034-1765206000-1765213200@www.argesolar-saar.de
SUMMARY:Landeskampagne „Energieberatung Saar“ – IMPULS Online-Fachveranstaltung: „Wärmepumpenmarkt – Entwicklungen\, Rahmenbedingungen und Ausblick 2026“
DESCRIPTION:Am Montag\, den 08.12.2025 lädt die Landeskampagne „Energieberatung Saar“ von 15:00 bis 17:00 Uhr in Kooperation mit dem Bundesverband Wärmepumpe (BWP) e.V. zu einer Online-Fachveranstaltung rund um das Thema „Wärmepumpenmarkt“ ein. \n  \nZu Beginn wird Henrike Jacob\, Leiterin des Referats Energiepolitik & Energiewende im Ministerium für Wirtschaft\, Innovation\, Digitales und Energie des Saarlandes\, die Potenzialanalyse zur Wärmewende vorstellen. Dabei werden aktuelle Erkenntnisse über die technischen und wirtschaftlichen Möglichkeiten einer nachhaltigen Wärmeversorgung präsentiert und aufgezeigt\, wie Wärmepumpen einen zentralen Beitrag zur Erreichung der Klimaziele leisten können. \nIm Anschluss gibt Johanna Otting vom Bundesverband Wärmepumpe (BWP) e.V. einen umfassenden Überblick über den Wärmepumpenmarkt. Sie beleuchtet aktuelle Marktentwicklungen\, die politischen und wirtschaftlichen Rahmenbedingungen sowie einen Ausblick auf das Jahr 2026. Im Fokus stehen dabei sowohl technologische Trends als auch Herausforderungen\, etwa im Bereich Fachkräftemangel\, Energiepreise und Akzeptanz der Technologie. \n  \nHier finden Sie eine Einladung zur Veranstaltung mit Programm. \n  \nPROGRAMM:\n15.00 Uhr – Begrüßung\n15.15 Uhr – „Vorstellung Potenzialanalyse Wärmewende“ – Henrike Jacob\, Leiterin Referat F/1 Energiepolitik & Energiewende\, Ministerium für Wirtschaft\, Innovation\, Digitales und Energie des Saarlandes\n15.45 Uhr – „Wärmepumpen – Marktüberblick\, Marktentwicklungen\, Rahmenbedingungen und Ausblick 2026“\, Johanna Otting vom Bundesverband Wärmepumpe (BWP) e.V.\n16.30 Uhr – Fragen und Diskussion\n17.00 Uhr – Ende \nModeration: Ralph Schmidt\, Arge Solar e.V. \n  \nDie Teilnahme an der Veranstaltung ist kostenfrei.\nEine Anmeldung ist allerdings erforderlich.
URL:https://www.argesolar-saar.de/va/landeskampagne-energieberatung-saar-impuls-online-fachveranstaltung-waermepumpenmarkt-entwicklungen-rahmenbedingungen-und-ausblick-2026/
LOCATION:Online
CATEGORIES:Landeskampagne "Energieberatung Saar"
ATTACH;FMTTYPE=image/png:https://www.argesolar-saar.de/wp-content/uploads/2025/05/EBS-eckig.png
END:VEVENT
END:VCALENDAR