BEGIN:VCALENDAR
VERSION:2.0
PRODID:-//ARGE SOLAR e.V. - ECPv6.15.20//NONSGML v1.0//EN
CALSCALE:GREGORIAN
METHOD:PUBLISH
X-WR-CALNAME:ARGE SOLAR e.V.
X-ORIGINAL-URL:https://www.argesolar-saar.de
X-WR-CALDESC:Veranstaltungen für ARGE SOLAR e.V.
REFRESH-INTERVAL;VALUE=DURATION:PT1H
X-Robots-Tag:noindex
X-PUBLISHED-TTL:PT1H
BEGIN:VTIMEZONE
TZID:Europe/Berlin
BEGIN:DAYLIGHT
TZOFFSETFROM:+0100
TZOFFSETTO:+0200
TZNAME:CEST
DTSTART:20240331T010000
END:DAYLIGHT
BEGIN:STANDARD
TZOFFSETFROM:+0200
TZOFFSETTO:+0100
TZNAME:CET
DTSTART:20241027T010000
END:STANDARD
BEGIN:DAYLIGHT
TZOFFSETFROM:+0100
TZOFFSETTO:+0200
TZNAME:CEST
DTSTART:20250330T010000
END:DAYLIGHT
BEGIN:STANDARD
TZOFFSETFROM:+0200
TZOFFSETTO:+0100
TZNAME:CET
DTSTART:20251026T010000
END:STANDARD
BEGIN:DAYLIGHT
TZOFFSETFROM:+0100
TZOFFSETTO:+0200
TZNAME:CEST
DTSTART:20260329T010000
END:DAYLIGHT
BEGIN:STANDARD
TZOFFSETFROM:+0200
TZOFFSETTO:+0100
TZNAME:CET
DTSTART:20261025T010000
END:STANDARD
END:VTIMEZONE
BEGIN:VEVENT
DTSTART;TZID=Europe/Berlin:20251202T150000
DTEND;TZID=Europe/Berlin:20251202T193000
DTSTAMP:20260420T051424
CREATED:20251107T085650Z
LAST-MODIFIED:20251107T091617Z
UID:15019-1764687600-1764703800@www.argesolar-saar.de
SUMMARY:Individuelle Energieberatung bei den Stadtwerken Saarlouis
DESCRIPTION:Individuelle und kostenlose Beratung zu Fragen rund um Energetische Sanierung\, Erneuerbare Energien-Anlagen & Energieeffizienz! \n  \nDas Institut für Zukunfts Energie- und Stoffstromsysteme (IZES)\, die Stadtwerke Saarlouis und die ARGE SOLAR e.V. arbeiten gemeinsam an dem Projekt „Modell zur Umsetzung von Erneuerbare Energie (EE) – Gemeinschaften“.\nZiel des Projekts ist es\, zusammen mit den Bewohner:innen im Versorgungsgebiet der Stadtwerke Saarlouis eine modellhafte Erneuerbare Energie-Gemeinschaft zu entwickeln\, die das einfache Stromteilen über das öffentliche Netz ermöglicht und möglichst alle\, auch diejenigen ohne eigene PV-Anlage\, einbindet. Durch gemeinschaftliche Investitionen in erneuerbare Energien soll der Strom für alle günstiger werden\, die Versorgung langfristig ohne fossile Energien gesichert und die Energiewende vorangetrieben werden. \nIm Rahmen dieses Projekts bieten die ARGE SOLAR e.V. und die Stadtwerke Saarlouis kostenlose Beratungsveranstaltungen an\, um über Themen wie „Energetische Sanierung“\, „Erneuerbare Energien“ oder „Energieeffizienter Neubau“ zu informieren. Die Beratungstermine werden als offene Sprechstunden angeboten\, bei denen für jede Person etwa 30-45 Minuten vorgesehen sind. In dieser Zeit stehen Ihnen unsere Fachexperten zur Verfügung\, um Sie umfassend zu beraten und all Ihre Fragen zu beantworten. \nDer nächste Beratungstermin findet am Dienstag\, den 02.12.25 von 15:00 bis 19:30 Uhr in den Räumlichkeiten der Stadtwerke Saarlouis (Holtzendorffer Str. 12\, 66740 Saarlouis) statt. \n  \n  \n\n\nDie Anmeldung zu Ihrer persönlichen Energieberatung erfolgt über die Online-Terminbuchungsseite der Stadtwerke Saarlouis. \nDort finden Sie alle zurzeit verfügbaren Termine\, für zusätzliche Termine können Sie uns gerne jederzeit anfragen! \n\n\n\n\n\n\nLeider gibt es nur eine begrenzte Anzahl von Terminen – sichern Sie sich jetzt Ihren Platz!
URL:https://www.argesolar-saar.de/va/persoenliche-energieberatung-bei-den-stadtwerken-saarlouis/
LOCATION:Privat: Stadtwerke Saarlouis\, Holtzendorffer Straße 12\, 66740 Saarlouis\, Saarland\, Germany
CATEGORIES:EEGE
ATTACH;FMTTYPE=image/jpeg:https://www.argesolar-saar.de/wp-content/uploads/2025/11/VA-EEGe.jpg
END:VEVENT
END:VCALENDAR