BEGIN:VCALENDAR
VERSION:2.0
PRODID:-//ARGE SOLAR e.V. - ECPv6.15.20//NONSGML v1.0//EN
CALSCALE:GREGORIAN
METHOD:PUBLISH
X-ORIGINAL-URL:https://www.argesolar-saar.de
X-WR-CALDESC:Veranstaltungen für ARGE SOLAR e.V.
REFRESH-INTERVAL;VALUE=DURATION:PT1H
X-Robots-Tag:noindex
X-PUBLISHED-TTL:PT1H
BEGIN:VTIMEZONE
TZID:Europe/Berlin
BEGIN:DAYLIGHT
TZOFFSETFROM:+0100
TZOFFSETTO:+0200
TZNAME:CEST
DTSTART:20240331T010000
END:DAYLIGHT
BEGIN:STANDARD
TZOFFSETFROM:+0200
TZOFFSETTO:+0100
TZNAME:CET
DTSTART:20241027T010000
END:STANDARD
BEGIN:DAYLIGHT
TZOFFSETFROM:+0100
TZOFFSETTO:+0200
TZNAME:CEST
DTSTART:20250330T010000
END:DAYLIGHT
BEGIN:STANDARD
TZOFFSETFROM:+0200
TZOFFSETTO:+0100
TZNAME:CET
DTSTART:20251026T010000
END:STANDARD
BEGIN:DAYLIGHT
TZOFFSETFROM:+0100
TZOFFSETTO:+0200
TZNAME:CEST
DTSTART:20260329T010000
END:DAYLIGHT
BEGIN:STANDARD
TZOFFSETFROM:+0200
TZOFFSETTO:+0100
TZNAME:CET
DTSTART:20261025T010000
END:STANDARD
END:VTIMEZONE
BEGIN:VEVENT
DTSTART;TZID=Europe/Berlin:20251124T180000
DTEND;TZID=Europe/Berlin:20251124T193000
DTSTAMP:20260420T065642
CREATED:20250915T092843Z
LAST-MODIFIED:20251013T114240Z
UID:14788-1764007200-1764012600@www.argesolar-saar.de
SUMMARY:Landeskampagne “Energieberatung Saar” – Online-Vortrag für Haus & Grund Mitglieder: „Solarenergie sinnvoll nutzen – Strom und Wärme von der Sonne“
DESCRIPTION:Die Landeskampagne “Energieberatung Saar” bietet am 24. November 2025 von 18 bis 19:30 Uhr exklusiv für Haus & Grund Mitglieder im Saarland einen Onlinevortrag zum Thema “Solarenergie sinnvoll nutzen” an. \nReferent ist Diplomingenieur und Architekt Ralph Schmidt\, Geschäftsführer der ARGE SOLAR e.V. und Vorsitzender der Gebäudeenergieberater Saarland e.V. \nNachhaltiges\, ressourcenschonendes und klimafreundliches Bauen gewinnt zunehmend an Bedeutung und wird immer mehr nachgefragt. Dabei spielt der Einsatz erneuerbarer Energien insbesondere die Erzeugung von Solarstrom durch Photovoltaik und Wärme durch Solarthermie eine zunehmend größere Bedeutung. Die Anwendungsmöglichkeiten von Photovoltaik in und an Gebäuden haben sich ebenfalls deutlich erweitert. Neben Dachanwendungen (Strom- und Wärmeerzeugung) kann bauwerkintegrierte Photovoltaik (BIPV) in der Fassade Aufgaben erfüllen\, die deutlich über die Stromgewinnung hinausgehen. \nIm Online-Vortrag gibt es ausführliche Informationen zum aktuellen technischen Stand von Solar- und Photovoltaikanlagen. Daneben gehen wir auf die Technik\, die Möglichkeit der eigenen Nutzung des selbst erzeugten Solarstroms und auf die Kombination von Photovoltaik-Anlagen und Batteriespeichern ein. Die Wirtschaftlichkeit und die Kosten für Neuanlagen sowie vorhandene Fördermöglichkeiten werden ebenso beleuchtet wie aktuelle Trends der Fassadenverkleidung mit PV-Anlagen oder Balkonkraftwerke. Fragen und Anliegen der Teilnehmenden werden im Anschluss aufgegriffen und besprochen. \nDie Veranstaltung richtet sich an die Mitglieder von Haus & Grund Saarland. Die Teilnahme ist kostenfrei\, eine Anmeldung ist jedoch erforderlich. Melden Sie sich HIER online an oder per E-Mail an energieberatung@wirtschaft.saarland.de. \nDiese Veranstaltung ist Teil einer Veranstaltungsreihe für Mitglieder von Haus & Grund Saarland.\nWeitere Termine: \n\nMontag\, 06.10.25\, 18.00-19:30 Uhr\, online\nEnergetische Gebäudesanierung und Energiesparen zu Hause – größere und geringinvestive Maßnahmen\, alles Wissenswerte für Hausbesitzer\nMontag\, 20.10.25\, 18.00-19:30 Uhr\, online\n„Die „richtige“ Heizung für mein Haus“ – Wissenswertes für Hausbesitzer: Optimierung bestehender Anlagen\, Techniken\, Förderprogramme und gesetzliche Vorgaben
URL:https://www.argesolar-saar.de/va/landeskampagne-energieberatung-saar-online-vortrag-fuer-haus-grund-mitglieder-solarenergie-sinnvoll-nutzen-strom-und-waerme-von-der-sonne/
LOCATION:Online
CATEGORIES:Haus & Grund Saarland,Landeskampagne "Energieberatung Saar"
ATTACH;FMTTYPE=image/png:https://www.argesolar-saar.de/wp-content/uploads/2025/05/EBSHaus-Grund.png
END:VEVENT
END:VCALENDAR