BEGIN:VCALENDAR
VERSION:2.0
PRODID:-//ARGE SOLAR e.V. - ECPv6.15.20//NONSGML v1.0//EN
CALSCALE:GREGORIAN
METHOD:PUBLISH
X-WR-CALNAME:ARGE SOLAR e.V.
X-ORIGINAL-URL:https://www.argesolar-saar.de
X-WR-CALDESC:Veranstaltungen für ARGE SOLAR e.V.
REFRESH-INTERVAL;VALUE=DURATION:PT1H
X-Robots-Tag:noindex
X-PUBLISHED-TTL:PT1H
BEGIN:VTIMEZONE
TZID:Europe/Berlin
BEGIN:DAYLIGHT
TZOFFSETFROM:+0100
TZOFFSETTO:+0200
TZNAME:CEST
DTSTART:20240331T010000
END:DAYLIGHT
BEGIN:STANDARD
TZOFFSETFROM:+0200
TZOFFSETTO:+0100
TZNAME:CET
DTSTART:20241027T010000
END:STANDARD
BEGIN:DAYLIGHT
TZOFFSETFROM:+0100
TZOFFSETTO:+0200
TZNAME:CEST
DTSTART:20250330T010000
END:DAYLIGHT
BEGIN:STANDARD
TZOFFSETFROM:+0200
TZOFFSETTO:+0100
TZNAME:CET
DTSTART:20251026T010000
END:STANDARD
BEGIN:DAYLIGHT
TZOFFSETFROM:+0100
TZOFFSETTO:+0200
TZNAME:CEST
DTSTART:20260329T010000
END:DAYLIGHT
BEGIN:STANDARD
TZOFFSETFROM:+0200
TZOFFSETTO:+0100
TZNAME:CET
DTSTART:20261025T010000
END:STANDARD
END:VTIMEZONE
BEGIN:VEVENT
DTSTART;TZID=Europe/Berlin:20251016T180000
DTEND;TZID=Europe/Berlin:20251016T200000
DTSTAMP:20260420T082016
CREATED:20251013T095531Z
LAST-MODIFIED:20251013T135739Z
UID:14953-1760637600-1760644800@www.argesolar-saar.de
SUMMARY:„WärmeOffensive“ – Veranstaltung im Landkreis Neunkirchen
DESCRIPTION:Veranstaltung des Kommunalen Klimaschutz-Netzwerks im Landkreis Neunkirchen (KKSN) und BUND Saar in Kooperation mit der Gemeinde Eppelborn\, der Verbraucherzentrale Saarland und der Landeskampagne „Energieberatung Saar“. \n  \nPROGRAMM \nTEIL I \n18:00 Uhr: Begrüßung | Einführung \n\nGrußworte\, Bürgermeister Andreas Hübgen\nVorstellung „SolarOffensive“\, Meike Tatay\, BUND Saar\nImpulsvortrag: Jetzt wird’s warm – Wie wir die Wärmewende gemeinsam umsetzen – Christina Morlo-Martin\, Klimaschutzmanagerin\, Kreisbauamt des Landkreises Neunkirchen\n\nTEIL II \n18:45 Uhr: Kurzvorträge zu verschiedenen Themenbereichen: \n\nWärmedämmung + X  – Sabine Zägel\, Verbraucherzentrale Saarland\nArtenschutz am Gebäude: Geeignete Nisthilfen für heimische Arten  – Franziska Fischer\, Kompetenzstelle für Vogelschutz im Saarland (KViS)\, Landesamt für Umwelt- und Arbeitsschutz\nWärmedämmung selbst erlebt  – ein Bericht für alle\, die nachrüsten wollen – Carolin Schumann\, Bürgerin der Gemeinde Illingen\n\n20:00 Uhr: Veranstaltungsende \n  \nDie Teilnahme an der Veranstaltung ist kostenfrei\, eine Anmeldung ist jedoch erforderlich. \nEine Anmeldung ist online und telefonisch möglich:\nOnline: https://www.kvhs-neunkirchen.de/kurssuche/kurs/WaermeOffensive-Jetzt-wirds-warm-Wie-wir-die-Waermewende-gemeinsam-umsetzen/252-1123\nTelefon: 06824 906-5335 \n  \nDen Flyer mit Einladung finden Sie hier.
URL:https://www.argesolar-saar.de/va/waermeoffensive-veranstaltung-im-landkreis-neunkirchen/
LOCATION:Großer Sitzungsaal im Rathaus Illingen\, Hauptstr. 86\, 66557 Illingen
CATEGORIES:Landeskampagne "Energieberatung Saar"
ATTACH;FMTTYPE=image/jpeg:https://www.argesolar-saar.de/wp-content/uploads/2025/10/KKSN-und-BUND.jpg
END:VEVENT
END:VCALENDAR