BEGIN:VCALENDAR
VERSION:2.0
PRODID:-//ARGE SOLAR e.V. - ECPv6.15.20//NONSGML v1.0//EN
CALSCALE:GREGORIAN
METHOD:PUBLISH
X-WR-CALNAME:ARGE SOLAR e.V.
X-ORIGINAL-URL:https://www.argesolar-saar.de
X-WR-CALDESC:Veranstaltungen für ARGE SOLAR e.V.
REFRESH-INTERVAL;VALUE=DURATION:PT1H
X-Robots-Tag:noindex
X-PUBLISHED-TTL:PT1H
BEGIN:VTIMEZONE
TZID:Europe/Berlin
BEGIN:DAYLIGHT
TZOFFSETFROM:+0100
TZOFFSETTO:+0200
TZNAME:CEST
DTSTART:20240331T010000
END:DAYLIGHT
BEGIN:STANDARD
TZOFFSETFROM:+0200
TZOFFSETTO:+0100
TZNAME:CET
DTSTART:20241027T010000
END:STANDARD
BEGIN:DAYLIGHT
TZOFFSETFROM:+0100
TZOFFSETTO:+0200
TZNAME:CEST
DTSTART:20250330T010000
END:DAYLIGHT
BEGIN:STANDARD
TZOFFSETFROM:+0200
TZOFFSETTO:+0100
TZNAME:CET
DTSTART:20251026T010000
END:STANDARD
BEGIN:DAYLIGHT
TZOFFSETFROM:+0100
TZOFFSETTO:+0200
TZNAME:CEST
DTSTART:20260329T010000
END:DAYLIGHT
BEGIN:STANDARD
TZOFFSETFROM:+0200
TZOFFSETTO:+0100
TZNAME:CET
DTSTART:20261025T010000
END:STANDARD
END:VTIMEZONE
BEGIN:VEVENT
DTSTART;TZID=Europe/Berlin:20251008T100000
DTEND;TZID=Europe/Berlin:20251008T120000
DTSTAMP:20260420T081902
CREATED:20250822T101537Z
LAST-MODIFIED:20250925T065811Z
UID:14597-1759917600-1759924800@www.argesolar-saar.de
SUMMARY:Veranstaltung der Landeskampagne „Energieberatung Saar“ für Mitglieder von Haus & Grund Saarland - Besichtigung und Führung durch das Heizkraftwerk Camphausen der Iqony Energies GmbH
DESCRIPTION:Landeskampagne “Energieberatung Saar” – Besichtigung und Führung durch das Heizkraftwerk Camphausen der Iqony Energies GmbH – Innovative Wärmelösung mittels KWK-Anlage\, Wärmepumpe und Grubenwasser als Wärmequelle \nMittwoch\, 08.10.25\, 10.00 – ca. 12:00 Uhr\, Heizkraftwerk Camphausen\, An der Grube Camphausen 1\, 66287 Quierschied \nNach intensiver Vorbereitung hat die Saarbrücker Iqony Energies GmbH\, eine Tochtergesellschaft des Essener Energieunternehmens Iqony\, die Modernisierung und den damit verbundenen Umbau ihrer bestehenden Fernwärmeerzeugungsanlagen und ihres Fernwärmenetzes auf dem Gelände der früheren Zeche Camphausen zu einer innovativen und klimaneutralen Wärmeerzeugung Ende 2023 umgesetzt. Dabei wird Abwärme aus Grubenwasser der RAG als neue Wärmequelle erschlossen und für die Fernwärmeversorgung der Stadt Sulzbach zur Verfügung gestellt. Dadurch werden zukünftig jährliche CO2-Emissionen von mehr als 6.000 Tonnen vermieden. \nTechnisch besteht das Projekt aus drei aufeinander abgestimmten Komponenten: einer konventionellen KWK-Anlage\, der erneuerbaren Wärmequelle in Form des Grubenwassers und einer Wärmepumpe\, die die im Grubenwasser enthaltene Restwärme von etwa 36 Grad für die Fernwärmeversorgung nutzbar macht. Im Rahmen der Besichtigung und Führung durch das Heizkraftwerk Camphausen besteht die Möglichkeit die Anlage und deren Funktionsweise direkt vor Ort kennenzulernen und aus erster Hand Informationen zum innovativen Ansatz und die Möglichkeiten der Nutzung von Grubenwasser als Wärmequelle zu erfahren. Die Führung erfolgt durch Mitarbeiter der Heizkraftwerke Camphausen und Weiher. \n  \nDie Veranstaltung richtet sich an die Mitglieder von Haus & Grund Saarland. \nDie Teilnahme ist kostenfrei\, eine Anmeldung per E-Mail an energieberatung@wirtschaft.saarland.de ist jedoch erforderlich. \nDie Teilnehmerzahl ist auf 30 Personen beschränkt. \n 
URL:https://www.argesolar-saar.de/va/veranstaltung-der-landeskampagne-energieberatung-saar-fuer-mitglieder-von-haus-grund-saarland-besichtigung-und-fuehrung-durch-das-heizkraftwerk-camphausen-der-iqony-energies-gmbh/
LOCATION:Heizkraftwerk Camphausen\, An der Grube Camphausen 1\, 66287 Quierschied – Die Veranstaltung findet im Rahmen der Aktionswoche “Das Saarland voller Energie” statt
CATEGORIES:Aktionswoche 25,Landeskampagne "Energieberatung Saar"
ATTACH;FMTTYPE=image/png:https://www.argesolar-saar.de/wp-content/uploads/2025/08/Iqony-EBS.png
END:VEVENT
BEGIN:VEVENT
DTSTART;TZID=Europe/Berlin:20251008T180000
DTEND;TZID=Europe/Berlin:20251008T180000
DTSTAMP:20260420T081902
CREATED:20250901T084629Z
LAST-MODIFIED:20250901T090555Z
UID:14702-1759946400-1759946400@www.argesolar-saar.de
SUMMARY:Klima Projekt Neunkirchen: Informationsveranstaltung Wärmepumpe
DESCRIPTION:Über den Umstieg auf eine klimafreundliche Heizung denken viele Eigentümer nach. Aber ist mein Gebäude für eine Wärmepumpe geeignet oder muss ich erst umfassend sanieren? Cathrin Becker\, Energieberaterin der Verbraucherzentrale\, erläutert im Vortrag\, welche Arten von Wärmepumpen es gibt und wie man wirtschaftlich mit einer Wärmepumpe heizen kann. Ist eine Wärmepumpe laut\, brauche ich eine Fußbodenheizung\, kann ich die Wärmepumpe auch ohne PV-Anlage betreiben und welche Zuschüsse erhalte ich vom Staat? Diese und weitere Fragen werden im Vortrag besprochen\, um interessierte Bürger bei der Entscheidung für erneuerbare Heizungstechnik zu unterstützen. \n\nAufgrund des Raumangebotes ist eine Anmeldung erforderlich.\nAlternativ können Sie sich auch telefonisch unter 06821 202-228 anmelden.\nAnmeldeschluss ist der 7.10.2025. \n\nDie Veranstaltung findet am Mittwoch\, den 8.10.2025\, 18:00 Uhr im KOMMzentrum (Kleiststraße 30b\, 66538 Neunkirchen) statt.
URL:https://www.argesolar-saar.de/va/klimaprojekt-neunkirchen-informationsveranstaltung-waermepumpe/
LOCATION:KOMMzentrum Neunkirchen\, Kleiststraße 30b\, 66538 Neunkirchen – Die Veranstaltung findet im Rahmen der Aktionswoche “Das Saarland voller Energie” statt
CATEGORIES:Aktionswoche 25,Landeskampagne "Energieberatung Saar"
ATTACH;FMTTYPE=image/png:https://www.argesolar-saar.de/wp-content/uploads/2025/03/logo-klimaprojekt-neunkirchen-content.png
END:VEVENT
BEGIN:VEVENT
DTSTART;TZID=Europe/Berlin:20251008T180000
DTEND;TZID=Europe/Berlin:20251008T193000
DTSTAMP:20260420T081902
CREATED:20250131T154755Z
LAST-MODIFIED:20250822T104419Z
UID:13587-1759946400-1759951800@www.argesolar-saar.de
SUMMARY:Landeskampagne „Energieberatung Saar“ – Online-Infoveranstaltung: Energiesparen durch Heizungsoptimierung
DESCRIPTION:Am Mittwoch\, den 08.10.2025 bietet die Landeskampagne „Energieberatung Saar“ in Kooperation mit der Verbraucherzentrale Saarland von 18:00 bis 19:30 Uhr einen Online-Vortrag zum Thema „Energiesparen durch Heizungsoptimierung“ an. \nMit steigenden Energiekosten wird das Thema Heizungsoptimierung immer interessanter. Die Energieberaterin der Verbraucherzentrale erläutert im Rahmen des Vortrags\, dass viele Heizungsanlagen bei einer optimalen Abstimmung aller Komponenten aufeinander\, wesentlich energiesparender arbeiten können. Oft wird nach energetischen Sanierungsmaßnahmen am Gebäude die Heizungsanlage nicht an die verbesserte Situation angepasst. Auch bei einer Erneuerung des Wärmeerzeugers wird immer wieder die Chance verpasst\, die Heizungsanlage insgesamt zu optimieren. Hier schlummern Einsparpotenziale\, die mit relativ geringem Investitionsaufwand behoben werden können. Was verbirgt sich hinter den Begriffen hydraulischer Abgleich\, Heizkennlinie\, Brennwert-Check und Hocheffizienzpumpe? Welche Fördermöglichkeiten gibt es? \n  \nDie Teilnahme ist kostenfrei. Eine Anmeldung ist allerdings erforderlich. \n  \nINFO: Die Landeskampagne „Energieberatung Saar“ organisiert in Zusammenarbeit mit der Verbraucherzentrale Saarland in diesem Jahr eine informative Veranstaltungsreihe. Jeden Monat finden spannende Vorträge zu Themen wie Energiewende\, Energieeffizienz und weiteren Aspekten statt. Alle Details zu den einzelnen Terminen sowie die Möglichkeit zur Anmeldung werden unter folgendem Link verfügbar sein: https://www.argesolar-saar.de/veranstaltungen/ \n  \nWenn Sie Ihr Wissen vertiefen möchten\, nutzen Sie das Online-WIKI der Landeskampagne „Energieberatung Saar“: Dort erwarten Sie umfassende Informationen und sorgfältig zusammengestellte Materialien. Erfahren Sie u. a. mehr über Energiesparen\, Energieeffizienz\, energetische Sanierung\, erneuerbare Energien\, Förderprogramme\, effiziente Heizsysteme und viele weitere relevante Themen. Auf unserer stetig wachsenden Wissensplattform „Energiespar WIKI“ finden Sie interessante Informationen zum Stöbern\, Informieren\, und Teilen von Wissen für unterschiedliche Zielgruppen.
URL:https://www.argesolar-saar.de/va/landeskampagne-energieberatung-saar-online-infoveranstaltung-energiesparen-durch-heizungsoptimierung/
LOCATION:Online – Die Veranstaltung findet im Rahmen der Aktionswoche “Das Saarland voller Energie” statt
CATEGORIES:Landeskampagne "Energieberatung Saar"
ATTACH;FMTTYPE=image/png:https://www.argesolar-saar.de/wp-content/uploads/2024/10/VZEBS1.png
END:VEVENT
BEGIN:VEVENT
DTSTART;TZID=Europe/Berlin:20251008T180000
DTEND;TZID=Europe/Berlin:20251008T200000
DTSTAMP:20260420T081902
CREATED:20250822T103901Z
LAST-MODIFIED:20250822T111604Z
UID:14603-1759946400-1759953600@www.argesolar-saar.de
SUMMARY:Praxisorientierter Vortrag: Heizenergie sparen durch Kleinmaßnahmen
DESCRIPTION:Am Mittwoch\, den 08.10.2025 bietet die Volkshochschule (VHS) St. Ingbert von 18:00 bis 20:00 Uhr einen Vortrag zum Thema „Heizenergie sparen durch Kleinmaßnahmen“ an. In diesem Vortrag zeigt Bernd Junge\, wie man durch einfache Maßnahmen Heizenergie sparen kann. Im Anschluss besteht die Möglichkeit\, Fragen zu stellen. Eine Liste von Links zu interessanten YouTube-Videos wird ebenfalls zur Verfügung gestellt. \nDieser Vortrag richtet sich an Menschen\, die entweder nicht die finanziellen Mittel haben\, um ihr Wohneigentum in einen energetisch optimalen Zustand zu bringen oder als Mieter nicht dazu berechtigt sind\, aber trotzdem etwas tun wollen. \n  \nDie Teilnahme an der Veranstaltung ist kostenfrei\, eine Anmeldung ist allerdings erforderlich. \nWeitere Informationen und die Möglichkeit zur Anmeldung finden Sie unter: https://vhs-igb.de/Veranstaltung/cmx679b78f985426.html\nAnmeldefrist: 03.10.2025 \n  \nVeranstaltungsort: Rohrbacher Mühle\, Mühlstraße 36\, 66386 St. Ingbert\, Rohrbach
URL:https://www.argesolar-saar.de/va/praxisorientierter-vortrag-heizenergie-sparen-durch-kleinmassnahmen/
LOCATION:Rohrbacher Mühle\, Mühlstraße 36\, 66386 St. Ingbert – Die Veranstaltung findet im Rahmen der Aktionswoche “Das Saarland voller Energie” statt\, ROHRBACHER MÜHLE | MÜHLSTR. 36 | 66386 ST. INGBERT
CATEGORIES:Aktionswoche 25,Landeskampagne "Energieberatung Saar"
ATTACH;FMTTYPE=image/png:https://www.argesolar-saar.de/wp-content/uploads/2025/08/VHS-St.Ingbert.png
END:VEVENT
END:VCALENDAR