BEGIN:VCALENDAR
VERSION:2.0
PRODID:-//ARGE SOLAR e.V. - ECPv6.15.20//NONSGML v1.0//EN
CALSCALE:GREGORIAN
METHOD:PUBLISH
X-ORIGINAL-URL:https://www.argesolar-saar.de
X-WR-CALDESC:Veranstaltungen für ARGE SOLAR e.V.
REFRESH-INTERVAL;VALUE=DURATION:PT1H
X-Robots-Tag:noindex
X-PUBLISHED-TTL:PT1H
BEGIN:VTIMEZONE
TZID:Europe/Berlin
BEGIN:DAYLIGHT
TZOFFSETFROM:+0100
TZOFFSETTO:+0200
TZNAME:CEST
DTSTART:20240331T010000
END:DAYLIGHT
BEGIN:STANDARD
TZOFFSETFROM:+0200
TZOFFSETTO:+0100
TZNAME:CET
DTSTART:20241027T010000
END:STANDARD
BEGIN:DAYLIGHT
TZOFFSETFROM:+0100
TZOFFSETTO:+0200
TZNAME:CEST
DTSTART:20250330T010000
END:DAYLIGHT
BEGIN:STANDARD
TZOFFSETFROM:+0200
TZOFFSETTO:+0100
TZNAME:CET
DTSTART:20251026T010000
END:STANDARD
BEGIN:DAYLIGHT
TZOFFSETFROM:+0100
TZOFFSETTO:+0200
TZNAME:CEST
DTSTART:20260329T010000
END:DAYLIGHT
BEGIN:STANDARD
TZOFFSETFROM:+0200
TZOFFSETTO:+0100
TZNAME:CET
DTSTART:20261025T010000
END:STANDARD
END:VTIMEZONE
BEGIN:VEVENT
DTSTART;TZID=Europe/Berlin:20251007T090000
DTEND;TZID=Europe/Berlin:20251007T160000
DTSTAMP:20260420T082417
CREATED:20250822T100610Z
LAST-MODIFIED:20250923T075805Z
UID:14593-1759827600-1759852800@www.argesolar-saar.de
SUMMARY:Beratertag - Förderkreditprogramme für Privatpersonen und Unternehmen - Saarländische Investitionskreditbank AG
DESCRIPTION:Am Dienstag\, den 07.10.25\, von 9 bis 16 Uhr bietet die Saarländische Investitionskreditbank (SIKB) im Rahmen der Aktionswoche “Das Saarland voller Energie” einen besonderen Beratungstag an. \n„Als Förderspezialist des Saarlandes schöpft die Saarländische Investitionskreditbank AG (SIKB) aus einer breiten Produktpalette an Finanzierungsinstrumenten für den Mittelstand. Sie unterstützt Unternehmen\, Existenzgründer\, kommunalnahe Unternehmen und private Haushalte im Saarland mit zinsgünstigen Krediten\, Bürgschaften und Beteiligungen und fördert insbesondere Investitionen in Wirtschaft\, Innovation\, Infrastruktur und Wohnraum. \nDer Beratertag ermöglicht es Ihnen\, sich als Privatperson oder Unternehmen über die bestehenden Förderkreditprogramme des Saarlandes und des Bundes im Bereich klimafreundliches Bauen und Sanieren\, Erneuerbare Energien\, Energieeffizienz\, umweltfreundliche Mobilität sowie nachhaltiger Ressourceneinsatz zu informieren und beraten zu lassen.“ \nDie Teilnahme ist kostenfrei. Eine Anmeldung ist allerdings erforderlich. \nDie Anmeldung erfolgt über Frau Elke Lorson per Mail unter elke.lorson@sikb.de oder per Telefon unter 0681/3033-116.
URL:https://www.argesolar-saar.de/va/beratertag-foerderkreditprogramme-fuer-privatpersonen-und-unternehmen-saarlaendische-investitionskreditbank-ag/
LOCATION:Franz-Josef-Röder-Str. 17 (MWIDE)\, 66119 Saarbrücken – Die Veranstaltung findet im Rahmen der Aktionswoche “Das Saarland voller Energie” statt
CATEGORIES:Aktionswoche 25,Landeskampagne "Energieberatung Saar"
ATTACH;FMTTYPE=image/jpeg:https://www.argesolar-saar.de/wp-content/uploads/2025/03/SIKB-LOGO-Offiziell-ohneSchnickSchnack.jpg
END:VEVENT
BEGIN:VEVENT
DTSTART;TZID=Europe/Berlin:20251007T180000
DTEND;TZID=Europe/Berlin:20251007T193000
DTSTAMP:20260420T082417
CREATED:20250822T094303Z
LAST-MODIFIED:20250916T091002Z
UID:14589-1759860000-1759865400@www.argesolar-saar.de
SUMMARY:Online-Infoveranstaltung: "Heizen und Stromerzeugung mit der Sonne"
DESCRIPTION:Am Dienstag\, 7. Oktober 2025\,  bietet die Verbraucherzentrale Saarland von 18:00 bis 19:30 Uhr gemeinsam mit der Volkshochschule im Regionalverband Saarbrücken einen kostenfreien Online-Vortrag zum Thema “Solarenergie” an. \nIm Gegensatz zu allen anderen Energieträgern steht uns die Sonnenenergie kostenlos zur Verfügung. Durch die Installation einer solarthermischen Anlage können wir die Kraft der Sonne für die Warmwasserbereitung\, aber auch zur Heizungsunterstützung nutzen. \nCathrin Becker\, Energieberaterin der Verbraucherzentrale\, erläutert die Funktionsweise einer Solarkollektor-Anlage und erklärt\, für welche Häuser und Nutzergruppen eine solche Anlage geeignet ist. Auch die Kostenfrage und die staatliche Förderung werden im Rahmen des Vortrags angesprochen. \nEin weiteres Thema ist die Stromerzeugung mit einer Photovoltaikanlage. Die Expertin erläutert\, welche Faktoren bei der Vorhersage des Ertrags zu beachten sind. \nDie Teilnahme am Online-Vortrag ist bequem von zu Hause aus möglich und kostenlos. Man benötigt lediglich eine stabile Internetverbindung über Computer\, Tablet oder Smartphone. \n  \nDie Teilnahme ist kostenfrei. Eine Anmeldung ist allerdings erforderlich. \n  \nINFO: Die Landeskampagne „Energieberatung Saar“ organisiert in Zusammenarbeit mit der Verbraucherzentrale Saarland in diesem Jahr eine informative Veranstaltungsreihe. Jeden Monat finden spannende Vorträge zu Themen wie Energiewende\, Energieeffizienz und weiteren Aspekten statt. Alle Details zu den einzelnen Terminen sowie die Möglichkeit zur Anmeldung werden unter folgendem Link verfügbar sein: https://www.argesolar-saar.de/veranstaltungen/ \n  \nWenn Sie Ihr Wissen vertiefen möchten\, nutzen Sie das Online-WIKI der Landeskampagne „Energieberatung Saar“: Dort erwarten Sie umfassende Informationen und sorgfältig zusammengestellte Materialien. Erfahren Sie u. a. mehr über Energiesparen\, Energieeffizienz\, energetische Sanierung\, erneuerbare Energien\, Förderprogramme\, effiziente Heizsysteme und viele weitere relevante Themen. Auf unserer stetig wachsenden Wissensplattform „Energiespar WIKI“ finden Sie interessante Informationen zum Stöbern\, Informieren\, und Teilen von Wissen für unterschiedliche Zielgruppen.
URL:https://www.argesolar-saar.de/va/landeskampagne-energieberatung-saar-online-infoveranstaltung-heizen-und-stromerzeugung-mit-der-sonne-2/
LOCATION:Online – Die Veranstaltung findet im Rahmen der Aktionswoche “Das Saarland voller Energie” statt
CATEGORIES:Aktionswoche 25,Landeskampagne "Energieberatung Saar"
ATTACH;FMTTYPE=image/png:https://www.argesolar-saar.de/wp-content/uploads/2025/08/VZ-VHS-SB.png
END:VEVENT
BEGIN:VEVENT
DTSTART;TZID=Europe/Berlin:20251007T180000
DTEND;TZID=Europe/Berlin:20251007T200000
DTSTAMP:20260420T082417
CREATED:20251001T081849Z
LAST-MODIFIED:20251002T095111Z
UID:14910-1759860000-1759867200@www.argesolar-saar.de
SUMMARY:„SolarOffensive“ – Veranstaltung im Landkreis Neunkirchen
DESCRIPTION:Veranstaltung des Kommunalen Klimaschutz-Netzwerks im Landkreis Neunkirchen (KKSN) und BUND Saar in Kooperation mit der Gemeinde Eppelborn\, der Verbraucherzentrale Saarland und der Landeskampagne „Energieberatung Saar“. \n  \nPROGRAMM \nTEIL I \n18:00 Uhr: Begrüßung | Einführung \n\nGrußworte\, Bürgermeister Dr. Andreas Feld\nVorstellung „SolarOffensive“\, Meike Tatay\, BUND Saar\nImpulsvortrag: Sonnenenergie – Kraft\, die wirkt | Trends und Entwicklungen bei der Erzeugung von Solarstrom\, Ralph Schmidt (Arge Solar e.V.) für die Landeskampagne „Energieberatung Saar“\n\nTEIL II \n18:45 Uhr: Kurzvorträge zu verschiedenen Themenbereichen: \n\nGemeinsam stark: PV-Anlagen durch solare Einkaufsgemeinschaften\, Christian Koch\, Schoenergie\nAnwenderbeispiel: Wärmepumpe Photovoltaik und E-Auto aus Nutzersicht\, Axel Schikorski\n\n20:00 Uhr: Veranstaltungsende \n  \nDie Teilnahme an der Veranstaltung ist kostenfrei\, eine Anmeldung ist jedoch erforderlich. \nEine Anmeldung ist online und telefonisch möglich:  \nonline: https://www.kvhs-neunkirchen.de/kurse/kurs/SolarOffensive-Veranstaltung-imLandkreis-Neunkirchen/252-1122  \ntelefonisch: 06824 906-5335 \n  \nDen Flyer mit Einladung finden Sie hier. \n 
URL:https://www.argesolar-saar.de/va/solaroffensive-veranstaltung-im-landkreis-neunkirchen/
LOCATION:Privat: KOSSMANN FORUM IM BIG EPPEL\, EUROPAPLATZ 4\, EPPELBORN\, 66571\, Germany
CATEGORIES:Aktionswoche 25,Landeskampagne "Energieberatung Saar"
ATTACH;FMTTYPE=image/png:https://www.argesolar-saar.de/wp-content/uploads/2024/10/EBS-KKSN.png
END:VEVENT
END:VCALENDAR