BEGIN:VCALENDAR
VERSION:2.0
PRODID:-//ARGE SOLAR e.V. - ECPv6.15.20//NONSGML v1.0//EN
CALSCALE:GREGORIAN
METHOD:PUBLISH
X-WR-CALNAME:ARGE SOLAR e.V.
X-ORIGINAL-URL:https://www.argesolar-saar.de
X-WR-CALDESC:Veranstaltungen für ARGE SOLAR e.V.
REFRESH-INTERVAL;VALUE=DURATION:PT1H
X-Robots-Tag:noindex
X-PUBLISHED-TTL:PT1H
BEGIN:VTIMEZONE
TZID:Europe/Berlin
BEGIN:DAYLIGHT
TZOFFSETFROM:+0100
TZOFFSETTO:+0200
TZNAME:CEST
DTSTART:20240331T010000
END:DAYLIGHT
BEGIN:STANDARD
TZOFFSETFROM:+0200
TZOFFSETTO:+0100
TZNAME:CET
DTSTART:20241027T010000
END:STANDARD
BEGIN:DAYLIGHT
TZOFFSETFROM:+0100
TZOFFSETTO:+0200
TZNAME:CEST
DTSTART:20250330T010000
END:DAYLIGHT
BEGIN:STANDARD
TZOFFSETFROM:+0200
TZOFFSETTO:+0100
TZNAME:CET
DTSTART:20251026T010000
END:STANDARD
BEGIN:DAYLIGHT
TZOFFSETFROM:+0100
TZOFFSETTO:+0200
TZNAME:CEST
DTSTART:20260329T010000
END:DAYLIGHT
BEGIN:STANDARD
TZOFFSETFROM:+0200
TZOFFSETTO:+0100
TZNAME:CET
DTSTART:20261025T010000
END:STANDARD
END:VTIMEZONE
BEGIN:VEVENT
DTSTART;TZID=Europe/Berlin:20251006T180000
DTEND;TZID=Europe/Berlin:20251006T193000
DTSTAMP:20260420T081901
CREATED:20250820T082958Z
LAST-MODIFIED:20250923T075614Z
UID:14570-1759773600-1759779000@www.argesolar-saar.de
SUMMARY:Landeskampagne "Energieberatung Saar" - Infoveranstaltung für Haus & Grund Mitglieder - Energetische Gebäudesanierung und Energiesparen zu Hause
DESCRIPTION:Energetische Gebäudesanierung und Energiesparen zu Hause – größere und geringinvestive Maßnahmen\, alles Wissenswerte für Hausbesitzer \nMontag\, 06.10.25\, 18.00-19:30 Uhr\, online \nIm Rahmen der Aktionswoche “Das Saarland voller Energie” bietet die Landeskampagne “Energieberatung Saar” am 06. Oktober 2025 von 18 bis 19:30 Uhr exklusiv für Haus & Grund Mitglieder im Saarland einen Onlinevortrag zu Themen rund um Energetische Gebäudesanierung und Energiesparen zu Hause an. \nReferent ist Diplomingenieur und Architekt Ralph Schmidt\, Geschäftsführer der ARGE SOLAR e.V. und Vorsitzender der Gebäudeenergieberater Saarland e.V. \nDie Energiewende in den eigenen vier Wänden kann durch vielfältige Maßnahmen umgesetzt werden: Energieeinsparmaßnahmen wie Wärmedämmung und neue Fenster\, effizientere Heizsysteme\, Systemoptimierungen\, Lüftungsanlagen mit Wärmerückgewinnung oder durch den Einsatz erneuerbarer Energien wie Photovoltaik\, Solarthermie\, Wärmepumpe oder Biomasse. Mit einer Gebäudedämmung lassen sich aber nicht nur Heizkosten einsparen\, sondern auch die Behaglichkeit steigern und Schimmelschäden vermeiden. Welche Heizung ist für welches Haus geeignet? Lohnt sich eine Solaranlage auf meinem Dach oder am Haus? Auf diese Fragen und die passenden Förderprogramme sowie die aktuellen gesetzlichen Vorgaben des Bundes geht der Vortrag ebenfalls ein. \nWir betrachten Möglichkeiten der Energieeinsparung und Verbesserung des Wohnkomforts in Form von geringinvestiven und größeren Maßnahmen und ordnen diese sowohl ökologisch als auch wirtschaftlich ein. So können Sie als Hausbesitzer:innen wichtige Tipps und Informationen für Ihre Immobilie mitnehmen. \nDie Veranstaltung richtet sich an die Mitglieder von Haus & Grund Saarland. Die Teilnahme ist kostenfrei\, eine Anmeldung ist jedoch erforderlich. Melden Sie sich unter diesem Link online an. \nAlternativ können Sie sich gerne per E-Mail anmelden an: energieberatung@wirtschaft.saarland.de \n  \n  \nDiese Veranstaltung ist Teil einer Veranstaltungsreihe für Mitglieder von Haus & Grund Saarland.\nWeitere Termine: \n\nMontag\, 20.10.25\, 18.00-19:30 Uhr\, online\n„Die „richtige“ Heizung für mein Haus“ – Wissenswertes für Hausbesitzer: Optimierung bestehender Anlagen\, Techniken\, Förderprogramme und gesetzliche Vorgaben\nMontag\, 24.11.25\, 18.00-19:30 Uhr\, online\n„Solarenergie sinnvoll nutzen – Strom und Wärme von der Sonne“\n\n 
URL:https://www.argesolar-saar.de/va/haus-grund-energetische-gebaeudesanierung-und-energiesparen-zu-hause/
LOCATION:Online – Die Veranstaltung findet im Rahmen der Aktionswoche “Das Saarland voller Energie” statt
CATEGORIES:Haus & Grund Saarland,Landeskampagne "Energieberatung Saar"
ATTACH;FMTTYPE=image/png:https://www.argesolar-saar.de/wp-content/uploads/2025/05/EBSHaus-Grund.png
END:VEVENT
BEGIN:VEVENT
DTSTART;TZID=Europe/Berlin:20251006T180000
DTEND;TZID=Europe/Berlin:20251006T193000
DTSTAMP:20260420T081901
CREATED:20250822T093500Z
LAST-MODIFIED:20250901T080802Z
UID:14586-1759773600-1759779000@www.argesolar-saar.de
SUMMARY:Online-Infoveranstaltung: "Wärmepumpe für mein Haus"
DESCRIPTION:Am Montag\, 6. Oktober 2025\, bietet die Verbraucherzentrale Saarland in Zusammenarbeit mit der Volkshochschule im Regionalverband Saarbrücken einen kostenfreien Online-Vortrag zum Thema “Wärmepumpe” an. Denken Sie an eine Heizungserneuerung in Ihrem Bestandsgebäude? Heizen Sie mit Öl oder Gas\, vielleicht auch Kohle oder Koks oder einer Nachtstromspeicherheizung? Das „Heizungsgesetz“ sprich Gebäudeenergiegesetz 2024\, will fossile Brennstoffe beim Heizen begrenzen und ab 2045 eindämmen. \nDa bietet es sich an\, über die Umstellung auf eine Wärmepumpenheizung nachzudenken. \nChristine Mörgen\, Energieberaterin der Verbraucherzentrale\, geht in ihrem Vortrag u. a. auf folgende Fragen ein: Wie funktioniert eine Wärmepumpe? Welche Voraussetzungen braucht man\, damit man sie effizient betreiben kann? Muss ich mein Haus sanieren? Mit welchen Investitionskosten muss ich rechnen? Was ist beim Betrieb einer Wärmepumpe zu beachten? Kann ich Erdwärme nutzen? Ist eine Eigenstromnutzung mit Photovoltaik sinnvoll? \nDie Teilnahme am Online-Vortrag ist bequem von zu Hause aus möglich und kostenlos. Man benötigt lediglich eine stabile Internetverbindung über Computer\, Tablet oder Smartphone. \nEine Möglichkeit zur Anmeldung finden Sie hier. \n  \nINFO: Die Landeskampagne „Energieberatung Saar“ organisiert in Zusammenarbeit mit der Verbraucherzentrale Saarland in diesem Jahr eine informative Veranstaltungsreihe. Jeden Monat finden spannende Vorträge zu Themen wie Energiewende\, Energieeffizienz und weiteren Aspekten statt. Alle Details zu den einzelnen Terminen sowie die Möglichkeit zur Anmeldung werden unter folgendem Link verfügbar sein: https://www.argesolar-saar.de/veranstaltungen/ \n  \nWenn Sie Ihr Wissen vertiefen möchten\, nutzen Sie das Online-WIKI der Landeskampagne „Energieberatung Saar“: Dort erwarten Sie umfassende Informationen und sorgfältig zusammengestellte Materialien. Erfahren Sie u. a. mehr über Energiesparen\, Energieeffizienz\, energetische Sanierung\, erneuerbare Energien\, Förderprogramme\, effiziente Heizsysteme und viele weitere relevante Themen. Auf unserer stetig wachsenden Wissensplattform „Energiespar WIKI“ finden Sie interessante Informationen zum Stöbern\, Informieren\, und Teilen von Wissen für unterschiedliche Zielgruppen. \n 
URL:https://www.argesolar-saar.de/va/landeskampagne-energieberatung-saar-online-infoveranstaltung-waermepumpe-fuer-mein-haus-2/
LOCATION:Online – Die Veranstaltung findet im Rahmen der Aktionswoche “Das Saarland voller Energie” statt
CATEGORIES:Aktionswoche 25,Landeskampagne "Energieberatung Saar"
ATTACH;FMTTYPE=image/png:https://www.argesolar-saar.de/wp-content/uploads/2025/08/VZ-VHS-SB.png
END:VEVENT
END:VCALENDAR