BEGIN:VCALENDAR
VERSION:2.0
PRODID:-//ARGE SOLAR e.V. - ECPv6.15.20//NONSGML v1.0//EN
CALSCALE:GREGORIAN
METHOD:PUBLISH
X-ORIGINAL-URL:https://www.argesolar-saar.de
X-WR-CALDESC:Veranstaltungen für ARGE SOLAR e.V.
REFRESH-INTERVAL;VALUE=DURATION:PT1H
X-Robots-Tag:noindex
X-PUBLISHED-TTL:PT1H
BEGIN:VTIMEZONE
TZID:Europe/Berlin
BEGIN:DAYLIGHT
TZOFFSETFROM:+0100
TZOFFSETTO:+0200
TZNAME:CEST
DTSTART:20240331T010000
END:DAYLIGHT
BEGIN:STANDARD
TZOFFSETFROM:+0200
TZOFFSETTO:+0100
TZNAME:CET
DTSTART:20241027T010000
END:STANDARD
BEGIN:DAYLIGHT
TZOFFSETFROM:+0100
TZOFFSETTO:+0200
TZNAME:CEST
DTSTART:20250330T010000
END:DAYLIGHT
BEGIN:STANDARD
TZOFFSETFROM:+0200
TZOFFSETTO:+0100
TZNAME:CET
DTSTART:20251026T010000
END:STANDARD
BEGIN:DAYLIGHT
TZOFFSETFROM:+0100
TZOFFSETTO:+0200
TZNAME:CEST
DTSTART:20260329T010000
END:DAYLIGHT
BEGIN:STANDARD
TZOFFSETFROM:+0200
TZOFFSETTO:+0100
TZNAME:CET
DTSTART:20261025T010000
END:STANDARD
END:VTIMEZONE
BEGIN:VEVENT
DTSTART;VALUE=DATE:20251002
DTEND;VALUE=DATE:20251005
DTSTAMP:20260420T082342
CREATED:20250822T085505Z
LAST-MODIFIED:20250923T092243Z
UID:14572-1759363200-1759622399@www.argesolar-saar.de
SUMMARY:Informationsstand der Landeskampagne „Energieberatung Saar“ am "Tag der Deutschen Einheit"
DESCRIPTION:Vom 2. bis 4. Oktober 2025 wird die saarländische Landeshauptstadt zum Zentrum der bundesweiten Feierlichkeiten zum Tag der Deutschen Einheit 2025. \nBesucherinnen und Besucher erwartet ein buntes\, vielfältiges Programm mitten in der Saarbrücker Innenstadt – mit Live-Musik\, regionalen Spezialitäten und spannenden Einblicken in Politik\, Kultur und Gesellschaft.Da das Saarland in diesem Jahr – wie jedes der 16 Bundesländer im Wechsel – den Vorsitz im Bundesrat übernimmt\, findet das Fest zur deutschen Einheit in Saarbrücken statt. Nach 1993 und 2009 ist es bereits das dritte Mal\, dass das Saarland Gastgeber der Feierlichkeiten ist. \nDie Landeskampagne „Energieberatung Saar“ (EBS) des Ministeriums für Wirtschaft\, Innovation\, Digitales und Energie des Saarlandes (MWIDE) ist auf der “Saarlandmeile” (in der Faßstraße) mit einem Informations- und Beratungsstand vertreten. Kinder und Jugendliche können an “Energie Erleben”-Aktionen teilnehmen und ein Quiz mit Glücksrad verspricht Gewinne für Groß und Klein. \nDie Teilnahme der Landeskampagne “Energieberatung Saar” am Tag der deutschen Einheit markiert den Startpunkt der zweiten Aktionswoche “Das Saarland voller Energie” 2025. \nWeitere Informationen zu den Feierlichkeiten finden Sie unter: https://www.tag-der-deutschen-einheit.de/ \nWir freuen uns auf Ihren Besuch!
URL:https://www.argesolar-saar.de/va/ebs-stand-auf-der-festmeile-buergerfest-tag-der-deutschen-einheit/
LOCATION:Bürgerfest\, Innenstadt Saarbrücken – Die Veranstaltung findet im Rahmen der Aktionswoche “Das Saarland voller Energie” statt
CATEGORIES:Aktionswoche 25,Landeskampagne "Energieberatung Saar"
ATTACH;FMTTYPE=image/jpeg:https://www.argesolar-saar.de/wp-content/uploads/2025/08/logo-tag_der_deutschen_einheit_2025.jpg
END:VEVENT
BEGIN:VEVENT
DTSTART;VALUE=DATE:20251004
DTEND;VALUE=DATE:20251005
DTSTAMP:20260420T082342
CREATED:20250822T091522Z
LAST-MODIFIED:20250903T104739Z
UID:14578-1759536000-1759622399@www.argesolar-saar.de
SUMMARY:Markt der Möglichkeiten 2025
DESCRIPTION:Am Samstag\, den 04. Oktober 2025\, findet im Rohrwald in Rehlingen erneut der „Markt der Möglichkeiten“ statt – eine Veranstaltung\, die bereits im vergangenen Jahr großen Anklang fand. Zahlreiche Aussteller und Austellerinnen aus der Region präsentierten innovative Projekte und Produkte zu den Themen Umwelt-\, Klima- und Naturschutz. Von Energieeffizienz und ressourcenschonendem Wirtschaften bis hin zu regional produzierten Lebensmitteln gab es vielfältige Ansätze für eine nachhaltige Zukunft. \nBesonders gut angenommen wurden Mitmachaktionen für Kinder\, die spielerisch den Umgang mit natürlichen Ressourcen erlernten\, sowie der „Klimastammtisch“\, der zum regelmäßigen Austausch über Klimaschutzthemen einlädt. Highlight war die Typisierungsaktion der Stefan-Morsch-Stiftung\, bei der sich Besucher als potenzielle Stammzellspender registrieren lassen konnten. Auch kulinarische Genüsse aus der Region und ein breites Angebot an Informationsständen trugen zum Erfolg der Veranstaltung bei. \nAuch für die diesjährige Veranstaltung werden wieder Aussteller gesucht\, die ihre nachhaltigen Projekte und Produkte präsentieren möchten. Der „Markt der Möglichkeiten“ bietet eine ideale Plattform\, um Ideen auszutauschen und die lokale Umsetzung von Nachhaltigkeit zu fördern. \nSeien Sie dabei und bringen Sie Ihre innovativen Ansätze ein – gemeinsam können wir eine nachhaltige Zukunft gestalten! \n  \nWeitere Informationen und Anmeldemöglichkeiten finden Sie unter: https://www.rehlingen-siersburg.de
URL:https://www.argesolar-saar.de/va/markt-der-moeglichkeiten-2025/
LOCATION:Rohrwald\, Rehlingen-Siersburg – Die Veranstaltung findet im Rahmen der Aktionswoche “Das Saarland voller Energie” statt
CATEGORIES:Aktionswoche 25
ATTACH;FMTTYPE=image/png:https://www.argesolar-saar.de/wp-content/uploads/2025/08/Rehlingen-Siersburg-LOGO.png
END:VEVENT
BEGIN:VEVENT
DTSTART;TZID=Europe/Berlin:20251004T110000
DTEND;TZID=Europe/Berlin:20251004T180000
DTSTAMP:20260420T082342
CREATED:20250901T083740Z
LAST-MODIFIED:20250923T090022Z
UID:14695-1759575600-1759600800@www.argesolar-saar.de
SUMMARY:Energie Erleben am Stand der Landeskampagne "Energieberatung Saar" am “Tag der Deutschen Einheit”
DESCRIPTION:Am FREITAG\, den 03. und SAMSTAG\, den 04. Oktober 2025 wird am Beratungsstand der Landeskampagne „Energieberatung Saar“ (in der Faßstraße) zwischen 11.00 und 18.00 Uhr anlässlich des Bürgerfestes zum Tag der Deutschen Einheit die Aktion „Energie Erleben“ angeboten. \nDieses Angebot richtet sich an Kinder und Jugendliche\, die mit ihren Familien die Veranstaltung besuchen und dient der Förderung und Sensibilisierung im Bereich der Umweltbildung\, Erneuerbaren Energien\, wie auch des Energie- und Klimaschutzes. Hier lernen sie beispielsweise wie aus Sonne\, Wind und Wasser Energie wird. Durch spannende Mitmach-Experimente\, Spiele und Bastelaktionen werden diese Themen aufgelockert und spielerisch vermittelt.
URL:https://www.argesolar-saar.de/va/energie-erleben-am-stand-der-landeskampagne-energieberatung-saar-2/
LOCATION:Bürgerfest\, Innenstadt Saarbrücken – Die Veranstaltung findet im Rahmen der Aktionswoche “Das Saarland voller Energie” statt
CATEGORIES:Aktionswoche 25,Landeskampagne "Energieberatung Saar"
ATTACH;FMTTYPE=image/jpeg:https://www.argesolar-saar.de/wp-content/uploads/2025/05/Logo-Landeskampagne-EBS.jpg
END:VEVENT
END:VCALENDAR