BEGIN:VCALENDAR
VERSION:2.0
PRODID:-//ARGE SOLAR e.V. - ECPv6.15.20//NONSGML v1.0//EN
CALSCALE:GREGORIAN
METHOD:PUBLISH
X-ORIGINAL-URL:https://www.argesolar-saar.de
X-WR-CALDESC:Veranstaltungen für ARGE SOLAR e.V.
REFRESH-INTERVAL;VALUE=DURATION:PT1H
X-Robots-Tag:noindex
X-PUBLISHED-TTL:PT1H
BEGIN:VTIMEZONE
TZID:Europe/Berlin
BEGIN:DAYLIGHT
TZOFFSETFROM:+0100
TZOFFSETTO:+0200
TZNAME:CEST
DTSTART:20240331T010000
END:DAYLIGHT
BEGIN:STANDARD
TZOFFSETFROM:+0200
TZOFFSETTO:+0100
TZNAME:CET
DTSTART:20241027T010000
END:STANDARD
BEGIN:DAYLIGHT
TZOFFSETFROM:+0100
TZOFFSETTO:+0200
TZNAME:CEST
DTSTART:20250330T010000
END:DAYLIGHT
BEGIN:STANDARD
TZOFFSETFROM:+0200
TZOFFSETTO:+0100
TZNAME:CET
DTSTART:20251026T010000
END:STANDARD
BEGIN:DAYLIGHT
TZOFFSETFROM:+0100
TZOFFSETTO:+0200
TZNAME:CEST
DTSTART:20260329T010000
END:DAYLIGHT
BEGIN:STANDARD
TZOFFSETFROM:+0200
TZOFFSETTO:+0100
TZNAME:CET
DTSTART:20261025T010000
END:STANDARD
END:VTIMEZONE
BEGIN:VEVENT
DTSTART;TZID=Europe/Berlin:20250527T160000
DTEND;TZID=Europe/Berlin:20250527T173000
DTSTAMP:20260422T125554
CREATED:20250116T131050Z
LAST-MODIFIED:20250508T124341Z
UID:13466-1748361600-1748367000@www.argesolar-saar.de
SUMMARY:Landeskampagne “Energieberatung Saar” - IMPULS Online-Fachveranstaltung: Oberflächenoptimierung und Beschichtung von PV-Anlagen
DESCRIPTION:Am 27.05.2025 findet zwischen 16 – 17.30 Uhr die IMPULS Online-Fachveranstaltung “Oberflächenoptimierung und Beschichtung von PV-Anlagen” statt. \nDie Oberflächenoptimierung und Beschichtung von Photovoltaikanlagen (PV-Anlagen) sind entscheidende Maßnahmen zur Verbesserung der Effizienz und Langlebigkeit von Solarmodulen. \nDiese Prozesse zielen darauf ab\, die Lichtabsorption zu maximieren\, die Verschmutzung zu minimieren und die Widerstandsfähigkeit gegenüber Umwelteinflüssen zu erhöhen. Bei der Oberflächenoptimierung werden die physikalischen Eigenschaften der Moduloberfläche verändert\, um die Lichtdurchlässigkeit und -reflexion zu verbessern. Eine optimierte Oberfläche kann die Energieausbeute der PV-Anlage erheblich steigern\, insbesondere bei diffusem Licht oder ungünstigen Wetterbedingungen. \nDie Beschichtung von PV-Anlagen erfolgt häufig mit speziellen Materialien\, die die Oberflächenbeschaffenheit verbessern. U.a. hydrophobe (wasserabweisende) Beschichtungen können aufgebracht werden\, um die Ansammlung von Schmutz\, Staub und Wasser zu verhindern. Dies trägt dazu bei\, die Reinigungsintervalle zu verlängern und die Wartungskosten zu senken. \nEine weitere wichtige Funktion von Beschichtungen ist der Schutz vor Korrosion und anderen Umwelteinflüssen. Durch den Einsatz von widerstandsfähigen Materialien wird die Lebensdauer der PV-Anlagen verlängert und ihre Leistung über die Jahre hinweg stabil gehalten. Insgesamt tragen Oberflächenoptimierung und Beschichtung entscheidend dazu bei\, die Effizienz\, Langlebigkeit und Wirtschaftlichkeit von Photovoltaikanlagen zu verbessern\, was letztlich zu einer nachhaltigeren Energieproduktion führt. \nAlain Neumann von der NANO4YOU GmbH wird in seinem Vortrag über die technischen und physikalischen Eigenschaften und Möglichkeiten berichten\, Anwendungsmöglichkeiten vorstellen und die praktische Umsetzung und den Nutzen durch Oberflächenoptimierung und Beschichtung von PV-Anlagen vorstellen. \nHier finden Sie die offizielle Einladung als PDF-Datei. \nDie Teilnahme an der Veranstaltung ist kostenlos\, eine Anmeldung ist allerdings erforderlich. \n  \n  \nWenn Sie Ihr Wissen vertiefen möchten\, nutzen Sie das Online-WIKI der Landeskampagne „Energieberatung Saar“: Dort erwarten Sie umfassende Informationen und sorgfältig zusammengestellte Materialien. Erfahren Sie u. a. mehr über Energiesparen\, Energieeffizienz\, energetische Sanierung\, erneuerbare Energien\, Förderprogramme\, effiziente Heizsysteme und viele weitere relevante Themen. Auf unserer stetig wachsenden Wissensplattform „Energiespar WIKI“ finden Sie interessante Informationen zum Stöbern\, Informieren\, und Teilen von Wissen für unterschiedliche Zielgruppen.
URL:https://www.argesolar-saar.de/va/landeskampagne-energieberatung-saar-impuls-online-fachveranstaltung-oberflaechenoptimierung-und-beschichtung-von-pv-anlagen/
LOCATION:Online
CATEGORIES:Landeskampagne "Energieberatung Saar"
ATTACH;FMTTYPE=image/jpeg:https://www.argesolar-saar.de/wp-content/uploads/2024/10/Logo-Landeskampagne-EBS.jpg
END:VEVENT
END:VCALENDAR