BEGIN:VCALENDAR
VERSION:2.0
PRODID:-//ARGE SOLAR e.V. - ECPv6.15.20//NONSGML v1.0//EN
CALSCALE:GREGORIAN
METHOD:PUBLISH
X-WR-CALNAME:ARGE SOLAR e.V.
X-ORIGINAL-URL:https://www.argesolar-saar.de
X-WR-CALDESC:Veranstaltungen für ARGE SOLAR e.V.
REFRESH-INTERVAL;VALUE=DURATION:PT1H
X-Robots-Tag:noindex
X-PUBLISHED-TTL:PT1H
BEGIN:VTIMEZONE
TZID:Europe/Berlin
BEGIN:DAYLIGHT
TZOFFSETFROM:+0100
TZOFFSETTO:+0200
TZNAME:CEST
DTSTART:20240331T010000
END:DAYLIGHT
BEGIN:STANDARD
TZOFFSETFROM:+0200
TZOFFSETTO:+0100
TZNAME:CET
DTSTART:20241027T010000
END:STANDARD
BEGIN:DAYLIGHT
TZOFFSETFROM:+0100
TZOFFSETTO:+0200
TZNAME:CEST
DTSTART:20250330T010000
END:DAYLIGHT
BEGIN:STANDARD
TZOFFSETFROM:+0200
TZOFFSETTO:+0100
TZNAME:CET
DTSTART:20251026T010000
END:STANDARD
BEGIN:DAYLIGHT
TZOFFSETFROM:+0100
TZOFFSETTO:+0200
TZNAME:CEST
DTSTART:20260329T010000
END:DAYLIGHT
BEGIN:STANDARD
TZOFFSETFROM:+0200
TZOFFSETTO:+0100
TZNAME:CET
DTSTART:20261025T010000
END:STANDARD
END:VTIMEZONE
BEGIN:VEVENT
DTSTART;TZID=Europe/Berlin:20250507T110000
DTEND;TZID=Europe/Berlin:20250507T123000
DTSTAMP:20260420T111914
CREATED:20250327T095536Z
LAST-MODIFIED:20250327T135459Z
UID:13961-1746615600-1746621000@www.argesolar-saar.de
SUMMARY:Online-Vortrag „Heizung messen\, steuern\, regeln – gewusst wie!?“
DESCRIPTION:Mit Möglichkeit der Diskussion und Fragen mit dem Heizungs-Experten Dipl.-Ing. (FH) Hans-Gerd Eisenbarth. \nAm Mittwoch\, 7.5.2025\, 11.00 – 12.30h als kostenfreie Informationsveranstaltung des Kommunalen Klimaschutz-Netzwerk im Landkreis Neunkirchen (KKSN).\n \n  \nDie MSR (Meß-\, Steuer – und Regelungstechnik) ist ein wirksames Werkzeug um den Energieverbrauch zu reduzieren und den Anlagenbetrieb zu optimieren. Dazu ist es notwendig\, die Regelanlagen so einzustellen\, dass sie einerseits eine Behaglichkeit herstellt aber andererseits dies mit minimalem Aufwand erledigt. Voraussetzung hierfür ist wiederum die Kenntnis über die Funktion der Regelanlagen insbesondere im Hinblick auf die Regelung der Vorlauftemperatur und der Regelung der Raumtemperatur über Thermostatventile. Sehr wichtig ist auch die Frage\, welche Bedingungen innerhalb der übrigen Heizungstechnik erfüllt sein müssen\, damit die Regelanlage vernünftig eingreifen kann. Bei einer bestehenden Heizungsanlage sollte man auch über den Einsatz neuester Technik nachdenken\, so z.B. elektronische Thermostatventile. Vielfach lohnt es sich\, die Regelung inklusive der dazugehörigen Fühler zu erneuern. Eine weitere Frage ist die der Kontrolle der Ergebnisse. Welche Instrumente gibt es\, die Funktionsweise der Regelanlage zu kontrollieren\, angefangen von einfachen Messungen der Raumtemperatur bis hin zu dem Einsatz von Datenloggern.  Der Referent Hans-Gerd Eisenbarth (Dipl.-Ing. (FH Versorgungstechnik\, ehemaliger Geschäftsführer der HGE Ingenieur GmbH\, Fachreferent TÜV Saarland im Bereich Weiterbildung TGA und Energiemanagement) verfügt über langjährige Praxiserfahrung und beantwortet auch individuelle Fragen der Teilnehmenden. \n  \nDie Teilnahme an der Veranstaltung ist für Mitarbeitende und Interessierte aus den teilnehmenden Kommunen\, Unternehmen sowie des Landkreises im Klimaschutz-Netzwerk im Landkreis Neunkirchen kostenfrei\, eine Anmeldung ist jedoch erforderlich.
URL:https://www.argesolar-saar.de/va/online-vortrag-heizung-messen-steuern-regeln-gewusst-wie/
LOCATION:Online
ATTACH;FMTTYPE=image/png:https://www.argesolar-saar.de/wp-content/uploads/2024/10/Logo-KKSN-LK-NK-ausgeschnitten.png
END:VEVENT
END:VCALENDAR