BEGIN:VCALENDAR
VERSION:2.0
PRODID:-//ARGE SOLAR e.V. - ECPv6.15.20//NONSGML v1.0//EN
CALSCALE:GREGORIAN
METHOD:PUBLISH
X-ORIGINAL-URL:https://www.argesolar-saar.de
X-WR-CALDESC:Veranstaltungen für ARGE SOLAR e.V.
REFRESH-INTERVAL;VALUE=DURATION:PT1H
X-Robots-Tag:noindex
X-PUBLISHED-TTL:PT1H
BEGIN:VTIMEZONE
TZID:Europe/Berlin
BEGIN:DAYLIGHT
TZOFFSETFROM:+0100
TZOFFSETTO:+0200
TZNAME:CEST
DTSTART:20240331T010000
END:DAYLIGHT
BEGIN:STANDARD
TZOFFSETFROM:+0200
TZOFFSETTO:+0100
TZNAME:CET
DTSTART:20241027T010000
END:STANDARD
BEGIN:DAYLIGHT
TZOFFSETFROM:+0100
TZOFFSETTO:+0200
TZNAME:CEST
DTSTART:20250330T010000
END:DAYLIGHT
BEGIN:STANDARD
TZOFFSETFROM:+0200
TZOFFSETTO:+0100
TZNAME:CET
DTSTART:20251026T010000
END:STANDARD
BEGIN:DAYLIGHT
TZOFFSETFROM:+0100
TZOFFSETTO:+0200
TZNAME:CEST
DTSTART:20260329T010000
END:DAYLIGHT
BEGIN:STANDARD
TZOFFSETFROM:+0200
TZOFFSETTO:+0100
TZNAME:CET
DTSTART:20261025T010000
END:STANDARD
END:VTIMEZONE
BEGIN:VEVENT
DTSTART;TZID=Europe/Berlin:20250411T100000
DTEND;TZID=Europe/Berlin:20250413T180000
DTSTAMP:20260420T050748
CREATED:20250325T125819Z
LAST-MODIFIED:20250325T125852Z
UID:13946-1744365600-1744567200@www.argesolar-saar.de
SUMMARY:Info- und Beratungsstand der Landeskampagne „Energieberatung Saar“ auf der Haus & Garten Messe Saar
DESCRIPTION:Den Abschluss der Aktionswoche “Das Saarland voller Energie” bildet die Haus & Garten Messe Saar im E-Werk Saarbrücken\, mit über 150 Ausstellern rund um die Themen Bauen\, Renovieren & Gestalten. Dort wird die Landeskampagne “Energeberatung Saar” des Ministeriums für Wirtschaft\, Innovation\, Digitales und Energie vom 11. – 13. April mit einem großen Beratungs- und Informationsstand (Stand Nummer 129) vertreten sein. \nEine Anmeldung zur Veranstaltung ist nicht erforderlich. \n  \nAlle Veranstaltungen innerhalb der Aktionswoche “Das Saarland voller Energie” im April 2025  finden Sie unter https://www.argesolar-saar.de/veranstaltungen/kategorie/aktionswoche-4-25/.
URL:https://www.argesolar-saar.de/va/info-und-beratungsstand-der-landeskampagne-energieberatung-saar-auf-der-haus-garten-messe-saar/
LOCATION:E-Werk\, Dr.-Tietz-Straße 14\, Saarbrücken\, Saarland\, 66115\, Deutschland
CATEGORIES:Aktionswoche April 25
ATTACH;FMTTYPE=image/jpeg:https://www.argesolar-saar.de/wp-content/uploads/2024/10/Logo-Landeskampagne-EBS.jpg
END:VEVENT
BEGIN:VEVENT
DTSTART;TZID=Europe/Berlin:20250413T140000
DTEND;TZID=Europe/Berlin:20250413T150000
DTSTAMP:20260420T050748
CREATED:20250327T120305Z
LAST-MODIFIED:20250327T120437Z
UID:13982-1744552800-1744556400@www.argesolar-saar.de
SUMMARY:Infoveranstaltung: Was steht eigentlich im Gebäudeenergiegesetz (GEG)? - Haus & Garten Messe Saar
DESCRIPTION:Am Sonntag\, den 13.04.2025 bietet die Verbraucherzentrale Saarland im Rahmen der Aktionswoche “Das Saarland voller Energie” ab 14:00 Uhr auf der Haus & Garten Messe einen Vortrag zum Thema „Was steht eigentlich im Gebäudeenergiegesetz (GEG)?“ an. \nSeit 1. Januar 2024 gilt es\, das viel diskutierte Gebäude-Energie-Gesetz. Doch was steht nun eigentlich wirklich im Gesetz? Und wie genau betrifft es Verbraucher:innen? Was ist die kommunale Wärmeplanung? Welche Heizungen sind jetzt noch zulässig? Diese und weitere wichtige Fragen beantwortet Cathrin Becker\, Energieberaterin der Verbraucherzentrale Saarland. \nInformieren Sie sich auf der Haus & Garten Messe am Messeinfo-Stand in Halle 1 (E WERK) über dieses und weitere Vortragsangebote im Rahmen des Messeprogramms. \n  \nAlle Veranstaltungen innerhalb der Aktionswoche “Das Saarland voller Energie” im April 2025  finden Sie unter https://www.argesolar-saar.de/veranstaltungen/kategorie/aktionswoche-4-25/.
URL:https://www.argesolar-saar.de/va/infoveranstaltung-was-steht-eigentlich-im-gebaeudeenergiegesetz-geg-haus-garten-messe-saar/
LOCATION:E-Werk\, Dr.-Tietz-Straße 14\, Saarbrücken\, Saarland\, 66115\, Deutschland
CATEGORIES:Aktionswoche April 25
ATTACH;FMTTYPE=image/png:https://www.argesolar-saar.de/wp-content/uploads/2023/12/vz-saar.png
END:VEVENT
BEGIN:VEVENT
DTSTART;TZID=Europe/Berlin:20250413T143000
DTEND;TZID=Europe/Berlin:20250413T153000
DTSTAMP:20260420T050748
CREATED:20250327T120601Z
LAST-MODIFIED:20250327T120705Z
UID:13984-1744554600-1744558200@www.argesolar-saar.de
SUMMARY:Infoveranstaltung: Welche Heizung für mein Haus? – Haus & Garten Messe Saar
DESCRIPTION:Am Sonntag\, den 13.04.2025 bietet die Verbraucherzentrale Saarland im Rahmen der Aktionswoche “Das Saarland voller Energie” ab 14:30 Uhr auf der Haus & Garten Messe einen Vortrag zum Thema „Welche Heizung für mein Haus?“ an. \nEin Heizungstausch sollte frühzeitig geplant werden\, möglichst\, bevor die Heizung kaputtgeht. Nach gut 20 Jahren ist das Ende der Lebensdauer eines Heizkessels erreicht. Bei Heizungen\, die älter als 15 Jahre sind\, sollte man auf einen Ausfall vorbereitet sein. Mit einem ausreichenden zeitlichen Vorlauf ist ein durchdachter Wechsel der Heiztechnik möglich\, zum Beispiel von fossiler zu erneuerbarer Energie. \nViele Fragen sind offen: Was ist vom Gesetzgeber geplant? Welche Möglichkeiten des Einsatzes moderner Technologien\, erneuerbarer Energien und effizienter Heiztechnik gibt es? Wie finde ich das geeignete Heizsystem für mein Haus? Welche finanzielle Unterstützung durch Förderprogramme bietet der Staat?\nDiese und mehr Fragen beantwortet Christine Mörgen\, Energieberaterin der Verbraucherzentrale Saarland. \nInformieren Sie sich auf der Haus & Garten Messe am Messeinfo-Stand in Halle 1 (E WERK) über dieses und weitere Vortragsangebote im Rahmen des Messeprogramms. \n  \nAlle Veranstaltungen innerhalb der Aktionswoche “Das Saarland voller Energie” im April 2025  finden Sie unter https://www.argesolar-saar.de/veranstaltungen/kategorie/aktionswoche-4-25/.
URL:https://www.argesolar-saar.de/va/infoveranstaltung-welche-heizung-fuer-mein-haus-haus-garten-messe-saar/
LOCATION:E-Werk\, Dr.-Tietz-Straße 14\, Saarbrücken\, Saarland\, 66115\, Deutschland
CATEGORIES:Aktionswoche April 25
ATTACH;FMTTYPE=image/png:https://www.argesolar-saar.de/wp-content/uploads/2023/12/vz-saar.png
END:VEVENT
END:VCALENDAR