BEGIN:VCALENDAR
VERSION:2.0
PRODID:-//ARGE SOLAR e.V. - ECPv6.15.20//NONSGML v1.0//EN
CALSCALE:GREGORIAN
METHOD:PUBLISH
X-ORIGINAL-URL:https://www.argesolar-saar.de
X-WR-CALDESC:Veranstaltungen für ARGE SOLAR e.V.
REFRESH-INTERVAL;VALUE=DURATION:PT1H
X-Robots-Tag:noindex
X-PUBLISHED-TTL:PT1H
BEGIN:VTIMEZONE
TZID:Europe/Berlin
BEGIN:DAYLIGHT
TZOFFSETFROM:+0100
TZOFFSETTO:+0200
TZNAME:CEST
DTSTART:20240331T010000
END:DAYLIGHT
BEGIN:STANDARD
TZOFFSETFROM:+0200
TZOFFSETTO:+0100
TZNAME:CET
DTSTART:20241027T010000
END:STANDARD
BEGIN:DAYLIGHT
TZOFFSETFROM:+0100
TZOFFSETTO:+0200
TZNAME:CEST
DTSTART:20250330T010000
END:DAYLIGHT
BEGIN:STANDARD
TZOFFSETFROM:+0200
TZOFFSETTO:+0100
TZNAME:CET
DTSTART:20251026T010000
END:STANDARD
BEGIN:DAYLIGHT
TZOFFSETFROM:+0100
TZOFFSETTO:+0200
TZNAME:CEST
DTSTART:20260329T010000
END:DAYLIGHT
BEGIN:STANDARD
TZOFFSETFROM:+0200
TZOFFSETTO:+0100
TZNAME:CET
DTSTART:20261025T010000
END:STANDARD
END:VTIMEZONE
BEGIN:VEVENT
DTSTART;TZID=Europe/Berlin:20250411T100000
DTEND;TZID=Europe/Berlin:20250413T180000
DTSTAMP:20260420T033248
CREATED:20250325T125819Z
LAST-MODIFIED:20250325T125852Z
UID:13946-1744365600-1744567200@www.argesolar-saar.de
SUMMARY:Info- und Beratungsstand der Landeskampagne „Energieberatung Saar“ auf der Haus & Garten Messe Saar
DESCRIPTION:Den Abschluss der Aktionswoche “Das Saarland voller Energie” bildet die Haus & Garten Messe Saar im E-Werk Saarbrücken\, mit über 150 Ausstellern rund um die Themen Bauen\, Renovieren & Gestalten. Dort wird die Landeskampagne “Energeberatung Saar” des Ministeriums für Wirtschaft\, Innovation\, Digitales und Energie vom 11. – 13. April mit einem großen Beratungs- und Informationsstand (Stand Nummer 129) vertreten sein. \nEine Anmeldung zur Veranstaltung ist nicht erforderlich. \n  \nAlle Veranstaltungen innerhalb der Aktionswoche “Das Saarland voller Energie” im April 2025  finden Sie unter https://www.argesolar-saar.de/veranstaltungen/kategorie/aktionswoche-4-25/.
URL:https://www.argesolar-saar.de/va/info-und-beratungsstand-der-landeskampagne-energieberatung-saar-auf-der-haus-garten-messe-saar/
LOCATION:E-Werk\, Dr.-Tietz-Straße 14\, Saarbrücken\, Saarland\, 66115\, Deutschland
CATEGORIES:Aktionswoche April 25
ATTACH;FMTTYPE=image/jpeg:https://www.argesolar-saar.de/wp-content/uploads/2024/10/Logo-Landeskampagne-EBS.jpg
END:VEVENT
BEGIN:VEVENT
DTSTART;TZID=Europe/Berlin:20250412T110000
DTEND;TZID=Europe/Berlin:20250412T160000
DTSTAMP:20260420T033248
CREATED:20250325T131322Z
LAST-MODIFIED:20250325T141834Z
UID:13952-1744455600-1744473600@www.argesolar-saar.de
SUMMARY:„Energie erleben – Energie verstehen“ Aktion der Landeskampagne „Energieberatung Saar“ - Haus & Garten Messe Saar
DESCRIPTION:Die „Energie erleben – Energie verstehen“ Aktion im Rahmen der Aktionswoche „Das Saarland voller Energie“ der Landeskampagne „Energieberatung Saar“ findet am Samstag\, 12. April ab 11 Uhr auf der Haus & Garten Messe Saar statt. \nDie Aktion richtet sich an Kinder und Jugendliche\, die mit ihren Familien die Messe besuchen und dient der Förderung und Sensibilisierung im Bereich der Umweltbildung\,\nErneuerbaren Energien\, wie auch des Energie- und Klimaschutzes. Am Beratungsstand der Landeskampagne “Energieberatung Saar” (Stand Nummer 129) lernen sie beispielsweise wie aus Sonne\, Wind und Wasser Energie wird. Durch spannende Mitmach-Experimente\, Spiele und Bastelaktionen werden diese Themen aufgelockert und spielerisch vermittelt. \nEine Anmeldung ist nicht notwendig. \n  \nAlle Veranstaltungen innerhalb der Aktionswoche “Das Saarland voller Energie” im April 2025  finden Sie unter https://www.argesolar-saar.de/veranstaltungen/kategorie/aktionswoche-4-25/.
URL:https://www.argesolar-saar.de/va/energie-erleben-energie-verstehen-aktion-der-landeskampagne-energieberatung-saar-haus-garten-messe-saar/
LOCATION:E-Werk\, Dr.-Tietz-Straße 14\, Saarbrücken\, Saarland\, 66115\, Deutschland
CATEGORIES:Aktionswoche April 25
ATTACH;FMTTYPE=image/jpeg:https://www.argesolar-saar.de/wp-content/uploads/2024/10/Logo-Landeskampagne-EBS.jpg
END:VEVENT
BEGIN:VEVENT
DTSTART;TZID=Europe/Berlin:20250412T113000
DTEND;TZID=Europe/Berlin:20250412T123000
DTSTAMP:20260420T033248
CREATED:20250327T115021Z
LAST-MODIFIED:20250327T115146Z
UID:13977-1744457400-1744461000@www.argesolar-saar.de
SUMMARY:Infoveranstaltung: Aktuelle Fördermittel für Bestandsgebäude und GEG - Haus & Garten Messe Saar
DESCRIPTION:Am Samstag\, den 12.04.2025 bietet die Verbraucherzentrale Saarland im Rahmen der Aktionswoche “Das Saarland voller Energie” ab 11:30 Uhr auf der Haus & Garten Messe einen Vortrag zum Thema „Aktuelle Fördermittel für Bestandsgebäude und GEG“ an. \nSteigende Energiekosten veranlassen viele Hausbesitzerinnen und Hausbesitzer über Dämmmaßnahmen und Heizungserneuerung nachzudenken. Doch wie schaffen sie es\, die dafür notwendigen Investitionen zu stemmen? Hierbei hilft die Bundesregierung mit Förderprogrammen. Es gibt Kredit- und Zuschussprogramme\, Förderprogramme zur energieeffizienten Sanierung oder zur Nutzung erneuerbarer Energien\, zur Dämmung\, zum Austausch der Fenster\, zur Optimierung von Heizungsanlagen und zur Baubegleitung. \nCathrin Becker\, Energieberaterin der Verbraucherzentrale\, behandelt Fragestellungen wie: Wer kann eine Förderung beantragen? Was bedeuten die technischen Mindestvoraussetzungen? Können mehrere Förderprogramme gleichzeitig genutzt werden? Wann\, wo und wie können Anträge gestellt werden? Mit diesem Vortrag soll den Eigenheimbesitzer:innen der Weg durch den Förderdschungel erleichtert werden. \nInformieren Sie sich auf der Haus & Garten Messe am Messeinfo-Stand in Halle 1 (E WERK) über dieses und weitere Vortragsangebote im Rahmen des Messeprogramms. \n  \nAlle Veranstaltungen innerhalb der Aktionswoche “Das Saarland voller Energie” im April 2025  finden Sie unter https://www.argesolar-saar.de/veranstaltungen/kategorie/aktionswoche-4-25/.
URL:https://www.argesolar-saar.de/va/infoveranstaltung-aktuelle-foerdermittel-fuer-bestandsgebaeude-und-geg-haus-garten-messe-saar/
LOCATION:E-Werk\, Dr.-Tietz-Straße 14\, Saarbrücken\, Saarland\, 66115\, Deutschland
CATEGORIES:Aktionswoche April 25
ATTACH;FMTTYPE=image/png:https://www.argesolar-saar.de/wp-content/uploads/2023/12/vz-saar.png
END:VEVENT
BEGIN:VEVENT
DTSTART;TZID=Europe/Berlin:20250412T143000
DTEND;TZID=Europe/Berlin:20250412T153000
DTSTAMP:20260420T033248
CREATED:20250327T115407Z
LAST-MODIFIED:20250327T115407Z
UID:13979-1744468200-1744471800@www.argesolar-saar.de
SUMMARY:Infoveranstaltung: Wärmepumpe für mein Haus - Haus & Garten Messe Saar
DESCRIPTION:Am Samstag\, den 12.04.2025 bietet die Verbraucherzentrale Saarland im Rahmen der Aktionswoche “Das Saarland voller Energie” auf der Haus & Garten Messe Saar ab 14:30 Uhr einen Vortrag zum Thema „Wärmepumpe für mein Haus“ an. \nDenken Sie an eine Heizungserneuerung in Ihrem Bestandsgebäude? Heizen Sie mit Öl oder Gas\, vielleicht auch Kohle oder Koks oder einer Nachtstromspeicherheizung? Das „Heizungsgesetz“ sprich Gebäudeenergiegesetz 2024\, will fossile Brennstoffe beim Heizen begrenzen und ab 2045 eindämmen. Da bietet es sich an\, über die Umstellung auf eine Wärmepumpenheizung nachzudenken. \nChristine Mörgen\, Energieberaterin der Verbraucherzentrale\, geht in ihrem Vortrag u. a. auf folgende Fragen ein: Wie funktioniert eine Wärmepumpe? Welche Voraussetzungen braucht man\, damit man sie effizient betreiben kann? Muss ich mein Haus sanieren? Mit welchen Investitionskosten muss ich rechnen? Was ist beim Betrieb einer Wärmepumpe zu beachten? Kann ich Erdwärme nutzen? Ist eine Eigenstromnutzung mit Photovoltaik sinnvoll? \nInformieren Sie sich auf der Haus & Garten Messe am Messeinfo-Stand in Halle 1 (E WERK) über dieses und weitere Vortragsangebote im Rahmen des Messeprogramms. \n  \nAlle Veranstaltungen innerhalb der Aktionswoche “Das Saarland voller Energie” im April 2025  finden Sie unter https://www.argesolar-saar.de/veranstaltungen/kategorie/aktionswoche-4-25/.
URL:https://www.argesolar-saar.de/va/infoveranstaltung-waermepumpe-fuer-mein-haus-haus-garten-messe-saar/
LOCATION:E-Werk\, Dr.-Tietz-Straße 14\, Saarbrücken\, Saarland\, 66115\, Deutschland
CATEGORIES:Aktionswoche April 25
ATTACH;FMTTYPE=image/png:https://www.argesolar-saar.de/wp-content/uploads/2023/12/vz-saar.png
END:VEVENT
END:VCALENDAR