BEGIN:VCALENDAR
VERSION:2.0
PRODID:-//ARGE SOLAR e.V. - ECPv6.15.20//NONSGML v1.0//EN
CALSCALE:GREGORIAN
METHOD:PUBLISH
X-ORIGINAL-URL:https://www.argesolar-saar.de
X-WR-CALDESC:Veranstaltungen für ARGE SOLAR e.V.
REFRESH-INTERVAL;VALUE=DURATION:PT1H
X-Robots-Tag:noindex
X-PUBLISHED-TTL:PT1H
BEGIN:VTIMEZONE
TZID:Europe/Berlin
BEGIN:DAYLIGHT
TZOFFSETFROM:+0100
TZOFFSETTO:+0200
TZNAME:CEST
DTSTART:20240331T010000
END:DAYLIGHT
BEGIN:STANDARD
TZOFFSETFROM:+0200
TZOFFSETTO:+0100
TZNAME:CET
DTSTART:20241027T010000
END:STANDARD
BEGIN:DAYLIGHT
TZOFFSETFROM:+0100
TZOFFSETTO:+0200
TZNAME:CEST
DTSTART:20250330T010000
END:DAYLIGHT
BEGIN:STANDARD
TZOFFSETFROM:+0200
TZOFFSETTO:+0100
TZNAME:CET
DTSTART:20251026T010000
END:STANDARD
BEGIN:DAYLIGHT
TZOFFSETFROM:+0100
TZOFFSETTO:+0200
TZNAME:CEST
DTSTART:20260329T010000
END:DAYLIGHT
BEGIN:STANDARD
TZOFFSETFROM:+0200
TZOFFSETTO:+0100
TZNAME:CET
DTSTART:20261025T010000
END:STANDARD
END:VTIMEZONE
BEGIN:VEVENT
DTSTART;TZID=Europe/Berlin:20250313T140000
DTEND;TZID=Europe/Berlin:20250313T163000
DTSTAMP:20260421T120336
CREATED:20250130T120211Z
LAST-MODIFIED:20250227T154107Z
UID:13554-1741874400-1741883400@www.argesolar-saar.de
SUMMARY:Modulares und serielles Bauen - Hybrid-Veranstaltung der Landeskampagne "Energieberatung Saar"
DESCRIPTION:Das modulare und serielle Bauen gewinnt angesichts des Mangels an bezahlbarem Wohnraum immer mehr Beachtung und wird vom Bundesbauministerium gefördert. Auch die saarländische Landesbauordnung führt in ihrer jüngsten Novelle die sogenannte Typengenehmigung ein. Doch ist das vorgefertigte Bauen immer schneller\, kostengünstiger\, ressourcenschonender und energieeffizienter? Und was bedeutet es für den Planungs- und Bauprozess und die Zusammenarbeit aller Beteiligten?\nIn einer Vortragsveranstaltung möchten wir die Vor- und Nachteile des modularen und seriellen Bauens aus fachlicher Sicht beleuchten. Denn auch das serielle Bauen geht nicht ohne Architektinnen und Architekten. \nVeranstalter sind die Architektenkammer des Saarlandes\, die Landeskampagne „Energieberatung Saar“ des Ministeriums für Wirtschaft\, Innovation\, Digitales und Energie und das Ministerium für Inneres\, Bauen und Sport in Kooperation mit der IHK Saarland. \nAus organisatorischen Gründen bitten wir um Anmeldung bis zum 10.03.2025 unter aksaarland.de/aktuell/modulares-und-serielles-bauen/.\nDie Teilnahme ist kostenlos und sowohl in Präsenz in der AKS-Akademie (begrenzte Plätze!) als auch online möglich. Bei einer Online-Teilnahme erhalten Sie zeitnah einen Webex-Link. \n \nMitglieder der Architektenkammer des Saarlandes erhalten für die Teilnahme 3 Fortbildungspunkte. \nAlle Informationen finden Sie auch in der Einladung zur Veranstaltung. \n  \nProgramm: \nBegrüßung \nDr. Lesya Matiyuk\nAbteilungsleiterin Energie-\, Industrie- und Fachkräftepolitik\, Ministerium für Wirtschaft\, Innovation\, Digitalisierung und Energie  \nSandra Koch-Wagner\nLeiterin der Obersten Landesbaubehörde\, Ministerium für Inneres\, Bauen und Sport \n Alexander Schwehm\nPräsident der Architektenkammer des Saarlandes \n\n“Einfacher planen und bauen durch Modul und Serie” \nOliver Platz\nPräsident der Architektenkammer der freien Hansestadt Bremen \n\n“Rahmenbedingungen zum seriellen Bauen” \nSandra Koch-Wagner\nLeiterin der Obersten Landesbaubehörde\, Ministerium für Inneres\, Bauen und Sport \n\nNetzwerkpause mit Kaffee und Kuchen \n\n“Praxisbeispiele aus dem Wohnungsbau”  \nStefan Forster\nGeschäftsführer Stefan Forster Architekten\, Frankfurt am Main \n\nModeration: Ralph Schmidt (Geschäftsführer Arge Solar e. V.) als Vertreter der Landeskampagne „Energieberatung Saar“
URL:https://www.argesolar-saar.de/va/modulares-und-serielles-bauen-hybrid-veranstaltung-der-landeskampagne-energieberatung-saar/
LOCATION:AKS-Akademie\, Neumarkt 11\, Saarbrücken\, Saarland\, 66117\, Germany
ATTACH;FMTTYPE=image/png:https://www.argesolar-saar.de/wp-content/uploads/2025/01/Modulares-und-serielles-Bauen.png
END:VEVENT
END:VCALENDAR