BEGIN:VCALENDAR
VERSION:2.0
PRODID:-//ARGE SOLAR e.V. - ECPv6.15.20//NONSGML v1.0//EN
CALSCALE:GREGORIAN
METHOD:PUBLISH
X-ORIGINAL-URL:https://www.argesolar-saar.de
X-WR-CALDESC:Veranstaltungen für ARGE SOLAR e.V.
REFRESH-INTERVAL;VALUE=DURATION:PT1H
X-Robots-Tag:noindex
X-PUBLISHED-TTL:PT1H
BEGIN:VTIMEZONE
TZID:Europe/Berlin
BEGIN:DAYLIGHT
TZOFFSETFROM:+0100
TZOFFSETTO:+0200
TZNAME:CEST
DTSTART:20240331T010000
END:DAYLIGHT
BEGIN:STANDARD
TZOFFSETFROM:+0200
TZOFFSETTO:+0100
TZNAME:CET
DTSTART:20241027T010000
END:STANDARD
BEGIN:DAYLIGHT
TZOFFSETFROM:+0100
TZOFFSETTO:+0200
TZNAME:CEST
DTSTART:20250330T010000
END:DAYLIGHT
BEGIN:STANDARD
TZOFFSETFROM:+0200
TZOFFSETTO:+0100
TZNAME:CET
DTSTART:20251026T010000
END:STANDARD
BEGIN:DAYLIGHT
TZOFFSETFROM:+0100
TZOFFSETTO:+0200
TZNAME:CEST
DTSTART:20260329T010000
END:DAYLIGHT
BEGIN:STANDARD
TZOFFSETFROM:+0200
TZOFFSETTO:+0100
TZNAME:CET
DTSTART:20261025T010000
END:STANDARD
END:VTIMEZONE
BEGIN:VEVENT
DTSTART;TZID=Europe/Berlin:20250213T090000
DTEND;TZID=Europe/Berlin:20250213T120000
DTSTAMP:20260422T151601
CREATED:20241213T144255Z
LAST-MODIFIED:20250206T130935Z
UID:13411-1739437200-1739448000@www.argesolar-saar.de
SUMMARY:Fachtagung Forschungsprojekt EE-Gemeinschaften - Rechtliche\, regulatorische und technische Entwicklungen sowie Umsetzungsbeispiele im Bereich des Energy Sharing
DESCRIPTION:Donnerstag\, 13. Februar 2025\, 9.00 bis 12.00 Uhr. \nDie Veranstaltung ist eine Hybridveranstaltung. \nFür die Teilnahme in Präsenz ist der Veranstaltungsort: Stadtwerke Saarbrücken\, Verwaltungsgebäude 2 EG\, Heuduckstr. 36\, 66117 Saarbrücken. \nFür die Online Teilnahme steht Ihnen ein Webex-Link zur Verfügung. \n  \nINHALT  \nIn unserem Forschungsprojekt untersuchen wir gemeinsam mit unseren Partnern\, wie eine sog. Erneuerbare-Energie-Gemeinschaft (EE-Gemeinschaft) ganz konkret in die Praxis umgesetzt werden kann. Hierzu haben wir den Stadtteil Fraulautern in Saarlouis ausgewählt\, wo wir interessierte Menschen zusammenbringen\, damit sie sich in Zukunft mit Strom aus ihren eigenen Erzeugungsanlagen versorgen können. \nDas kann für Stadtwerke und Bürgerenergieprojekte ein interessantes neues Angebot an ihre Kundschaft und Mitglieder sein. Für letztere besteht so die Möglichkeit\, lokal erzeugten Strom aus erneuerbaren Energien zu stabilen Preisen innerhalb der EE-Gemeinschaft zu teilen. \nWir möchten Ihnen auf unserer Tagung einige Beispiele aus der Praxis von Stadtwerken vorstellen. Dabei sollen Schwierigkeiten\, aber auch Lösungsansätze bei der Umsetzung von Projekten zum Energieteilen und hiermit verbundene Chancen zur Sprache kommen. \n  \nPROGRAMM (Stand 29.01.2025) \n9.00 h Begrüßung: Frank Ackermann\, Vorstand Technik der Stadtwerke Saarbrücken Netz AG\nBarbara Dröschel\, IZES gGbmH \n9.15 h Kurzvorstellung des Forschungsprojekts ModellEEGe\, Barbara Dröschel\, IZES \n9.35 h Energy Sharing in Deutschland – mit ein bisschen gutem Willen schon heute\, Rainer Härtl\, Stadtwerke Wunsiedel und Ko-Referenten \n10.00 h Einführung und Umsetzung von EE-Gemeinschaften in Österreich\, Sebastian Freier\, Vorstand Elektrizitätswerke Reutte (EWR)\, AT \n10.20 h EE-Gemeinschaften in Luxemburg\, Gilbert Theato\, Klima Agence Luxemburg \n10.40 h Rechtliche Rahmenbedingungen für die gemeinschaftliche Energieversorgung\, Felicitas Strauch\, von Bredow Valentin Herz \n11.00 h Diskussion\, Moderation Barbara Dröschel \n12.00 h Ende der Veranstaltung und Mittagsimbiss \nHIER finden Sie den FLYER zur Veranstaltung. \n  \nANMELDUNG UND TEILNAHME \nEine Anmeldung zur Veranstaltung ist sowohl für die Teilnahme in Präsenz\, als auch Online erforderlich. \nAlternativ per Mail an veranstaltung@argesolar-saar.de. \n  \nWeitere Informationen zum Forschungsprojekt Modell EEGe finden Sie unter: https://ee-gemeinschaften.de/ \nZielgruppe der Veranstaltung: Netzbetreiber\, Stadtwerke\, Vertreter*innen aus der Bürgerenergie. \n  \nDas Projekt wird durchgeführt von den Stadtwerken Saarlouis GmbH\, der ARGE SOLAR e.V. und IZES gGmbH. Ein besonderer Dank geht an die Stadtwerke Saarbrücken Konzern\, die uns bei der Organisation dieser Veranstaltung unterstützen. \n 
URL:https://www.argesolar-saar.de/va/fachtagung-forschungsprojekt-ee-gemeinschaften-rechtliche-regulatorische-und-technische-entwicklungen-sowie-umsetzungsbeispiele-im-bereich-des-energy-sharing/
LOCATION:Stadtwerke Saarbrücken Netz AG\, Verwaltungsgebäude 2 EG\, Heuduckstr. 36\, 66117 Saarbrücken (oder online) – Die Veranstaltung findet im Rahmen der Aktionswoche “Das Saarland voller Energie” statt
ATTACH;FMTTYPE=image/png:https://www.argesolar-saar.de/wp-content/uploads/2024/12/EEGE-1.png
END:VEVENT
END:VCALENDAR