BEGIN:VCALENDAR
VERSION:2.0
PRODID:-//ARGE SOLAR e.V. - ECPv6.15.20//NONSGML v1.0//EN
CALSCALE:GREGORIAN
METHOD:PUBLISH
X-WR-CALNAME:ARGE SOLAR e.V.
X-ORIGINAL-URL:https://www.argesolar-saar.de
X-WR-CALDESC:Veranstaltungen für ARGE SOLAR e.V.
REFRESH-INTERVAL;VALUE=DURATION:PT1H
X-Robots-Tag:noindex
X-PUBLISHED-TTL:PT1H
BEGIN:VTIMEZONE
TZID:Europe/Berlin
BEGIN:DAYLIGHT
TZOFFSETFROM:+0100
TZOFFSETTO:+0200
TZNAME:CEST
DTSTART:20240331T010000
END:DAYLIGHT
BEGIN:STANDARD
TZOFFSETFROM:+0200
TZOFFSETTO:+0100
TZNAME:CET
DTSTART:20241027T010000
END:STANDARD
BEGIN:DAYLIGHT
TZOFFSETFROM:+0100
TZOFFSETTO:+0200
TZNAME:CEST
DTSTART:20250330T010000
END:DAYLIGHT
BEGIN:STANDARD
TZOFFSETFROM:+0200
TZOFFSETTO:+0100
TZNAME:CET
DTSTART:20251026T010000
END:STANDARD
BEGIN:DAYLIGHT
TZOFFSETFROM:+0100
TZOFFSETTO:+0200
TZNAME:CEST
DTSTART:20260329T010000
END:DAYLIGHT
BEGIN:STANDARD
TZOFFSETFROM:+0200
TZOFFSETTO:+0100
TZNAME:CET
DTSTART:20261025T010000
END:STANDARD
END:VTIMEZONE
BEGIN:VEVENT
DTSTART;TZID=Europe/Berlin:20250206T180000
DTEND;TZID=Europe/Berlin:20250206T193000
DTSTAMP:20260423T070648
CREATED:20250113T140534Z
LAST-MODIFIED:20250116T102604Z
UID:13433-1738864800-1738870200@www.argesolar-saar.de
SUMMARY:Landeskampagne „Energieberatung Saar“ – Online-Infoveranstaltung: Welche Heizung für mein Haus?
DESCRIPTION:Am Donnerstag\, den 06.02.2025 bietet die Landeskampagne „Energieberatung Saar“ zusammen mit der Verbraucherzentrale Saarland von 18.00 bis 19.30 Uhr eine Online-Veranstaltung rund um das Thema „Welche Heizung für mein Haus?“ an. \nEin Heizungstausch sollte frühzeitig geplant werden\, möglichst bevor die Heizung kaputtgeht. Nach gut 20 Jahren ist das Ende der Lebensdauer eines Heizkessels erreicht. Bei Heizungen\, die älter als 15 Jahre sind\, sollte man auf einen Ausfall vorbereitet sein. Mit einem ausreichenden zeitlichen Vorlauf ist ein durchdachter Wechsel der Heiztechnik möglich\, zum Beispiel von fossiler zu erneuerbarer Energie. \nViele Fragen sind offen: Was ist vom Gesetzgeber geplant? Welche Möglichkeiten des Einsatzes moderner Technologien\, erneuerbarer Energien und effizienter Heiztechnik gibt es? Wie finde ich das geeignete Heizsystem für mein Haus? Welche finanzielle Unterstützung durch Förderprogramme bietet der Staat? \nDiese und mehr Fragen beantwortet Christine Mörgen\, Energieberaterin der Verbraucherzentrale Saarland. \n  \nEine Anmeldung zur Veranstaltung ist erforderlich. \nAlternativ per Mail an veranstaltung@argesolar-saar.de oder energieberatung@wirtschaft.saarland.de \n  \nINFO: Die Landeskampagne „Energieberatung Saar“ organisiert in Zusammenarbeit mit der Verbraucherzentrale Saarland in diesem Jahr eine informative Veranstaltungsreihe. Jeden Monat finden spannende Vorträge zu Themen wie Energiewende\, Energieeffizienz und weiteren Aspekten statt. Alle Details zu den einzelnen Terminen sowie die Möglichkeit zur Anmeldung werden unter folgendem Link verfügbar sein: https://www.argesolar-saar.de/veranstaltungen/ \n  \n  \nWenn Sie Ihr Wissen vertiefen möchten\, nutzen Sie das Online-WIKI der Landeskampagne „Energieberatung Saar“: Dort erwarten Sie umfassende Informationen und sorgfältig zusammengestellte Materialien. Erfahren Sie u. a. mehr über Energiesparen\, Energieeffizienz\, energetische Sanierung\, erneuerbare Energien\, Förderprogramme\, effiziente Heizsysteme und viele weitere relevante Themen. Auf unserer stetig wachsenden Wissensplattform „Energiespar WIKI“ finden Sie interessante Informationen zum Stöbern\, Informieren\, und Teilen von Wissen für unterschiedliche Zielgruppen.
URL:https://www.argesolar-saar.de/va/landeskampagne-energieberatung-saar-online-infoveranstaltung-welche-heizung-fuer-mein-haus/
LOCATION:Online
CATEGORIES:Landeskampagne "Energieberatung Saar"
ATTACH;FMTTYPE=image/png:https://www.argesolar-saar.de/wp-content/uploads/2024/10/VZEBS1.png
END:VEVENT
END:VCALENDAR