BEGIN:VCALENDAR
VERSION:2.0
PRODID:-//ARGE SOLAR e.V. - ECPv6.15.20//NONSGML v1.0//EN
CALSCALE:GREGORIAN
METHOD:PUBLISH
X-WR-CALNAME:ARGE SOLAR e.V.
X-ORIGINAL-URL:https://www.argesolar-saar.de
X-WR-CALDESC:Veranstaltungen für ARGE SOLAR e.V.
REFRESH-INTERVAL;VALUE=DURATION:PT1H
X-Robots-Tag:noindex
X-PUBLISHED-TTL:PT1H
BEGIN:VTIMEZONE
TZID:Europe/Berlin
BEGIN:DAYLIGHT
TZOFFSETFROM:+0100
TZOFFSETTO:+0200
TZNAME:CEST
DTSTART:20240331T010000
END:DAYLIGHT
BEGIN:STANDARD
TZOFFSETFROM:+0200
TZOFFSETTO:+0100
TZNAME:CET
DTSTART:20241027T010000
END:STANDARD
BEGIN:DAYLIGHT
TZOFFSETFROM:+0100
TZOFFSETTO:+0200
TZNAME:CEST
DTSTART:20250330T010000
END:DAYLIGHT
BEGIN:STANDARD
TZOFFSETFROM:+0200
TZOFFSETTO:+0100
TZNAME:CET
DTSTART:20251026T010000
END:STANDARD
BEGIN:DAYLIGHT
TZOFFSETFROM:+0100
TZOFFSETTO:+0200
TZNAME:CEST
DTSTART:20260329T010000
END:DAYLIGHT
BEGIN:STANDARD
TZOFFSETFROM:+0200
TZOFFSETTO:+0100
TZNAME:CET
DTSTART:20261025T010000
END:STANDARD
END:VTIMEZONE
BEGIN:VEVENT
DTSTART;TZID=Europe/Berlin:20250122T150000
DTEND;TZID=Europe/Berlin:20250122T160000
DTSTAMP:20260423T205759
CREATED:20241213T142347Z
LAST-MODIFIED:20241213T142347Z
UID:13407-1737558000-1737561600@www.argesolar-saar.de
SUMMARY:Landeskampagne “Energieberatung Saar” - Online-Sprechstunde für Kommunen und KMU
DESCRIPTION:Am 22.01.2025 findet die nächste Online-Sprechstunde für Kommunen und KMU von 15.00 bis 16.00 Uhr statt.\nDie Veranstaltung findet im Rahmen der der Landeskampagne “Energieberatung Saar” statt. \n  \nDie Online-Sprechstunde richtet sich an alle Interessierten Mitarbeitenden und Verantwortlichen in Kommunen und Unternehmen\, die Fragen zur Steigerung der Energieeffizienz\, Einsatz Erneuerbarer Energien oder energetischen Förderprogrammen haben. Besonders angesprochen sind diejenigen\, die praktisch und professionell mit Haustechnik vor Ort in öffentlichen und gewerblichen Gebäuden zu tun haben wie z. B. Hausmeister\, Verwaltungsmitarbeitende und viele mehr. \n  \nEine Anmeldung zur Veranstaltung ist erforderlich. \nAlternativ per Mail an veranstaltung@argesolar-saar.de oder energieberatung@wirtschaft.saarland.de \n  \n  \nWenn Sie Ihr Wissen vertiefen möchten\, nutzen Sie das Online-WIKI der Landeskampagne „Energieberatung Saar“: Dort erwarten Sie umfassende Informationen und sorgfältig zusammengestellte Materialien. Erfahren Sie u. a. mehr über Energiesparen\, Energieeffizienz\, energetische Sanierung\, erneuerbare Energien\, Förderprogramme\, effiziente Heizsysteme und viele weitere relevante Themen. Auf unserer stetig wachsenden Wissensplattform „Energiespar WIKI“ finden Sie interessante Informationen zum Stöbern\, Informieren\, und Teilen von Wissen für unterschiedliche Zielgruppen.
URL:https://www.argesolar-saar.de/va/landeskampagne-energieberatung-saar-online-sprechstunde-fuer-kommunen-und-kmu/
LOCATION:Online
CATEGORIES:Landeskampagne "Energieberatung Saar"
ATTACH;FMTTYPE=image/jpeg:https://www.argesolar-saar.de/wp-content/uploads/2024/10/Logo-Landeskampagne-EBS.jpg
END:VEVENT
END:VCALENDAR