BEGIN:VCALENDAR
VERSION:2.0
PRODID:-//ARGE SOLAR e.V. - ECPv6.15.20//NONSGML v1.0//EN
CALSCALE:GREGORIAN
METHOD:PUBLISH
X-ORIGINAL-URL:https://www.argesolar-saar.de
X-WR-CALDESC:Veranstaltungen für ARGE SOLAR e.V.
REFRESH-INTERVAL;VALUE=DURATION:PT1H
X-Robots-Tag:noindex
X-PUBLISHED-TTL:PT1H
BEGIN:VTIMEZONE
TZID:Europe/Berlin
BEGIN:DAYLIGHT
TZOFFSETFROM:+0100
TZOFFSETTO:+0200
TZNAME:CEST
DTSTART:20240331T010000
END:DAYLIGHT
BEGIN:STANDARD
TZOFFSETFROM:+0200
TZOFFSETTO:+0100
TZNAME:CET
DTSTART:20241027T010000
END:STANDARD
BEGIN:DAYLIGHT
TZOFFSETFROM:+0100
TZOFFSETTO:+0200
TZNAME:CEST
DTSTART:20250330T010000
END:DAYLIGHT
BEGIN:STANDARD
TZOFFSETFROM:+0200
TZOFFSETTO:+0100
TZNAME:CET
DTSTART:20251026T010000
END:STANDARD
BEGIN:DAYLIGHT
TZOFFSETFROM:+0100
TZOFFSETTO:+0200
TZNAME:CEST
DTSTART:20260329T010000
END:DAYLIGHT
BEGIN:STANDARD
TZOFFSETFROM:+0200
TZOFFSETTO:+0100
TZNAME:CET
DTSTART:20261025T010000
END:STANDARD
END:VTIMEZONE
BEGIN:VEVENT
DTSTART;TZID=Europe/Berlin:20250116T170000
DTEND;TZID=Europe/Berlin:20250116T183000
DTSTAMP:20260423T220323
CREATED:20241213T142115Z
LAST-MODIFIED:20241213T142154Z
UID:13404-1737046800-1737052200@www.argesolar-saar.de
SUMMARY:Landeskampagne “Energieberatung Saar” - Online-Vortrag: Solarenergie (Photovoltaik und Solarthermie) – alles Wissenswerte für 2025\, Trends und Innovationen
DESCRIPTION:Am 16.01.2025 findet der Online-Vortrag mit Dipl.-Ing. Ralph Schmidt von 17.00 bis 18.30 Uhr statt.\nDie Veranstaltung findet im Rahmen der der Landeskampagne “Energieberatung Saar” statt. \n  \nIm Online-Vortrag gibt es ausführliche Informationen zum aktuellen technischen Stand von Solar- und Photovoltaikanlagen. Daneben wird auf die Technik\, die Möglichkeit der eigenen Nutzung des selbst erzeugten Solarstroms und auf die Kombination von Photovoltaik-Anlagen und Batteriespeichern eingegangen. Der Referent geht auch auf die Wirtschaftlichkeit und die Kosten für Neuanlagen ein und berichtet gegebenenfalls über vorhandene Fördermöglichkeiten. Auch aktuelles Trend wie Fassadenverkleidungen mit PV-Anlagen oder Balkonkraftwerke werden vorgestellt. Fragen und Anliegen der Teilnehmenden werden aufgegriffen und besprochen. Referent ist Diplomingenieur und Architekt Ralph Schmidt\, Geschäftsführer der ARGE SOLAR e.V. und Vorsitzender der Gebäudeenergieberater Saarland e.V. \n  \nNachhaltiges\, ressourcenschonendes und klimafreundliches Bauen gewinnt zunehmend an Bedeutung und wird immer mehr nachgefragt. Dabei spielt der Einsatz erneuerbarer Energien insbesondere die Erzeugung von Solarstrom durch Photovoltaik und Wärme durch Solarthermie eine zunehmend größere Bedeutung. Die Anwendungsmöglichkeiten von Photovoltaik in und an Gebäuden haben sich ebenfalls deutlich erweitert. Neben Dachanwendungen (Strom- und Wärmeerzeugung) kann bauwerkintegrierte Photovoltaik (BIPV) in der Fassade Aufgaben erfüllen\, die deutlich über die Stromgewinnung hinausgehen. Die ONLINE-Veranstaltung wird dazu Informationen und viele Praxisbeispiele bieten. \n  \nEine Anmeldung zur Veranstaltung ist erforderlich. \nAlternativ per Mail an veranstaltung@argesolar-saar.de oder energieberatung@wirtschaft.saarland.de \n  \n  \nWenn Sie Ihr Wissen vertiefen möchten\, nutzen Sie das Online-WIKI der Landeskampagne „Energieberatung Saar“: Dort erwarten Sie umfassende Informationen und sorgfältig zusammengestellte Materialien. Erfahren Sie u. a. mehr über Energiesparen\, Energieeffizienz\, energetische Sanierung\, erneuerbare Energien\, Förderprogramme\, effiziente Heizsysteme und viele weitere relevante Themen. Auf unserer stetig wachsenden Wissensplattform „Energiespar WIKI“ finden Sie interessante Informationen zum Stöbern\, Informieren\, und Teilen von Wissen für unterschiedliche Zielgruppen.
URL:https://www.argesolar-saar.de/va/landeskampagne-energieberatung-saar-online-vortrag-solarenergie-photovoltaik-und-solarthermie-alles-wissenswerte-fuer-2025-trends-und-innovationen/
LOCATION:Online
CATEGORIES:Landeskampagne "Energieberatung Saar"
ATTACH;FMTTYPE=image/jpeg:https://www.argesolar-saar.de/wp-content/uploads/2024/10/Logo-Landeskampagne-EBS.jpg
END:VEVENT
END:VCALENDAR