BEGIN:VCALENDAR
VERSION:2.0
PRODID:-//ARGE SOLAR e.V. - ECPv6.15.20//NONSGML v1.0//EN
CALSCALE:GREGORIAN
METHOD:PUBLISH
X-WR-CALNAME:ARGE SOLAR e.V.
X-ORIGINAL-URL:https://www.argesolar-saar.de
X-WR-CALDESC:Veranstaltungen für ARGE SOLAR e.V.
REFRESH-INTERVAL;VALUE=DURATION:PT1H
X-Robots-Tag:noindex
X-PUBLISHED-TTL:PT1H
BEGIN:VTIMEZONE
TZID:Europe/Berlin
BEGIN:DAYLIGHT
TZOFFSETFROM:+0100
TZOFFSETTO:+0200
TZNAME:CEST
DTSTART:20230326T010000
END:DAYLIGHT
BEGIN:STANDARD
TZOFFSETFROM:+0200
TZOFFSETTO:+0100
TZNAME:CET
DTSTART:20231029T010000
END:STANDARD
BEGIN:DAYLIGHT
TZOFFSETFROM:+0100
TZOFFSETTO:+0200
TZNAME:CEST
DTSTART:20240331T010000
END:DAYLIGHT
BEGIN:STANDARD
TZOFFSETFROM:+0200
TZOFFSETTO:+0100
TZNAME:CET
DTSTART:20241027T010000
END:STANDARD
BEGIN:DAYLIGHT
TZOFFSETFROM:+0100
TZOFFSETTO:+0200
TZNAME:CEST
DTSTART:20250330T010000
END:DAYLIGHT
BEGIN:STANDARD
TZOFFSETFROM:+0200
TZOFFSETTO:+0100
TZNAME:CET
DTSTART:20251026T010000
END:STANDARD
END:VTIMEZONE
BEGIN:VEVENT
DTSTART;TZID=Europe/Berlin:20241205T180000
DTEND;TZID=Europe/Berlin:20241205T190000
DTSTAMP:20260423T223631
CREATED:20240923T141315Z
LAST-MODIFIED:20241204T113312Z
UID:12510-1733421600-1733425200@www.argesolar-saar.de
SUMMARY:ABGESAGT // Vortrag "Das Kommunale Klimaschutz-Netzwerk im Landkreis Neunkirchen stellt sich vor!"
DESCRIPTION:Leider muss die Veranstaltung entfallen. Wir bitten um Verständnis. \n  \n  \nAm 05.12.2024 findet ab 18.00 Uhr eine Online-Infoveranstaltung rund um das „Kommunale Klimaschutz-Netzwerk im Landkreis Neunkirchen“ statt. \n  \nHier finden Sie den Flyer zur Veranstaltung. \n  \nWeitere Informationen zum Projekt „Kommunales Klimaschutz-Netzwerk im Landkreis Neunkirchen“ finden Sie hier: https://www.argesolar-saar.de/kommunales-klimaschutz-netzwerk-im-landkreis-neunkirchen/ \n  \n  \nAlle unsere Veranstaltungen finden Sie unter www.argesolar-saar.de/veranstaltungen/. \nInformationen und/oder Präsentationsmaterialien zu dieser und weiteren Veranstaltungen finden Sie\, wie immer\, im multimedialen Online-Wiki der Landeskampagne „Energieberatung Saar“. Dort finden Sie auch den monatlichen Newsletter der Landeskampagne zum Nachlesen.
URL:https://www.argesolar-saar.de/va/vortrag-das-kommunale-klimaschutz-netzwerk-im-landkreis-neunkirchen-stellt-sich-vor/
LOCATION:Online
ATTACH;FMTTYPE=image/png:https://www.argesolar-saar.de/wp-content/uploads/2024/10/Logo-KKSN-LK-NK-ausgeschnitten.png
END:VEVENT
END:VCALENDAR