BEGIN:VCALENDAR
VERSION:2.0
PRODID:-//ARGE SOLAR e.V. - ECPv6.15.20//NONSGML v1.0//EN
CALSCALE:GREGORIAN
METHOD:PUBLISH
X-ORIGINAL-URL:https://www.argesolar-saar.de
X-WR-CALDESC:Veranstaltungen für ARGE SOLAR e.V.
REFRESH-INTERVAL;VALUE=DURATION:PT1H
X-Robots-Tag:noindex
X-PUBLISHED-TTL:PT1H
BEGIN:VTIMEZONE
TZID:Europe/Berlin
BEGIN:DAYLIGHT
TZOFFSETFROM:+0100
TZOFFSETTO:+0200
TZNAME:CEST
DTSTART:20230326T010000
END:DAYLIGHT
BEGIN:STANDARD
TZOFFSETFROM:+0200
TZOFFSETTO:+0100
TZNAME:CET
DTSTART:20231029T010000
END:STANDARD
BEGIN:DAYLIGHT
TZOFFSETFROM:+0100
TZOFFSETTO:+0200
TZNAME:CEST
DTSTART:20240331T010000
END:DAYLIGHT
BEGIN:STANDARD
TZOFFSETFROM:+0200
TZOFFSETTO:+0100
TZNAME:CET
DTSTART:20241027T010000
END:STANDARD
BEGIN:DAYLIGHT
TZOFFSETFROM:+0100
TZOFFSETTO:+0200
TZNAME:CEST
DTSTART:20250330T010000
END:DAYLIGHT
BEGIN:STANDARD
TZOFFSETFROM:+0200
TZOFFSETTO:+0100
TZNAME:CET
DTSTART:20251026T010000
END:STANDARD
END:VTIMEZONE
BEGIN:VEVENT
DTSTART;TZID=Europe/Berlin:20241118T170000
DTEND;TZID=Europe/Berlin:20241118T183000
DTSTAMP:20260424T014247
CREATED:20241022T094317Z
LAST-MODIFIED:20241115T142829Z
UID:12946-1731949200-1731954600@www.argesolar-saar.de
SUMMARY:Online-Vortrag „PV-Balkonkraftwerke“
DESCRIPTION:Am Montag\, den 18.11.2024 bietet die Landeskampagne „Energieberatung Saar“ zusammen mit der Verbraucherzentrale Saarland von 17:00 bis 18:30 Uhr eine Online-Veranstaltung rund um das Thema „PV-Balkonkraftwerke“ an. \nSteckersolargeräte\, auch oft „Balkonkraftwerke“ genannt\, sind die moderne Antwort auf die steigenden Anforderungen an saubere Energie. Sie nutzen die Kraft der Sonne\, um Strom zu erzeugen\, der im besten Fall direkt vor Ort genutzt werden kann. Die kompakten Anlagen sind nicht nur umweltfreundlich\, sondern können auch langfristig zu erheblichen Ersparnissen bei den Energiekosten führen. \nDiese Veranstaltung richtet sich an alle Interessierten\, die darüber nachdenken\, ihre Energieversorgung nachhaltiger zu gestalten. Cathrin Becker\, Energieberaterin der Verbraucherzentrale Saarland\, informiert für wen solche Anlagen geeignet sind\, mit welchen Kosten man rechnen muss\, was es bringt und worauf man bei Anschaffung\, Installation und Betrieb achten sollte. \nDie Teilnahme ist kostenfrei. Eine Anmeldung ist allerdings erforderlich:
URL:https://www.argesolar-saar.de/va/online-vortrag-pv-balkonkraftwerke/
LOCATION:Online
CATEGORIES:Landeskampagne "Energieberatung Saar"
ATTACH;FMTTYPE=image/png:https://www.argesolar-saar.de/wp-content/uploads/2024/09/VZEBS1.png
END:VEVENT
END:VCALENDAR