BEGIN:VCALENDAR
VERSION:2.0
PRODID:-//ARGE SOLAR e.V. - ECPv6.15.20//NONSGML v1.0//EN
CALSCALE:GREGORIAN
METHOD:PUBLISH
X-ORIGINAL-URL:https://www.argesolar-saar.de
X-WR-CALDESC:Veranstaltungen für ARGE SOLAR e.V.
REFRESH-INTERVAL;VALUE=DURATION:PT1H
X-Robots-Tag:noindex
X-PUBLISHED-TTL:PT1H
BEGIN:VTIMEZONE
TZID:Europe/Berlin
BEGIN:DAYLIGHT
TZOFFSETFROM:+0100
TZOFFSETTO:+0200
TZNAME:CEST
DTSTART:20230326T010000
END:DAYLIGHT
BEGIN:STANDARD
TZOFFSETFROM:+0200
TZOFFSETTO:+0100
TZNAME:CET
DTSTART:20231029T010000
END:STANDARD
BEGIN:DAYLIGHT
TZOFFSETFROM:+0100
TZOFFSETTO:+0200
TZNAME:CEST
DTSTART:20240331T010000
END:DAYLIGHT
BEGIN:STANDARD
TZOFFSETFROM:+0200
TZOFFSETTO:+0100
TZNAME:CET
DTSTART:20241027T010000
END:STANDARD
BEGIN:DAYLIGHT
TZOFFSETFROM:+0100
TZOFFSETTO:+0200
TZNAME:CEST
DTSTART:20250330T010000
END:DAYLIGHT
BEGIN:STANDARD
TZOFFSETFROM:+0200
TZOFFSETTO:+0100
TZNAME:CET
DTSTART:20251026T010000
END:STANDARD
END:VTIMEZONE
BEGIN:VEVENT
DTSTART;TZID=Europe/Berlin:20241107T170000
DTEND;TZID=Europe/Berlin:20241107T203000
DTSTAMP:20260424T001121
CREATED:20241024T142651Z
LAST-MODIFIED:20241025T150929Z
UID:13003-1730998800-1731011400@www.argesolar-saar.de
SUMMARY:Netzwerkveranstaltung „Wärmepumpe als Faktor und Herausforderung in der Energiewende und Wirtschaftswende im Saarland!?“ – Landkreis Saarlouis
DESCRIPTION:Das Vernetzen und der gemeinsame Austausch stehen im Mittelpunkt dieser Fachveranstaltung.\nNach Begrüßung durch die Gastgeber gibt es einen Keynote Vortrag zur „Rolle der Wärmepumpe für die Energiewende in Deutschland“ vom Bundesverband Wärmepumpe e.V. und eine anschließende Podiumsdiskussion mit Vertretern aus der Energiewirtschaft\, Handwerk\, Verbänden und Verwaltung zum Thema „Wärmepumpe als Faktor und Herausforderung in der Energiewende und Wirtschaftswende im Saarland!?“ mit den Teilnehmenden der Veranstaltung (Fragen erwünscht). Im Anschluss sind alle Anwesenden bei einem Imbiss und Getränken zum Austausch und Netzwerken eingeladen. \nDie Veranstaltung richtet sich an Fachkräfte und Berufseinsteiger:innen aus den Bereichen Energieberatung\, Handwerk und Kommunen. \nVeranstalter ist ARGE SOLAR e.V. im Auftrag der Deutschen Energie-Agentur GmbH (dena) im Rahmen der deutschlandweiten Veranstaltungswoche „Woche der Wärmepumpe“ gemeinsam mit der Landeskampagne „Energieberatung Saar“ in Kooperation mit Regionalverband Saarbrücken\, Landkreis Saarlouis\, Stadtwerke Saarbrücken Netz\, Stadtwerke Saarlouis und energis. \nDie Teilnahme ist kostenfrei\, eine Anmeldung unter dem nachfolgenden Link ist allerdings notwendig. Die Anmeldung erfolgt über die Plattform Webex welche automatisch eine Bestätigung mit Meeting-Link an Sie versendet. Da diese Veranstaltung eine Präsenz-Veranstaltung ist können Sie diesen Link ignorieren. \nZur Anmeldung: Netzwerkveranstaltung „Wärmepumpe als Faktor und Herausforderung in der Energiewende und Wirtschaftswende im Saarland!?“ – Landkreis Saarlouis \n  \nAblauf: \n17.00 Uhr – Ankommen\, get together\n18.00 Uhr – Begrüßung\, Grußworte (u.a. Gastgeber)\n18.30 Uhr – Keynote Vortrag (Bundesverband Wärmepumpe)\n19.00 Uhr – Diskussionsrunde / Podium\n19.45 Uhr – Austausch\, Gespräche\, Essen und Getränke\, Netzwerken\n21.00 Uhr – Ende \n  \nDatenschutzhinweis: Wir verwenden Ihre angegebenen personenbezogenen Daten ausschließlich für die Vor- und Nachbereitung dieser Veranstaltung. Ihre Daten werden nicht an Dritte weitergegeben. Wir machen Sie darauf aufmerksam\, dass bei den Veranstaltungen fotografiert und/oder aufgezeichnet wird. Mit Ihrer Teilnahme willigen Sie ein\, dass gegebenenfalls ein Foto und/oder eine filmische Abbildung Ihrer Person für die Veröffentlichung genutzt wird. \nWeitere Informationen unter: www.argesolar-saar.de/datenschutzerklaerung/
URL:https://www.argesolar-saar.de/va/netzwerkveranstaltung-waermepumpe-als-faktor-und-herausforderung-in-der-energiewende-und-wirtschaftswende-im-saarland-mit-podiumsdiskussion-2/
LOCATION:Stadtwerke Saarlouis (Holtzendorffer Str. 12\, 66740 Saarlouis)
ATTACH;FMTTYPE=image/png:https://www.argesolar-saar.de/wp-content/uploads/2024/10/WdWaermepumpe-Mail-Banner.png
ORGANIZER;CN="ARGE SOLAR e.V.":MAILTO:veranstaltung@argesolar-saar.de
END:VEVENT
END:VCALENDAR