BEGIN:VCALENDAR
VERSION:2.0
PRODID:-//ARGE SOLAR e.V. - ECPv6.15.20//NONSGML v1.0//EN
CALSCALE:GREGORIAN
METHOD:PUBLISH
X-WR-CALNAME:ARGE SOLAR e.V.
X-ORIGINAL-URL:https://www.argesolar-saar.de
X-WR-CALDESC:Veranstaltungen für ARGE SOLAR e.V.
REFRESH-INTERVAL;VALUE=DURATION:PT1H
X-Robots-Tag:noindex
X-PUBLISHED-TTL:PT1H
BEGIN:VTIMEZONE
TZID:Europe/Berlin
BEGIN:DAYLIGHT
TZOFFSETFROM:+0100
TZOFFSETTO:+0200
TZNAME:CEST
DTSTART:20230326T010000
END:DAYLIGHT
BEGIN:STANDARD
TZOFFSETFROM:+0200
TZOFFSETTO:+0100
TZNAME:CET
DTSTART:20231029T010000
END:STANDARD
BEGIN:DAYLIGHT
TZOFFSETFROM:+0100
TZOFFSETTO:+0200
TZNAME:CEST
DTSTART:20240331T010000
END:DAYLIGHT
BEGIN:STANDARD
TZOFFSETFROM:+0200
TZOFFSETTO:+0100
TZNAME:CET
DTSTART:20241027T010000
END:STANDARD
BEGIN:DAYLIGHT
TZOFFSETFROM:+0100
TZOFFSETTO:+0200
TZNAME:CEST
DTSTART:20250330T010000
END:DAYLIGHT
BEGIN:STANDARD
TZOFFSETFROM:+0200
TZOFFSETTO:+0100
TZNAME:CET
DTSTART:20251026T010000
END:STANDARD
END:VTIMEZONE
BEGIN:VEVENT
DTSTART;TZID=Europe/Berlin:20241106T120000
DTEND;TZID=Europe/Berlin:20241106T210000
DTSTAMP:20260424T000553
CREATED:20241025T094928Z
LAST-MODIFIED:20241105T121855Z
UID:13076-1730894400-1730926800@www.argesolar-saar.de
SUMMARY:Wärmepumpen-Infotag im Regionalverband Saarbrücken
DESCRIPTION:Großer Informationstag mit vielseitigem Angebot in der Q-Lisse in Quierschied. Es erwarten Sie Vorträge rund um die Wärmepumpe\, eine interaktive Ausstellung und der “Markt der regionalen Energieexperten” mit neutralen Informations- und Beratungsangeboten und Fachleuten aus der Region für Ihre Fragen und Anliegen. Die Veranstaltung richtet sich an alle interessierten Bürger:innen. \nVeranstalter ist ARGE SOLAR e.V. im Auftrag der Deutschen Energie-Agentur GmbH (dena) im Rahmen der deutschlandweiten Veranstaltungswoche „Woche der Wärmepumpe“ in Kooperation mit der Landeskampagne „Energieberatung Saar“ Regionalverband Saarbrücken\, Landkreis Saarlouis und energis. \nAblauf: \n12.00 Uhr – Offizielle Eröffnung Ausstellung und “Markt der regionalen Energieexperten” \nStart Youtube Live-Stream \n14.00 Uhr – Begrüßung durch regionale Vertreter (Herr Maurer\, Bürgermeister Gemeinde Quierschied; Herr Peter Gillo\, Regionalverbandsdirektor; Ralph Schmidt\, GF Arge Solar e.V.) \n14.30 Uhr – Anschließende Podiumsdiskussion (Herr Peter Gillo\, Regionalverbandsdirektor; Eric Scherer\, LIM Landesinnung Schornsteinfeger; Ralph Schmidt\, Vorsitzender Gebäudeenergieberater Saarland) \nZeit für den Besuch der Ausstellung\, Beratung\, Gespräche \n16.00 Uhr – 16.45 Uhr – Vortrag rund um die Wärmepumpe mit Fokus auf Ein- und Zweifamilienhäusern – „Wie kommt die Wärmepumpe in mein Haus? Alles über Auswahl\, Förderung und Einbau“ \nDanach Zeit für den Besuch der Ausstellung\, Beratung\, Gespräche \n17.30 Uhr – 18.15 Uhr – Wiederholung: Vortrag rund um die Wärmepumpe mit Fokus auf Ein- und Zweifamilienhäusern – „Wie kommt die Wärmepumpe in mein Haus? Alles über Auswahl\, Förderung und Einbau“ \nZeit für den Besuch der Ausstellung\, Beratung\, Gespräche \nCa. 20.00 Uhr – Ausklingen & Ende der Veranstaltung\n \nSie können die Veranstaltung zu jedem Zeitpunkt besuchen. Zwischen und nach den offiziellen Programmpunkten haben Sie Gelegenheit für den Besuch der Ausstellung und persönliche Gespräche mit den regionalen Fachleuten. \nDie offiziellen Programmpunkte ab 14 Uhr werden live auf unserem Youtube-Kanal übertragen – für alle die nicht vor Ort sein können! Hier geht’s zur Live-Übertragung. \nBeratungsangebote und „Markt der regionalen Energieexperten“ u.a. mit: \nLandeskampagne “Energieberatung Saar”\nRegionalverband Saarbrücken\nSchornsteinfegerinnung für das Saarland\nenergis\nStiebel-Eltron\nBostal-Tec\nViessmann\nBuderus\nHolzhauer KG mit Samsung \n \n  \nDie Teilnahme ist kostenfrei und eine Anmeldung ist nicht notwendig. Wir freuen uns auf Ihren Besuch!
URL:https://www.argesolar-saar.de/va/waermepumpen-infotag-im-regionalverband-saarbruecken/
LOCATION:Q-Lisse Quierschied (Rathausplatz 7\, 66287 Quierschied) – Die Veranstaltung findet im Rahmen der “Woche der Wärmepumpe” statt
CATEGORIES:Woche der Wärmepumpe 24
ATTACH;FMTTYPE=image/png:https://www.argesolar-saar.de/wp-content/uploads/2024/10/WdWaermepumpe-Mail-Banner.png
ORGANIZER;CN="ARGE SOLAR e.V.":MAILTO:veranstaltung@argesolar-saar.de
END:VEVENT
END:VCALENDAR