BEGIN:VCALENDAR
VERSION:2.0
PRODID:-//ARGE SOLAR e.V. - ECPv6.15.20//NONSGML v1.0//EN
CALSCALE:GREGORIAN
METHOD:PUBLISH
X-WR-CALNAME:ARGE SOLAR e.V.
X-ORIGINAL-URL:https://www.argesolar-saar.de
X-WR-CALDESC:Veranstaltungen für ARGE SOLAR e.V.
REFRESH-INTERVAL;VALUE=DURATION:PT1H
X-Robots-Tag:noindex
X-PUBLISHED-TTL:PT1H
BEGIN:VTIMEZONE
TZID:Europe/Berlin
BEGIN:DAYLIGHT
TZOFFSETFROM:+0100
TZOFFSETTO:+0200
TZNAME:CEST
DTSTART:20230326T010000
END:DAYLIGHT
BEGIN:STANDARD
TZOFFSETFROM:+0200
TZOFFSETTO:+0100
TZNAME:CET
DTSTART:20231029T010000
END:STANDARD
BEGIN:DAYLIGHT
TZOFFSETFROM:+0100
TZOFFSETTO:+0200
TZNAME:CEST
DTSTART:20240331T010000
END:DAYLIGHT
BEGIN:STANDARD
TZOFFSETFROM:+0200
TZOFFSETTO:+0100
TZNAME:CET
DTSTART:20241027T010000
END:STANDARD
BEGIN:DAYLIGHT
TZOFFSETFROM:+0100
TZOFFSETTO:+0200
TZNAME:CEST
DTSTART:20250330T010000
END:DAYLIGHT
BEGIN:STANDARD
TZOFFSETFROM:+0200
TZOFFSETTO:+0100
TZNAME:CET
DTSTART:20251026T010000
END:STANDARD
END:VTIMEZONE
BEGIN:VEVENT
DTSTART;TZID=Europe/Berlin:20241013T100000
DTEND;TZID=Europe/Berlin:20241013T120000
DTSTAMP:20260424T015209
CREATED:20240924T081839Z
LAST-MODIFIED:20241002T141100Z
UID:12544-1728813600-1728820800@www.argesolar-saar.de
SUMMARY:"Energiespar-Sprechstunde“\, Beratungsaktion per Telefon mit ARGE SOLAR Geschäftsführerin Eva Kiefer-Kremer
DESCRIPTION:Die Energiewende in den eigenen vier Wänden kann durch vielfältige Maßnahmen umgesetzt werden: Energieeinsparmaßnahmen wie Wärmedämmung und neue Fenster\, effizientere Heizsysteme\, Systemoptimierungen\, Lüftungsanlagen mit Wärmerückgewinnung oder durch den Einsatz erneuerbarer Energien wie Photovoltaik\, Solarthermie\, Wärmepumpe oder Biomasse. Mit einer Gebäudedämmung lassen sich aber nicht nur Heizkosten einsparen\, sondern auch die Behaglichkeit steigern und Schimmelschäden vermeiden. Welche Heizung ist für welches Haus geeignet? Lohnt sich eine Solaranlage auf meinem Dach oder am Haus? Auf diese Fragen und die passenden Förderprogramme sowie die aktuellen gesetzlichen Vorgaben des Bundes geht die Sprechstunde ebenfalls ein.\nDie Sprechstunde am 13.10 findet von 10:00-14:00 Uhr statt.\n  \nMelden Sie sich einfach bei unserer Hotline unter: 0681-99884-444\n  \nEine Anmeldung zur Veranstaltung ist nicht erforderlich.\n \n  \nAlle unsere Veranstaltungen finden Sie unter www.argesolar-saar.de/veranstaltungen/. \nInformationen und/oder Präsentationsmaterialien zu dieser und weiteren Veranstaltungen finden Sie\, wie immer\, im multimedialen Online-Wiki der Landeskampagne „Energieberatung Saar“. Dort finden Sie auch den monatlichen Newsletter der Landeskampagne zum Nachlesen.
URL:https://www.argesolar-saar.de/va/energiespar-sprechstunde-beratungsaktion-per-telefon-mit-arge-solar-geschaeftsfuehrerin-eva-kiefer-kremer/
LOCATION:Telefonisch – Die Veranstaltung findet im Rahmen der Aktionswoche “Das Saarland voller Energie” statt
CATEGORIES:Aktionswoche 24
ATTACH;FMTTYPE=image/jpeg:https://www.argesolar-saar.de/wp-content/uploads/2023/12/ARGE-SOLAR_LOGO_CMYK.jpg
ORGANIZER;CN="ARGE SOLAR e.V.":MAILTO:veranstaltung@argesolar-saar.de
END:VEVENT
END:VCALENDAR