BEGIN:VCALENDAR
VERSION:2.0
PRODID:-//ARGE SOLAR e.V. - ECPv6.15.20//NONSGML v1.0//EN
CALSCALE:GREGORIAN
METHOD:PUBLISH
X-ORIGINAL-URL:https://www.argesolar-saar.de
X-WR-CALDESC:Veranstaltungen für ARGE SOLAR e.V.
REFRESH-INTERVAL;VALUE=DURATION:PT1H
X-Robots-Tag:noindex
X-PUBLISHED-TTL:PT1H
BEGIN:VTIMEZONE
TZID:Europe/Berlin
BEGIN:DAYLIGHT
TZOFFSETFROM:+0100
TZOFFSETTO:+0200
TZNAME:CEST
DTSTART:20230326T010000
END:DAYLIGHT
BEGIN:STANDARD
TZOFFSETFROM:+0200
TZOFFSETTO:+0100
TZNAME:CET
DTSTART:20231029T010000
END:STANDARD
BEGIN:DAYLIGHT
TZOFFSETFROM:+0100
TZOFFSETTO:+0200
TZNAME:CEST
DTSTART:20240331T010000
END:DAYLIGHT
BEGIN:STANDARD
TZOFFSETFROM:+0200
TZOFFSETTO:+0100
TZNAME:CET
DTSTART:20241027T010000
END:STANDARD
BEGIN:DAYLIGHT
TZOFFSETFROM:+0100
TZOFFSETTO:+0200
TZNAME:CEST
DTSTART:20250330T010000
END:DAYLIGHT
BEGIN:STANDARD
TZOFFSETFROM:+0200
TZOFFSETTO:+0100
TZNAME:CET
DTSTART:20251026T010000
END:STANDARD
END:VTIMEZONE
BEGIN:VEVENT
DTSTART;TZID=Europe/Berlin:20241008T083000
DTEND;TZID=Europe/Berlin:20241008T160000
DTSTAMP:20260424T015558
CREATED:20240923T131131Z
LAST-MODIFIED:20240927T091648Z
UID:12496-1728376200-1728403200@www.argesolar-saar.de
SUMMARY:energis-Aktionswoche „Energiespar- und Heizungsberatung“
DESCRIPTION:Zwischen dem 07.10. und 11.10.2024 findet im Rahmen der energis-Aktionswoche eine Energiespar- und Heizungsberatung statt. Hier können Sie innerhalb der Öffnungszeiten von 08:30-12:30 Uhr und 14:00-16:00 Uhr im Kundencenter der energis in Saarlouis die Beratung in Anspruch nehmen. \n  \nEine Anmeldung zur Veranstaltung ist nicht erforderlich. \n  \n  \nAlle unsere Veranstaltungen finden Sie unter www.argesolar-saar.de/veranstaltungen/. \nInformationen und/oder Präsentationsmaterialien zu dieser und weiteren Veranstaltungen finden Sie\, wie immer\, im multimedialen Online-Wiki der Landeskampagne „Energieberatung Saar“. Dort finden Sie auch den monatlichen Newsletter der Landeskampagne zum Nachlesen.
URL:https://www.argesolar-saar.de/va/energis-aktionswoche-energiespar-und-heizungsberatung/
LOCATION:energis Kundencenter Saarlouis (Walter-Bloch-Straße 2\, 66740 Saarlouis) – Die Veranstaltung findet im Rahmen der Aktionswoche “Das Saarland voller Energie” statt
CATEGORIES:Aktionswoche 24
ATTACH;FMTTYPE=image/jpeg:https://www.argesolar-saar.de/wp-content/uploads/2023/07/energis.jpg
END:VEVENT
BEGIN:VEVENT
DTSTART;TZID=Europe/Berlin:20241008T090000
DTEND;TZID=Europe/Berlin:20241008T163000
DTSTAMP:20260424T015558
CREATED:20240826T144643Z
LAST-MODIFIED:20241002T125615Z
UID:12359-1728378000-1728405000@www.argesolar-saar.de
SUMMARY:Energieberatertag Saar 2024 - Fachkongress „Energetische Sanierung in der Praxis“
DESCRIPTION:Hybridveranstaltung: Präsenz (im saarländischen Ministerium für Wirtschaft\, Franz-Josef-Röder-Straße 17\, 66119 Saarbrücken\, Raum E.003) oder Online-Teilnahmemöglichkeit (per Webex) \n  \nDer Fachkongress wendet sich auch in seiner 11. Auflage an Energieberater\, Architekten\, Ingenieure\, Handwerker und Fachleute aus dem Bereich der energetischen Gebäudesanierung und Immobilienwirtschaft sowie interessierte Multiplikatoren\, Unternehmen und kommunale Vertreter\, die aktuelle Informationen für Ihr Tagesgeschäft erhalten und ihre Fachkenntnisse im Bereich des energieeffizienten Bauens und der Gebäudesanierung ausbauen möchten. Schwerpunkte des diesjährigen Energieberatertages sind Neuerungen bei Förderprogrammen und gesetzlichen Rahmenbedingungen sowie die Umsetzung der Bundesförderung für effiziente Gebäude (BEG) in der Praxis der Energieberatung. \nIn diesem Jahr wird der Energieberatertag erstmals als Hybrid-Veranstaltung durchgeführt und bietet dazu wie gewohnt Informationen zu nationalen förderrechtlichen und regulatorischen Themen und aktuelle Informationen über technische Neuerungen\, Anwendungshilfen\, Tipps und Wissen zur Energieberatung in der Praxis. Veranstalter sind der Gebäudeenergieberater Saarland e.V. und die Landeskampagne „Energieberatung Saar“\, die vom Wirtschaft\, Innovation\, Digitales und Energie des Saarlandes (MWIDE) durchgeführt wird. Neben den ausführlichen Pausen gibt es zwischen den Vorträgen die Möglichkeit für Fragen und Diskussion. Das Ende der Veranstaltung ist um ca. 16.30 Uhr geplant. \n  \nDie Teilnahmegebühr beträgt für Mitglieder des GEB Saar 60\,- Euro pro Person/Teilnehmer (zzgl. MwSt.\, inkl. Teilnahmezertifikat)\, für Mitglieder der Kooperationspartner und anderer Landesverbände des GIH BV 80\,- Euro netto pro Person/Teilnehmer\, für alle anderen Teilnehmer 120\,- Euro netto pro Person/Teilnehmer. Der Fachkongress wird voraussichtlich sowohl von der Deutschen Energie-Agentur als auch von der Architektenkammer und der Ingenieurkammer des Saarlandes als Fortbildungsveranstaltung anerkannt. \n  \nAlle weiteren Informationen zum detaillierten Programm\, Ablauf\, Anmeldeunterlagen und Organisation zum Energieberatertag Saar 2024 folgen. \n  \nEine Anmeldung zur Veranstaltung ist notwendig. \n  \nDen FLYER zur Veranstaltung finden Sie hier. \n  \n  \n  \nAlle unsere Veranstaltungen finden Sie unter www.argesolar-saar.de/veranstaltungen/. \nInformationen und/oder Präsentationsmaterialien zu dieser und weiteren Veranstaltungen finden Sie\, wie immer\, im multimedialen Online-Wiki der Landeskampagne „Energieberatung Saar“. Dort finden Sie auch den monatlichen Newsletter der Landeskampagne zum Nachlesen.
URL:https://www.argesolar-saar.de/va/energieberatertag-saar-2024-fachkongress-energetische-sanierung-in-der-praxis/
LOCATION:Raum E.003\, Franz-Josef-Röder-Str. 17 (MWIDE)\, 66119 Saarbrücken oder Online – Die Veranstaltung findet im Rahmen der Aktionswoche “Das Saarland voller Energie” statt
CATEGORIES:Aktionswoche 24,Landeskampagne "Energieberatung Saar"
ATTACH;FMTTYPE=image/png:https://www.argesolar-saar.de/wp-content/uploads/2024/08/Beratertag2.png
END:VEVENT
BEGIN:VEVENT
DTSTART;TZID=Europe/Berlin:20241008T180000
DTEND;TZID=Europe/Berlin:20241008T200000
DTSTAMP:20260424T015558
CREATED:20240923T124032Z
LAST-MODIFIED:20241002T125814Z
UID:12481-1728410400-1728417600@www.argesolar-saar.de
SUMMARY:Infoveranstaltung „Das neue Gebäudeenergiegesetz („Heizungsgesetz“)\, Wissenswertes zu aktuellen Heizungstechniken und Fördermöglichkeiten“
DESCRIPTION:Infoveranstaltung der Gemeinde Schmelz mit der Landeskampagne „Energieberatung Saar“ des Ministeriums für Wirtschaft\, Innovation\, Digitales und Energie im Rahmen der Aktionswoche „Das Saarland voller Energie“ in Kooperation mit dem KlikKS Paten Thorsten Recktenwald. \nWohl kein Gesetz im letzten Jahr hat derart hohe Wellen geschlagen\, wie das „Gebäudeenergiegesetz“ (GEG) oder auch vereinfacht „Heizungsgesetz“ genannt.\nDoch was bedeutet das in Kraft getretene Gesetz für die Hausbesitzer und Hausbesitzerinnen? \nDie Referentin wird in ihrem Vortrag u.a. beleuchten\, was genau verabschiedet wurde\, welche Vorgaben gelten\, welche Heizungstechniken verfügbar und sinnvoll und welche Energiesparmaßnahmen empfehlenswert sind und welche Fördergelder es dafür gibt. \n  \nEine Anmeldung zur Veranstaltung ist erforderlich. \nAlternativ als Mail an veranstaltung@argesolar-saar.de \n  \nDen FLYER zur Veranstaltung finden Sie hier. \n  \n  \nAlle unsere Veranstaltungen finden Sie unter www.argesolar-saar.de/veranstaltungen/. \nInformationen und/oder Präsentationsmaterialien zu dieser und weiteren Veranstaltungen finden Sie\, wie immer\, im multimedialen Online-Wiki der Landeskampagne „Energieberatung Saar“. Dort finden Sie auch den monatlichen Newsletter der Landeskampagne zum Nachlesen.
URL:https://www.argesolar-saar.de/va/infoveranstaltung-das-neue-gebaeudeenergiegesetz-heizungsgesetz-wissenswertes-zu-aktuellen-heizungstechniken-und-foerdermoeglichkeiten/
LOCATION:Kulturhaus Hüttersdorf\, Berliner Str. 19 – Die Veranstaltung findet im Rahmen der Aktionswoche “Das Saarland voller Energie” statt
CATEGORIES:Aktionswoche 24,Landeskampagne "Energieberatung Saar"
ATTACH;FMTTYPE=image/png:https://www.argesolar-saar.de/wp-content/uploads/2024/09/GSEBS1.png
END:VEVENT
BEGIN:VEVENT
DTSTART;TZID=Europe/Berlin:20241008T180000
DTEND;TZID=Europe/Berlin:20241008T210000
DTSTAMP:20260424T015558
CREATED:20240923T131957Z
LAST-MODIFIED:20241002T131209Z
UID:12499-1728410400-1728421200@www.argesolar-saar.de
SUMMARY:Info-Abend „Energetische Gebäudesanierung und Energiesparen zu Hause“
DESCRIPTION:Infoveranstaltung der Stadt Blieskastel mit der Landeskampagne „Energieberatung Saar“ des Ministeriums für Wirtschaft\, Innovation\, Digitales und Energie im Rahmen der Aktionswoche „Das Saarland voller Energie“ in Kooperation mit den Biosphären Stadtwerke Bliestal. Interessierte Bürgerinnen und Bürger der Stadt Blieskastel sind herzlich eingeladen. \nAm 08.10.2024 findet ab 18 Uhr in Blieskastel eine Infoveranstaltung zum Thema „Gebäudesanierung und Energiesparen“ statt. Im Rahmen dieser Veranstaltung werden mehrere Referenten interessante Fachvorträge halten. \nFolgende Vorträge sind im Programm enthalten: \nReferent Dr. Hans-Henning Krämer Vortrag „Klimaschutz in der Biosphäre”\nReferent Dipl.-Ing. Ralph Schmidt Vortrag „Energetische Gebäudesanierung\, Energiesparen zu Hause\, größere und geringinvestive Maßnahmen – alles Wissenswerte für Hausbesitzer”\nReferentin Cathrin Becker Vortrag „Das neue Gebäudeenergiegesetz (GEG) Fördermöglichkeiten“”\n  \nEine Anmeldung zur Veranstaltung ist erforderlich: \nMail.: sandy.will@blieskatel.de\nTel.: +496842/926-1205\n  \nDen FLYER zur Veranstaltung finden Sie hier. \n  \nAlle unsere Veranstaltungen finden Sie unter www.argesolar-saar.de/veranstaltungen/. \nInformationen und/oder Präsentationsmaterialien zu dieser und weiteren Veranstaltungen finden Sie\, wie immer\, im multimedialen Online-Wiki der Landeskampagne „Energieberatung Saar“. Dort finden Sie auch den monatlichen Newsletter der Landeskampagne zum Nachlesen.
URL:https://www.argesolar-saar.de/va/info-abend-energetische-gebaeudesanierung-und-energiesparen-zu-hause/
LOCATION:Präsenz (saarl. Ministerium für Wirtschaft\, Franz-Joseph-Röder-Str. 17\, 66119 Saarbrücken\, Raum E.003) oder Online – Die Veranstaltung findet im Rahmen der Aktionswoche “Das Saarland voller Energie” statt
CATEGORIES:Aktionswoche 24
ATTACH;FMTTYPE=image/png:https://www.argesolar-saar.de/wp-content/uploads/2024/09/CombBlieskastelEbs.png
END:VEVENT
BEGIN:VEVENT
DTSTART;TZID=Europe/Berlin:20241008T183000
DTEND;TZID=Europe/Berlin:20241008T203000
DTSTAMP:20260424T015558
CREATED:20240924T124659Z
LAST-MODIFIED:20241002T131439Z
UID:12563-1728412200-1728419400@www.argesolar-saar.de
SUMMARY:Infoveranstaltung "Energetische Gebäudesanierung"
DESCRIPTION:Die Veränderungen in unserem Klima gehen unaufhaltsam voran\, und auch die Lebensbedingungen in unseren Regionen sind betroffen. Die Maßnahmen\, die wir ergreifen können\, sind allgemein bekannt. Viele Fachleute sind sich einig\, dass es kaum noch möglich ist\, diesen Prozess vollständig zu stoppen. Vielmehr geht es darum\, ihn auf ein erträgliches Maß zu begrenzen. Sowohl die Industrie als auch private Haushalte sind gefordert\, ihren Teil dazu beizutragen. Eine Möglichkeit besteht darin\, die Energie so effizient wie möglich zu nutzen. Denn auch Energie wird immer teurer\, erst recht\, wenn sie aus fossilen Energieformen besteht. Durch steigende CO2 Preise verteuern sich Öl und Gas in den kommenden Jahren merklich. Deshalb gilt die Devise\, so wenig Energie wie nötig zu verwenden. Ob zur Beheizung oder zur Kühlung\, ein gut gedämmtes Gebäude benötigt weniger Energie.\n  \n\nIn dieser Informations- und Diskussionsveranstaltung erhalten Sie Antworten auf Ihre Fragen rund um die energetische Sanierung sowie welche Möglichkeiten der Förderungen durch BAFA und KfW bestehen.\n  \nEintritt frei!\n  \nEine Anmeldung zur Veranstaltung unter www.vhs-lebach.de ist notwendig\, die Plätze sind begrenzt.\n  \n  \nAlle unsere Veranstaltungen finden Sie unter www.argesolar-saar.de/veranstaltungen/. \nInformationen und/oder Präsentationsmaterialien zu dieser und weiteren Veranstaltungen finden Sie\, wie immer\, im multimedialen Online-Wiki der Landeskampagne „Energieberatung Saar“. Dort finden Sie auch den monatlichen Newsletter der Landeskampagne zum Nachlesen. \n 
URL:https://www.argesolar-saar.de/va/infoveranstaltung-energetische-gebaeudesanierung/
LOCATION:Vortragssaal der VHS Lebach\, Dillinger Str. 67/3\, Lebach – Die Veranstaltung findet im Rahmen der Aktionswoche das Saarland voller Energie” statt
CATEGORIES:Aktionswoche 24
ATTACH;FMTTYPE=image/jpeg:https://www.argesolar-saar.de/wp-content/uploads/2024/09/EEN_LOGO_2019_RGB.jpg
END:VEVENT
END:VCALENDAR