BEGIN:VCALENDAR
VERSION:2.0
PRODID:-//ARGE SOLAR e.V. - ECPv6.15.20//NONSGML v1.0//EN
CALSCALE:GREGORIAN
METHOD:PUBLISH
X-WR-CALNAME:ARGE SOLAR e.V.
X-ORIGINAL-URL:https://www.argesolar-saar.de
X-WR-CALDESC:Veranstaltungen für ARGE SOLAR e.V.
REFRESH-INTERVAL;VALUE=DURATION:PT1H
X-Robots-Tag:noindex
X-PUBLISHED-TTL:PT1H
BEGIN:VTIMEZONE
TZID:Europe/Berlin
BEGIN:DAYLIGHT
TZOFFSETFROM:+0100
TZOFFSETTO:+0200
TZNAME:CEST
DTSTART:20230326T010000
END:DAYLIGHT
BEGIN:STANDARD
TZOFFSETFROM:+0200
TZOFFSETTO:+0100
TZNAME:CET
DTSTART:20231029T010000
END:STANDARD
BEGIN:DAYLIGHT
TZOFFSETFROM:+0100
TZOFFSETTO:+0200
TZNAME:CEST
DTSTART:20240331T010000
END:DAYLIGHT
BEGIN:STANDARD
TZOFFSETFROM:+0200
TZOFFSETTO:+0100
TZNAME:CET
DTSTART:20241027T010000
END:STANDARD
BEGIN:DAYLIGHT
TZOFFSETFROM:+0100
TZOFFSETTO:+0200
TZNAME:CEST
DTSTART:20250330T010000
END:DAYLIGHT
BEGIN:STANDARD
TZOFFSETFROM:+0200
TZOFFSETTO:+0100
TZNAME:CET
DTSTART:20251026T010000
END:STANDARD
END:VTIMEZONE
BEGIN:VEVENT
DTSTART;TZID=Europe/Berlin:20241006T100000
DTEND;TZID=Europe/Berlin:20241006T160000
DTSTAMP:20260424T015046
CREATED:20240923T115111Z
LAST-MODIFIED:20241002T115512Z
UID:12456-1728208800-1728230400@www.argesolar-saar.de
SUMMARY:Tag der offenen Tür - Energiegenossenschaft Ottweiler-Fürth: Beratung und Besichtigung der Energiezentrale
DESCRIPTION:Tag der offenen Tür\n\nFührung bis 15 Personen-Projektvorstellung – Dauer ca. 75 Minuten\n+ Führungen durch die Energiezentrale\, Für Gruppen bis 18 Personen können wir auch Infoveranstaltungen rund um das Thema Nahwärmeversorgung Fürth Dörrenbach in unserer Besprechungscontaineranlage durchführen.\n  \nHIER finden Sie den Flyer zur Veranstaltung.\n  \nEine Anmeldung zur Veranstaltung ist notwendig und erfolgt an:\ninfo@energiegenossenschaft-fuerth.com\nAlle unsere Veranstaltungen finden Sie unter www.argesolar-saar.de/veranstaltungen/. \nInformationen und/oder Präsentationsmaterialien zu dieser und weiteren Veranstaltungen finden Sie\, wie immer\, im multimedialen Online-Wiki der Landeskampagne „Energieberatung Saar“. Dort finden Sie auch den monatlichen Newsletter der Landeskampagne zum Nachlesen.
URL:https://www.argesolar-saar.de/va/tag-der-offenen-tuer-energiegenossenschaft-ottweiler-fuerth-beratung-und-besichtigung-der-energiezentrale/
LOCATION:Ottweiler-Fürth\, Weiherstraße 13 – Die Veranstaltung findet im Rahmen der Aktionswoche “Das Saarland voller Energie” statt
CATEGORIES:Aktionswoche 24
ATTACH;FMTTYPE=image/png:https://www.argesolar-saar.de/wp-content/uploads/2024/09/Fuer1.png
END:VEVENT
BEGIN:VEVENT
DTSTART;TZID=Europe/Berlin:20241006T100000
DTEND;TZID=Europe/Berlin:20241006T180000
DTSTAMP:20260424T015046
CREATED:20240923T113258Z
LAST-MODIFIED:20241002T120536Z
UID:12454-1728208800-1728237600@www.argesolar-saar.de
SUMMARY:Info- und Beratungsstand der Landeskampagne „Energieberatung Saar“ auf der Ingobertusmesse St. Ingbert  - Auftakt für die Aktionswoche „Das Saarland voller Energie“
DESCRIPTION:Den Auftakt und Startschuss der Aktionswoche „Das Saarland voller Energie“ der Landeskampagne “Energieberatung Saar” bildet dieses Jahr die Ingobertusmesse in St. Ingbert. Zahlreiche Aussteller präsentieren dort ihre Produkte\, Dienstleistungen und informieren zu verschiedenen Themenbereichen wie Renovierung\, Bau\, Energie- und Solartechnik sowie Gesundheit. Somit bildet diese Messe einen hervorragenden Rahmen für den Start der Aktionswoche! \nDie Landeskampagne “Energieberatung Saar” erwartet euch mit ihren Berater:innen an Stand Nr. 129/130! \n  \nEine Anmeldung zur Veranstaltung ist nicht erforderlich. \n  \nAlle unsere Veranstaltungen finden Sie unter www.argesolar-saar.de/veranstaltungen/. \nInformationen und/oder Präsentationsmaterialien zu dieser und weiteren Veranstaltungen finden Sie\, wie immer\, im multimedialen Online-Wiki der Landeskampagne „Energieberatung Saar“. Dort finden Sie auch den monatlichen Newsletter der Landeskampagne zum Nachlesen.
URL:https://www.argesolar-saar.de/va/info-und-beratungsstand-der-landeskampagne-energieberatung-saar-auf-der-ingobertusmesse-st-ingbert-auftakt-fuer-die-aktionswoche-das-saarland-voller-energie-3/
LOCATION:Stadthalle St. Ingbert\, Stand 129/130 – Die Veranstaltung findet im Rahmen der Aktionswoche “Das Saarland voller Energie” statt
CATEGORIES:Aktionswoche 24,Landeskampagne "Energieberatung Saar"
ATTACH;FMTTYPE=image/png:https://www.argesolar-saar.de/wp-content/uploads/2023/12/ebs-mit-text-43.png
END:VEVENT
END:VCALENDAR