BEGIN:VCALENDAR
VERSION:2.0
PRODID:-//ARGE SOLAR e.V. - ECPv6.15.20//NONSGML v1.0//EN
CALSCALE:GREGORIAN
METHOD:PUBLISH
X-ORIGINAL-URL:https://www.argesolar-saar.de
X-WR-CALDESC:Veranstaltungen für ARGE SOLAR e.V.
REFRESH-INTERVAL;VALUE=DURATION:PT1H
X-Robots-Tag:noindex
X-PUBLISHED-TTL:PT1H
BEGIN:VTIMEZONE
TZID:Europe/Berlin
BEGIN:DAYLIGHT
TZOFFSETFROM:+0100
TZOFFSETTO:+0200
TZNAME:CEST
DTSTART:20230326T010000
END:DAYLIGHT
BEGIN:STANDARD
TZOFFSETFROM:+0200
TZOFFSETTO:+0100
TZNAME:CET
DTSTART:20231029T010000
END:STANDARD
BEGIN:DAYLIGHT
TZOFFSETFROM:+0100
TZOFFSETTO:+0200
TZNAME:CEST
DTSTART:20240331T010000
END:DAYLIGHT
BEGIN:STANDARD
TZOFFSETFROM:+0200
TZOFFSETTO:+0100
TZNAME:CET
DTSTART:20241027T010000
END:STANDARD
BEGIN:DAYLIGHT
TZOFFSETFROM:+0100
TZOFFSETTO:+0200
TZNAME:CEST
DTSTART:20250330T010000
END:DAYLIGHT
BEGIN:STANDARD
TZOFFSETFROM:+0200
TZOFFSETTO:+0100
TZNAME:CET
DTSTART:20251026T010000
END:STANDARD
END:VTIMEZONE
BEGIN:VEVENT
DTSTART;TZID=Europe/Berlin:20241005T100000
DTEND;TZID=Europe/Berlin:20241005T180000
DTSTAMP:20260424T021401
CREATED:20240923T113146Z
LAST-MODIFIED:20241002T113235Z
UID:12452-1728122400-1728151200@www.argesolar-saar.de
SUMMARY:Info- und Beratungsstand der Landeskampagne „Energieberatung Saar“ auf der Ingobertusmesse St. Ingbert  - Auftakt für die Aktionswoche „Das Saarland voller Energie“
DESCRIPTION:Den Auftakt und Startschuss der Aktionswoche „Das Saarland voller Energie“ der Landeskampagne “Energieberatung Saar” bildet dieses Jahr die Ingobertusmesse in St. Ingbert. Zahlreiche Aussteller präsentieren dort ihre Produkte\, Dienstleistungen und informieren zu verschiedenen Themenbereichen wie Renovierung\, Bau\, Energie- und Solartechnik sowie Gesundheit. Somit bildet diese Messe einen hervorragenden Rahmen für den Start der Aktionswoche! \nDie Landeskampagne “Energieberatung Saar” erwartet euch mit ihren Beratern*Innen an Stand Nr. 129/130! \n  \nEine Anmeldung zur Veranstaltung ist nicht erforderlich. \n  \nAlle unsere Veranstaltungen finden Sie unter www.argesolar-saar.de/veranstaltungen/. \nInformationen und/oder Präsentationsmaterialien zu dieser und weiteren Veranstaltungen finden Sie\, wie immer\, im multimedialen Online-Wiki der Landeskampagne „Energieberatung Saar“. Dort finden Sie auch den monatlichen Newsletter der Landeskampagne zum Nachlesen.
URL:https://www.argesolar-saar.de/va/info-und-beratungsstand-der-landeskampagne-energieberatung-saar-auf-der-ingobertusmesse-st-ingbert-auftakt-fuer-die-aktionswoche-das-saarland-voller-energie-2/
LOCATION:Stadthalle St. Ingbert\, Stand 129/130 – Die Veranstaltung findet im Rahmen der Aktionswoche “Das Saarland voller Energie” statt
CATEGORIES:Aktionswoche 24,Landeskampagne "Energieberatung Saar"
ATTACH;FMTTYPE=image/png:https://www.argesolar-saar.de/wp-content/uploads/2023/12/ebs-mit-text-43.png
END:VEVENT
BEGIN:VEVENT
DTSTART;TZID=Europe/Berlin:20241005T110000
DTEND;TZID=Europe/Berlin:20241005T180000
DTSTAMP:20260424T021401
CREATED:20240923T112659Z
LAST-MODIFIED:20241002T113527Z
UID:12447-1728126000-1728151200@www.argesolar-saar.de
SUMMARY:UMWELT\, NACHHALTIGKEIT & KLIMA: Markt der Möglichkeiten in Rehlingen
DESCRIPTION:Das Projekt Stromspar-Check ist von 11.00 -18.00 Uhr mit einem Info-Pavillon vor Ort auf dem Markt der Möglichkeiten. Interessierte Haushalte können sich über das Projekt informieren\, sich für einen Haushalts-Check anmelden und die Energie- und Wasserspar-Soforthilfen in Augenschein nehmen\, die kostenfrei bei einem Haushaltscheck eingebaut werden. Des Weiteren können Kunden Fragen zur neuen Wärmeberatung stellen und Tipps zum Heizen und Lüften bekommen. Kleine und große Besucher:innen können am Glücksrad Fragen rund ums Energiesparen beantworten. Hier warten kleine Preise auf die erfolgreichen Mitspieler:innen.\n\n\nDer „Markt der Möglichkeiten“ ist weit mehr als eine herkömmliche Informationsveranstaltung: Hier wird Nachhaltigkeit greif- und erlebbar gemacht! Zahlreiche Aussteller aus der Gemeinde und Region präsentieren ihre innovativen Projekte und Produkte\, die aufzeigen\, wie wir gemeinsam Herausforderungen meistern können. Von Energieeffizienz über Nachhaltigkeit bis hin zu regional produzierten Lebensmitteln – hier finden Sie Inspirationen und konkrete Umsetzungsmöglichkeiten für einen umweltbewussten Lebensstil. Für alle Altersgruppen wird ein abwechslungsreiches Programm geboten.\n\nHIER finden Sie die Veranstaltungsseite der Gemeinde Rehlingen Siersburg.\nHIER finden Sie den Flyer zur Veranstaltung.\n\n\nEine Anmeldung zur Veranstaltung ist nicht erforderlich.\n\n\n  \nAlle unsere Veranstaltungen finden Sie unter www.argesolar-saar.de/veranstaltungen/. \nInformationen und/oder Präsentationsmaterialien zu dieser und weiteren Veranstaltungen finden Sie\, wie immer\, im multimedialen Online-Wiki der Landeskampagne „Energieberatung Saar“. Dort finden Sie auch den monatlichen Newsletter der Landeskampagne zum Nachlesen.
URL:https://www.argesolar-saar.de/va/umwelt-nachhaltigkeit-klima-markt-der-moeglichkeiten-in-rehlingen/
LOCATION:Rehlingen-Siersburg\, Rohrwald in Rehlingen – Die Veranstaltung findet im Rahmen der Aktionswoche “Das Saarland voller Energie” statt
CATEGORIES:Aktionswoche 24
ATTACH;FMTTYPE=image/png:https://www.argesolar-saar.de/wp-content/uploads/2023/07/SSC-Logo_stromspar-check.de_CYMK_5_Grad_geneigt_mit_Schatten_96_dpi-300x300-1.png
END:VEVENT
BEGIN:VEVENT
DTSTART;TZID=Europe/Berlin:20241005T110000
DTEND;TZID=Europe/Berlin:20241005T180000
DTSTAMP:20260424T021401
CREATED:20240924T125643Z
LAST-MODIFIED:20241002T113750Z
UID:12575-1728126000-1728151200@www.argesolar-saar.de
SUMMARY:Info- und Beratungsstand - Technische Werke der Gemeinde Rehlingen-Siersburg GmbH
DESCRIPTION:Beim Markt der Möglichkeiten am 05.10.2024 am Rohrwald in Rehlingen dürfen die Technischen Werke der Gemeinde Rehlingen-Siersburg GmbH\, kurz TWRS\, nicht fehlen.\nDenn was kann es betreffend Trinkwasser nachhaltigeres geben\, als sich die Wasserflasche frisch am heimischen Wasserhahn aufzufüllen?\n  \nAm Stand der TWRS GmbH stehen die Mitarbeiterinnen und Mitarbeiter der TWRS von 11-18 Uhr für Ihre Fragen rund ums Thema Trinkwasser gerne zur Verfügung.\nWir geben gute Gründe\, Leitungswasser zu trinken und weisen gerne auf unseren öffentlichen Trinkwasserspender hin\, der in Siersburg auf der Grünfläche zwischen dem Kindergarten und der Niedtalhalle zu finden ist.\n  \nDie TWRS-Glasflaschen\, die die TWRS GmbH beim Markt der Möglichkeiten verschenken werden\, können nicht nur zu Hause am Wasserhahn\, sondern auch jederzeit an dem vorgenannten Trinkwasserspender mit dem kühlen Lebensmittel Nr. 1 gefüllt werden.\n  \nNäheres über die TWRS GmbH\, wie zum Beispiel das Video „Der Weg unseres Trinkwassers“ finden sie auf „twrs-gmbh.de/trinkwasser/vom-grundwasser-zum-trinkwasser“.\n  \nEine Anmeldung zur Veranstaltung ist nicht erforderlich.\n  \nAlle unsere Veranstaltungen finden Sie unter www.argesolar-saar.de/veranstaltungen/. \nInformationen und/oder Präsentationsmaterialien zu dieser und weiteren Veranstaltungen finden Sie\, wie immer\, im multimedialen Online-Wiki der Landeskampagne „Energieberatung Saar“. Dort finden Sie auch den monatlichen Newsletter der Landeskampagne zum Nachlesen.
URL:https://www.argesolar-saar.de/va/info-und-beratungsstand-technische-werke-der-gemeinde-rehlingen-siersburg-gmbh/
LOCATION:Rehlingen-Siersburg\, Rohrwald in Rehlingen – Die Veranstaltung findet im Rahmen der Aktionswoche “Das Saarland voller Energie” statt
CATEGORIES:Aktionswoche 24
ATTACH;FMTTYPE=image/png:https://www.argesolar-saar.de/wp-content/uploads/2024/09/TWRS1.png
END:VEVENT
BEGIN:VEVENT
DTSTART;TZID=Europe/Berlin:20241005T110000
DTEND;TZID=Europe/Berlin:20241005T180000
DTSTAMP:20260424T021401
CREATED:20240924T132618Z
LAST-MODIFIED:20240927T084119Z
UID:12578-1728126000-1728151200@www.argesolar-saar.de
SUMMARY:UMWELT\, NACHHALTIGKEIT & KLIMA: Markt der Möglichkeiten in Rehlingen
DESCRIPTION:Der „Markt der Möglichkeiten“ ist weit mehr als eine herkömmliche Informationsveranstaltung: Hier wird Nachhaltigkeit greif- und erlebbar gemacht! Zahlreiche Aussteller aus der Gemeinde und Region präsentieren ihre innovativen Projekte und Produkte\, die aufzeigen\, wie wir gemeinsam Herausforderungen meistern können. Von Energieeffizienz über Nachhaltigkeit bis hin zu regional produzierten Lebensmitteln – hier finden Sie Inspirationen und konkrete Umsetzungsmöglichkeiten für einen umweltbewussten Lebensstil. Für alle Altersgruppen wird ein abwechslungsreiches Programm geboten.\n\n\n\nHIER finden Sie den Flyer zur Veranstaltung.\n\n\nEine Anmeldung zur Veranstaltung ist nicht erforderlich.\n\n\n  \nAlle unsere Veranstaltungen finden Sie unter www.argesolar-saar.de/veranstaltungen/. \nInformationen und/oder Präsentationsmaterialien zu dieser und weiteren Veranstaltungen finden Sie\, wie immer\, im multimedialen Online-Wiki der Landeskampagne „Energieberatung Saar“. Dort finden Sie auch den monatlichen Newsletter der Landeskampagne zum Nachlesen.
URL:https://www.argesolar-saar.de/va/12578/
LOCATION:Rehlingen-Siersburg\, Rohrwald in Rehlingen – Die Veranstaltung findet im Rahmen der Aktionswoche “Das Saarland voller Energie” statt
CATEGORIES:Aktionswoche 24
ATTACH;FMTTYPE=image/png:https://www.argesolar-saar.de/wp-content/uploads/2024/09/Logo-Kiki-weisser-Hintergrund.png
END:VEVENT
END:VCALENDAR