BEGIN:VCALENDAR
VERSION:2.0
PRODID:-//ARGE SOLAR e.V. - ECPv6.15.20//NONSGML v1.0//EN
CALSCALE:GREGORIAN
METHOD:PUBLISH
X-WR-CALNAME:ARGE SOLAR e.V.
X-ORIGINAL-URL:https://www.argesolar-saar.de
X-WR-CALDESC:Veranstaltungen für ARGE SOLAR e.V.
REFRESH-INTERVAL;VALUE=DURATION:PT1H
X-Robots-Tag:noindex
X-PUBLISHED-TTL:PT1H
BEGIN:VTIMEZONE
TZID:Europe/Berlin
BEGIN:DAYLIGHT
TZOFFSETFROM:+0100
TZOFFSETTO:+0200
TZNAME:CEST
DTSTART:20230326T010000
END:DAYLIGHT
BEGIN:STANDARD
TZOFFSETFROM:+0200
TZOFFSETTO:+0100
TZNAME:CET
DTSTART:20231029T010000
END:STANDARD
BEGIN:DAYLIGHT
TZOFFSETFROM:+0100
TZOFFSETTO:+0200
TZNAME:CEST
DTSTART:20240331T010000
END:DAYLIGHT
BEGIN:STANDARD
TZOFFSETFROM:+0200
TZOFFSETTO:+0100
TZNAME:CET
DTSTART:20241027T010000
END:STANDARD
BEGIN:DAYLIGHT
TZOFFSETFROM:+0100
TZOFFSETTO:+0200
TZNAME:CEST
DTSTART:20250330T010000
END:DAYLIGHT
BEGIN:STANDARD
TZOFFSETFROM:+0200
TZOFFSETTO:+0100
TZNAME:CET
DTSTART:20251026T010000
END:STANDARD
END:VTIMEZONE
BEGIN:VEVENT
DTSTART;TZID=Europe/Berlin:20240918T150000
DTEND;TZID=Europe/Berlin:20240918T160000
DTSTAMP:20260424T034357
CREATED:20240521T090421Z
LAST-MODIFIED:20240730T145225Z
UID:11998-1726671600-1726675200@www.argesolar-saar.de
SUMMARY:"Energieberatung Saar" Online-Sprechstunde für Kommunen und KMU
DESCRIPTION:Am 18.09.2024 findet die nächste Online-Sprechstunde für Kommunen und KMU von 15.00 bis 16.00 Uhr statt.’\nDie Veranstaltung findet im Rahmen der der Landeskampagne “Energieberatung Saar” statt. \n  \nDie Online-Sprechstunde richtet sich an diejenigen\, die praktisch und professionell mit Haustechnik vor Ort in öffentlichen und gewerblichen Gebäuden zu tun haben wie z. B. Hausmeister\, Verwaltungsmitarbeitende\, und viele mehr. \nAls Referent wird H. G. Eisenbarth in den Themenbereichen Bautechnik und Förderprogramme den Vortrag neben den Fachberater:innen der ARGE SOLAR unterstützen. \n  \n  \nDie Teilnahme an der Veranstaltung ist kostenfrei\, eine Anmeldung ist jedoch erforderlich. \nWir freuen uns auf Ihre Anmeldungen! \nHier geht es zur Registrierung! \n  \n  \nAlle unsere Veranstaltungen finden Sie unter www.argesolar-saar.de/veranstaltungen/. \nInformationen und/oder Präsentationsmaterialien zu dieser und weiteren Veranstaltungen finden Sie\, wie immer\, im multimedialen Online-Wiki der Landeskampagne „Energieberatung Saar“. Dort finden Sie auch den monatlichen Newsletter der Landeskampagne zum Nachlesen. \n 
URL:https://www.argesolar-saar.de/va/energieberatung-saar-online-sprechstunde-fuer-kommunen-und-kmu-4/
LOCATION:Online
CATEGORIES:Landeskampagne "Energieberatung Saar"
ATTACH;FMTTYPE=image/jpeg:https://www.argesolar-saar.de/wp-content/uploads/2024/04/Motiv-Landeskampagne-EBS.jpg
END:VEVENT
END:VCALENDAR