BEGIN:VCALENDAR
VERSION:2.0
PRODID:-//ARGE SOLAR e.V. - ECPv6.15.20//NONSGML v1.0//EN
CALSCALE:GREGORIAN
METHOD:PUBLISH
X-WR-CALNAME:ARGE SOLAR e.V.
X-ORIGINAL-URL:https://www.argesolar-saar.de
X-WR-CALDESC:Veranstaltungen für ARGE SOLAR e.V.
REFRESH-INTERVAL;VALUE=DURATION:PT1H
X-Robots-Tag:noindex
X-PUBLISHED-TTL:PT1H
BEGIN:VTIMEZONE
TZID:Europe/Berlin
BEGIN:DAYLIGHT
TZOFFSETFROM:+0100
TZOFFSETTO:+0200
TZNAME:CEST
DTSTART:20230326T010000
END:DAYLIGHT
BEGIN:STANDARD
TZOFFSETFROM:+0200
TZOFFSETTO:+0100
TZNAME:CET
DTSTART:20231029T010000
END:STANDARD
BEGIN:DAYLIGHT
TZOFFSETFROM:+0100
TZOFFSETTO:+0200
TZNAME:CEST
DTSTART:20240331T010000
END:DAYLIGHT
BEGIN:STANDARD
TZOFFSETFROM:+0200
TZOFFSETTO:+0100
TZNAME:CET
DTSTART:20241027T010000
END:STANDARD
BEGIN:DAYLIGHT
TZOFFSETFROM:+0100
TZOFFSETTO:+0200
TZNAME:CEST
DTSTART:20250330T010000
END:DAYLIGHT
BEGIN:STANDARD
TZOFFSETFROM:+0200
TZOFFSETTO:+0100
TZNAME:CET
DTSTART:20251026T010000
END:STANDARD
END:VTIMEZONE
BEGIN:VEVENT
DTSTART;TZID=Europe/Berlin:20240711T100000
DTEND;TZID=Europe/Berlin:20240711T120000
DTSTAMP:20260424T070449
CREATED:20240701T062725Z
LAST-MODIFIED:20240708T095825Z
UID:12143-1720692000-1720699200@www.argesolar-saar.de
SUMMARY:EBS-Online-Fachvortrag "GEG 2024 – Informationen zum Status Quo"
DESCRIPTION:EBS-Online-Fachvortrag \nAm 11.07.2024 findet von 10:00 – 12:00 Uhr der EBS-Online-Fachvortrag zum Thema “GEG 2024 – Informationen zum Status Quo” statt. Referentin ist Frau Melanie Bart vom Referat WB 2 – Bundesinstitut für Bau-\, Stadt- und Raumforschung\, Bonn. \n  \nAnerkennung als Fortbildung: \nDie Veranstaltung wird voraussichtlich von der Deutschen Energie-Agentur GmbH (dena) als Fortbildung anerkannt. Damit können Sie für diese Veranstaltung Fortbildungspunkte erhalten. \n  \nDie Teilnahme an der Veranstaltung ist kostenfrei\, eine Anmeldung ist jedoch erforderlich. \nWir freuen uns auf Ihre Anmeldungen! \nHier geht es zur Registrierung! \n  \nHier gibt es den Flyer zur Veranstaltung!
URL:https://www.argesolar-saar.de/va/ebs-online-fachvortrag-geg-2024-informationen-zum-status-quo/
LOCATION:Online
CATEGORIES:Landeskampagne "Energieberatung Saar"
ATTACH;FMTTYPE=image/png:https://www.argesolar-saar.de/wp-content/uploads/2023/12/ebs-mit-text-43.png
END:VEVENT
END:VCALENDAR