BEGIN:VCALENDAR
VERSION:2.0
PRODID:-//ARGE SOLAR e.V. - ECPv6.15.20//NONSGML v1.0//EN
CALSCALE:GREGORIAN
METHOD:PUBLISH
X-WR-CALNAME:ARGE SOLAR e.V.
X-ORIGINAL-URL:https://www.argesolar-saar.de
X-WR-CALDESC:Veranstaltungen für ARGE SOLAR e.V.
REFRESH-INTERVAL;VALUE=DURATION:PT1H
X-Robots-Tag:noindex
X-PUBLISHED-TTL:PT1H
BEGIN:VTIMEZONE
TZID:Europe/Berlin
BEGIN:DAYLIGHT
TZOFFSETFROM:+0100
TZOFFSETTO:+0200
TZNAME:CEST
DTSTART:20230326T010000
END:DAYLIGHT
BEGIN:STANDARD
TZOFFSETFROM:+0200
TZOFFSETTO:+0100
TZNAME:CET
DTSTART:20231029T010000
END:STANDARD
BEGIN:DAYLIGHT
TZOFFSETFROM:+0100
TZOFFSETTO:+0200
TZNAME:CEST
DTSTART:20240331T010000
END:DAYLIGHT
BEGIN:STANDARD
TZOFFSETFROM:+0200
TZOFFSETTO:+0100
TZNAME:CET
DTSTART:20241027T010000
END:STANDARD
BEGIN:DAYLIGHT
TZOFFSETFROM:+0100
TZOFFSETTO:+0200
TZNAME:CEST
DTSTART:20250330T010000
END:DAYLIGHT
BEGIN:STANDARD
TZOFFSETFROM:+0200
TZOFFSETTO:+0100
TZNAME:CET
DTSTART:20251026T010000
END:STANDARD
END:VTIMEZONE
BEGIN:VEVENT
DTSTART;TZID=Europe/Berlin:20240428T100000
DTEND;TZID=Europe/Berlin:20240428T120000
DTSTAMP:20260424T125222
CREATED:20240411T092705Z
LAST-MODIFIED:20240415T132234Z
UID:11717-1714298400-1714305600@www.argesolar-saar.de
SUMMARY:Wanderung Primstaler Themenweg "Zukunftsenergien"
DESCRIPTION:Ein Gemeinschaftsprojekt des Fördervereins Dorfentwicklung Primstal und des Smart Wendeler Landes: \nDer neue Themenwanderweg „Zukunftsenergien“ führt an verschiedenen Anlagen entlang\, die Energie erzeugen. Mithilfe von QR-Codes an den Zwischenstationen können Besucherinnen und Besucher live verfolgen\, wie viel Energie durch Wind\, Wasser oder Sonne aktuell produziert wird oder bereits erzeugt wurde. Die Daten der verschiedenen Anlagen werden gesammelt und in Echtzeit visualisiert. \nWanderlustige haben die Wahl zwischen einem 10\,5 km langen oder einem kürzeren 4\,5 km langen Rundweg. Der Wanderweg wurde im Juni 2023 eröffnet. Der Weg befindet sich oberhalb des Naturbades Primstal\, Am Schwimmbad 4\, in 66620 Nonnweiler. \nTreffpunkt ist der Parkplatz oberhalb des Naturbades Primstal. \nWanderführer sind der Initiator des Themenweges Volker Becker und der Klimaschutzmanager des Landkreises Sankt Wendel\, Michael Welter. \n  \nWeitere Informationen zum Primstaler Themenweg “Zukunftsenergien”: https://www.wndn.de/zukunftsenergien-primstal-gestaltet-wanderwege-smart/
URL:https://www.argesolar-saar.de/va/wanderung-primstaler-themenweg-zukunftsenergien/
LOCATION:Oberhalb des Naturbades Primstal\, Am Schwimmbad 4\, in 66620 Nonnweiler.
CATEGORIES:Aktionswoche 24,Landeskampagne "Energieberatung Saar"
ATTACH;FMTTYPE=image/jpeg:https://www.argesolar-saar.de/wp-content/uploads/2024/04/1685888172680.jpg
END:VEVENT
END:VCALENDAR