BEGIN:VCALENDAR
VERSION:2.0
PRODID:-//ARGE SOLAR e.V. - ECPv6.15.20//NONSGML v1.0//EN
CALSCALE:GREGORIAN
METHOD:PUBLISH
X-ORIGINAL-URL:https://www.argesolar-saar.de
X-WR-CALDESC:Veranstaltungen für ARGE SOLAR e.V.
REFRESH-INTERVAL;VALUE=DURATION:PT1H
X-Robots-Tag:noindex
X-PUBLISHED-TTL:PT1H
BEGIN:VTIMEZONE
TZID:Europe/Berlin
BEGIN:DAYLIGHT
TZOFFSETFROM:+0100
TZOFFSETTO:+0200
TZNAME:CEST
DTSTART:20230326T010000
END:DAYLIGHT
BEGIN:STANDARD
TZOFFSETFROM:+0200
TZOFFSETTO:+0100
TZNAME:CET
DTSTART:20231029T010000
END:STANDARD
BEGIN:DAYLIGHT
TZOFFSETFROM:+0100
TZOFFSETTO:+0200
TZNAME:CEST
DTSTART:20240331T010000
END:DAYLIGHT
BEGIN:STANDARD
TZOFFSETFROM:+0200
TZOFFSETTO:+0100
TZNAME:CET
DTSTART:20241027T010000
END:STANDARD
BEGIN:DAYLIGHT
TZOFFSETFROM:+0100
TZOFFSETTO:+0200
TZNAME:CEST
DTSTART:20250330T010000
END:DAYLIGHT
BEGIN:STANDARD
TZOFFSETFROM:+0200
TZOFFSETTO:+0100
TZNAME:CET
DTSTART:20251026T010000
END:STANDARD
END:VTIMEZONE
BEGIN:VEVENT
DTSTART;TZID=Europe/Berlin:20240427T100000
DTEND;TZID=Europe/Berlin:20240427T120000
DTSTAMP:20260424T131426
CREATED:20240408T145949Z
LAST-MODIFIED:20240408T150008Z
UID:11675-1714212000-1714219200@www.argesolar-saar.de
SUMMARY:"Energiespar-Sprechstunde“ der ARGE SOLAR\, Beratungsaktion per Telefon mit Geschäftsführerin Eva Kiefer-Kremer
DESCRIPTION:Die Energiewende in den eigenen vier Wänden kann durch vielfältige Maßnahmen umgesetzt werden: Energieeinsparmaßnahmen wie Wärmedämmung und neue Fenster\, effizientere Heizsysteme\, Systemoptimierungen\, Lüftungsanlagen mit Wärmerückgewinnung oder durch den Einsatz erneuerbarer Energien wie Photovoltaik\, Solarthermie\, Wärmepumpe oder Biomasse. \nMit einer Gebäudedämmung lassen sich aber nicht nur Heizkosten einsparen\, sondern auch die Behaglichkeit steigern und Schimmelschäden vermeiden. Welche Heizung ist für welches Haus geeignet? Lohnt sich eine Solaranlage auf meinem Dach oder am Haus? \nAuf diese Fragen und die passenden Förderprogramme sowie die aktuellen gesetzlichen Vorgaben des Bundes geht die Sprechstunde ebenfalls ein. \nDie Sprechstunde am 27.4. findet von 10:00-14:00 Uhr statt. Melden Sie sich einfach bei unserer Hotline unter: 0681 501-2030 \nEine Anmeldung ist nicht erforderlich.
URL:https://www.argesolar-saar.de/va/energiespar-sprechstunde-der-arge-solar-beratungsaktion-per-telefon-mit-geschaeftsfuehrerin-eva-kiefer-kremer/
LOCATION:Telefon
CATEGORIES:Aktionswoche 24,Landeskampagne "Energieberatung Saar"
ATTACH;FMTTYPE=image/jpeg:https://www.argesolar-saar.de/wp-content/uploads/2023/12/ARGE-SOLAR_LOGO_CMYK.jpg
END:VEVENT
END:VCALENDAR