BEGIN:VCALENDAR
VERSION:2.0
PRODID:-//ARGE SOLAR e.V. - ECPv6.15.20//NONSGML v1.0//EN
CALSCALE:GREGORIAN
METHOD:PUBLISH
X-ORIGINAL-URL:https://www.argesolar-saar.de
X-WR-CALDESC:Veranstaltungen für ARGE SOLAR e.V.
REFRESH-INTERVAL;VALUE=DURATION:PT1H
X-Robots-Tag:noindex
X-PUBLISHED-TTL:PT1H
BEGIN:VTIMEZONE
TZID:Europe/Berlin
BEGIN:DAYLIGHT
TZOFFSETFROM:+0100
TZOFFSETTO:+0200
TZNAME:CEST
DTSTART:20230326T010000
END:DAYLIGHT
BEGIN:STANDARD
TZOFFSETFROM:+0200
TZOFFSETTO:+0100
TZNAME:CET
DTSTART:20231029T010000
END:STANDARD
BEGIN:DAYLIGHT
TZOFFSETFROM:+0100
TZOFFSETTO:+0200
TZNAME:CEST
DTSTART:20240331T010000
END:DAYLIGHT
BEGIN:STANDARD
TZOFFSETFROM:+0200
TZOFFSETTO:+0100
TZNAME:CET
DTSTART:20241027T010000
END:STANDARD
BEGIN:DAYLIGHT
TZOFFSETFROM:+0100
TZOFFSETTO:+0200
TZNAME:CEST
DTSTART:20250330T010000
END:DAYLIGHT
BEGIN:STANDARD
TZOFFSETFROM:+0200
TZOFFSETTO:+0100
TZNAME:CET
DTSTART:20251026T010000
END:STANDARD
END:VTIMEZONE
BEGIN:VEVENT
DTSTART;TZID=Europe/Berlin:20240424T090000
DTEND;TZID=Europe/Berlin:20240424T130000
DTSTAMP:20260424T125717
CREATED:20240326T165911Z
LAST-MODIFIED:20240416T144507Z
UID:11587-1713949200-1713963600@www.argesolar-saar.de
SUMMARY:Tag der Förderprogramme
DESCRIPTION:Die Veranstaltung wendet sich insbesondere an Fachleute aus der Energiewirtschaft\, Mitarbeiter:innen von Stadt- und Gemeindewerken\, Unternehmen\, Wohnungsbaugesellschaften\, kommunale Vertreter:innen\, Energieberater:innen\, Architekten:innen\, Ingenieure:innen\, Handwerker:innen und interessierte Multiplikatoren. Veranstalter ist die Landeskampagne „Energieberatung Saar“. Die Veranstaltung findet im Rahmen der Aktionswoche „Das Saarland voller Energie“ (19.4. – 28.4.2024) der Landeskampagne „Energieberatung Saar“ (EBS) des Ministeriums für Wirtschaft\, Innovation\, Digitales und Energie (MWIDE) statt. \nDie Teilnahme an der Veranstaltung ist kostenfrei\, eine Anmeldung ist jedoch erforderlich. \nWir freuen uns auf Ihre Anmeldungen!  \nHier geht es zur Registrierung! \n  \nAGENDA \n9.00h   Begrüßung durch Elena Yorgova-Ramanauskas\, Staatssekretärin im Ministerium für Wirtschaft\, Innovation\, Digitales und Energie des Saarlandes \n9.15h   „Förderung der Energieeffizienz und der Erneuerbaren Energien auf Landesebene“\, Klaus-Dieter Uhrhan\, Referat F/3\, Ministerium für Wirtschaft\, Innovation\, Digitales und Energie \n9.35h   „Energetische Programme für KMU“ und „Soziale Wohnraumförderung“ Elke Lorson und Sabrina Adam\, Saarländischen Investitionskreditbank AG \n10.00h „Schulbauprogramm BAUSTEIN“\, Thomas Schmitt\, Referat C5\, Kommunalabteilung des Ministeriums für Inneres\, Bauen und Sport \n10.30h „Die Nationale Klimaschutzinitiative des BMWK“\, Lorenz Blume\, Agentur für kommunalen Klimaschutz am Deutschen Institut für Urbanistik (Difu) \n11.15h „Die Bundesförderung für effiziente Gebäude Bundesförderung effiziente Gebäude\, WG und NWG“\, Marcus Kaufmann\, Vertrieb KfW Bankengruppe \n12.15h „Unterstützungsleistungen des Bundes beim Aufbau von Ladeinfrastruktur“\, Conrad Hammer\, Nationale Leitstelle Ladeinfrastruktur\, NOW GmbH  \n12.45h Fazit und Schlusswort\, Ralph Schmidt\, ARGE SOLAR \n13.00h Ende \n  \nHier finden Sie den Flyer zur Veranstaltung! \n  \nAnerkennung als Fortbildung: \nDer Fachkongress wird voraussichtlich von der Deutschen Energie-Agentur GmbH (dena) als Fortbildung anerkannt.  \nDie Architektenkammer des Saarlandes vergibt für die Veranstaltung 4 Fortbildungspunkte. 
URL:https://www.argesolar-saar.de/va/fachkongress-tag-der-foerderprogramme/
LOCATION:Online
CATEGORIES:Aktionswoche 24,Landeskampagne "Energieberatung Saar"
ATTACH;FMTTYPE=image/png:https://www.argesolar-saar.de/wp-content/uploads/2023/12/ebs-mit-text-43.png
END:VEVENT
BEGIN:VEVENT
DTSTART;TZID=Europe/Berlin:20240424T143000
DTEND;TZID=Europe/Berlin:20240424T153000
DTSTAMP:20260424T125717
CREATED:20240412T092603Z
LAST-MODIFIED:20240412T094321Z
UID:11724-1713969000-1713972600@www.argesolar-saar.de
SUMMARY:Herausforderungen der Wärmewende – Vorstellung des Pilotprojekts „Kommunale Wärmeplanung der Gemeinde Rehlingen-Siersburg“
DESCRIPTION:Die nachhaltige und energieeffiziente Neugestaltung der Wärmeplanung zählt als einer der entscheidenden Hebel für Kommunen\, um die eigens gesetzten Klimaschutzziele in der Praxis umzusetzen. \nDabei besteht das Erfordernis\, alle Gemeinden jeweils für sich zu betrachten und individuelle und energieeffiziente Entscheidungen zu treffen. Die verfügbaren Potentiale für erneuerbare Energien wie beispielsweise in Form von Sonne\, Wind\, Biomasse oder industrieller Abwärme sind teils ungleich verteilt und unterschieden sich folglich zwischen den Gemeinden. \nEine erfolgreiche und zukunftsfeste kommunale Wärmeplanung baut auf den Besonderheiten der Gemeinde auf. Dadurch kann vor Ort\, der kosteneffizienteste Weg zu einer klimafreundlichen und fortschrittlichen Wärmeversorgung begangen werden. \nIn der saarländischen Gemeinde Rehlingen-Siersburg entsteht eine solche kommunale Wärmeplanung. \nDas Pilotprojekt soll wertvolle Erkenntnisse liefern und damit die kommunale Wärmewende auch in anderen saarländischen Kommunen vorantreiben. \n  \nVeranstalter ist die Landeskampagne „Energieberatung Saar“ in Kooperation mit der energis GmbH und VSE AG. \n  \nDie Teilnahme an der Veranstaltung ist kostenfrei\, eine Anmeldung ist jedoch erforderlich. \nWir freuen uns auf Ihre Anmeldungen! \nHier geht es zur Registrierung!
URL:https://www.argesolar-saar.de/va/herausforderungen-der-waermewende-vorstellung-des-pilotprojekts-kommunale-waermeplanung-der-gemeinde-rehlingen-siersburg/
LOCATION:Online
CATEGORIES:Aktionswoche 24,Landeskampagne "Energieberatung Saar"
ATTACH;FMTTYPE=image/png:https://www.argesolar-saar.de/wp-content/uploads/2023/12/ebs-mit-text-43.png
END:VEVENT
BEGIN:VEVENT
DTSTART;TZID=Europe/Berlin:20240424T150000
DTEND;TZID=Europe/Berlin:20240424T160000
DTSTAMP:20260424T125717
CREATED:20240408T143229Z
LAST-MODIFIED:20240411T082127Z
UID:11661-1713970800-1713974400@www.argesolar-saar.de
SUMMARY:"Energieberatung Saar" Online-Sprechstunde für Kommunen und KMU
DESCRIPTION:Referenten: H.G. Eisenbarth und Fachberater des ARGE SOLAR e.V. (Bautechnik\, Förderprogramme) \nDie “Energieberatung Saar” Online-Sprechstunde für Kommunen und KMU: für diejenigen\, die praktisch und professionell mit Haustechnik vor Ort in öffentlichen und gewerblichen Gebäuden zu tun haben wie z.B. Hausmeister\, Verwaltungsmitarbeitende\, etc. \nDie Teilnahme an der Veranstaltung ist kostenfrei\, eine Anmeldung ist jedoch erforderlich. \nWir freuen uns auf Ihre Anmeldungen! \nHier geht es zur Registrierung! \n 
URL:https://www.argesolar-saar.de/va/energieberatung-saar-online-sprechstunde-fuer-kommunen-und-kmu/
LOCATION:Online
CATEGORIES:Aktionswoche 24,Landeskampagne "Energieberatung Saar"
ATTACH;FMTTYPE=image/png:https://www.argesolar-saar.de/wp-content/uploads/2023/12/ebs-mit-text-43.png
END:VEVENT
END:VCALENDAR