BEGIN:VCALENDAR
VERSION:2.0
PRODID:-//ARGE SOLAR e.V. - ECPv6.15.20//NONSGML v1.0//EN
CALSCALE:GREGORIAN
METHOD:PUBLISH
X-ORIGINAL-URL:https://www.argesolar-saar.de
X-WR-CALDESC:Veranstaltungen für ARGE SOLAR e.V.
REFRESH-INTERVAL;VALUE=DURATION:PT1H
X-Robots-Tag:noindex
X-PUBLISHED-TTL:PT1H
BEGIN:VTIMEZONE
TZID:Europe/Berlin
BEGIN:DAYLIGHT
TZOFFSETFROM:+0100
TZOFFSETTO:+0200
TZNAME:CEST
DTSTART:20230326T010000
END:DAYLIGHT
BEGIN:STANDARD
TZOFFSETFROM:+0200
TZOFFSETTO:+0100
TZNAME:CET
DTSTART:20231029T010000
END:STANDARD
BEGIN:DAYLIGHT
TZOFFSETFROM:+0100
TZOFFSETTO:+0200
TZNAME:CEST
DTSTART:20240331T010000
END:DAYLIGHT
BEGIN:STANDARD
TZOFFSETFROM:+0200
TZOFFSETTO:+0100
TZNAME:CET
DTSTART:20241027T010000
END:STANDARD
BEGIN:DAYLIGHT
TZOFFSETFROM:+0100
TZOFFSETTO:+0200
TZNAME:CEST
DTSTART:20250330T010000
END:DAYLIGHT
BEGIN:STANDARD
TZOFFSETFROM:+0200
TZOFFSETTO:+0100
TZNAME:CET
DTSTART:20251026T010000
END:STANDARD
END:VTIMEZONE
BEGIN:VEVENT
DTSTART;TZID=Europe/Berlin:20240423T110000
DTEND;TZID=Europe/Berlin:20240423T120000
DTSTAMP:20260424T131342
CREATED:20240408T125041Z
LAST-MODIFIED:20240411T081849Z
UID:11645-1713870000-1713873600@www.argesolar-saar.de
SUMMARY:Vorstellung und Zwischenstand in"KlikKS" im Saarland: Klimaschutz in kleinen Kommunen und Stadtteilen durch ehrenamtliche Klimaschutzpat:innen
DESCRIPTION:Im März 2022 startete das neue Klimaschutzprojekt “KlikKS” im Saarland: Klimaschutz in kleinen Kommunen und Stadtteilen durch ehrenamtliche Klimaschutzpat:innen. \nDie ARGE SOLAR setzt das Verbundprojekt im Saarland um und ist aktuell dabei\, die teilnehmenden Kommunen und Klimaschutzpat:innen zu begleiten\, damit diese Ideen für gemeinsame Klimaschutzaktionen und -projekte entwickeln. Deren Umsetzung ist in der verbleibenden Projektlaufzeit bis 02/2025 geplant. \nIn dem (online-) Vortrag soll das Projekt kurz vorgestellt werden und die bisherigen Ergebnisse skizziert werden: Neben zahlreichen Schulungen und Workshops wurden durch die lokalen Klimaschutzpat:innen auch mehrere Aktionen initiiert und umgesetzt. Darüber hinaus wird ein Ausblick auf das restliche Jahr 2024 gegeben\, in dem sowohl die Umsetzung der entwickelten Projektideen vor Ort\, als auch die weitere Vernetzung und Verstetigung den Schwerpunkt der Projektarbeit darstellen wird. \nDie Teilnahme an der Veranstaltung ist kostenfrei\, eine Anmeldung ist jedoch erforderlich. \nWir freuen uns auf Ihre Anmeldungen! \nHier geht es zur Registrierung! \n  \n 
URL:https://www.argesolar-saar.de/va/vorstellung-und-zwischenstand-inklikks-im-saarland-klimaschutz-in-kleinen-kommunen-und-stadtteilen-durch-ehrenamtliche-klimaschutzpatinnen/
LOCATION:Online
CATEGORIES:Aktionswoche 24,Landeskampagne "Energieberatung Saar"
ATTACH;FMTTYPE=image/png:https://www.argesolar-saar.de/wp-content/uploads/2023/06/KlikKS-logo-klimaschutz-kommunen-nki.png
END:VEVENT
BEGIN:VEVENT
DTSTART;TZID=Europe/Berlin:20240423T170000
DTEND;TZID=Europe/Berlin:20240423T190000
DTSTAMP:20260424T131342
CREATED:20240412T095317Z
LAST-MODIFIED:20240416T143145Z
UID:11733-1713891600-1713898800@www.argesolar-saar.de
SUMMARY:Das Gebäudeenergiegesetz (GEG) – Was bedeutet das Gesetz für mich?
DESCRIPTION:Wohl kein Gesetz im letzten Jahr hat derart hohe Wellen geschlagen\, wie das „Gebäudeenergiegesetz“ (GEG) oder auch „Heizungsgesetz“ genannt. Doch was bedeutet das in Kraft getretene Gesetz für die Hausbesitzer:innen? \nAus diesem Grund laden die Landeskampagne “Energieberatung Saar“ und die Stadt Ottweiler im Rahmen der Aktionswoche „Das Saarland voller Energie“ Sie herzlichst zum Vortrag „Das Gebäudeenergiegesetz – Was bedeutet das Gesetz für mich?“ am Di. 23.04. um 17.oo bis 19.00 Uhr in das Grüne Zimmer des kath. Pfarrheims ein. \nDie Geschäftsführerin der ARGE-SOLAR e.V.\, Frau Eva Kiefer-Kremer\, wird in Ihrem Vortrag u.a. beleuchten\, was nun genau verabschiedet wurde\, welche Maßnahmen greifen und welche Fördergelder es gibt. \nWenn Sie Interesse haben\, an diesem kostenfreien Vortrag teilzunehmen\, so rufen Sie bitte bis zum Mo. 22.04. bis 12.00 Uhr bei Herrn Sebastian Beck\, KlikKS-Klimaschutzpate und AWO-Quartiersmanager Ottweiler\, unter der 06824 908 903 9 an oder schreiben eine E-Mail an sebastian.beck@lvsaarland.awo.org. \n  \nHier finden Sie den Flyer zur Veranstaltung! \n 
URL:https://www.argesolar-saar.de/va/das-neue-gebaeudeenergiegesetz-alles-wissenswertes-fuer-hausbesitzerinnen/
CATEGORIES:Aktionswoche 24,Landeskampagne "Energieberatung Saar"
ATTACH;FMTTYPE=image/png:https://www.argesolar-saar.de/wp-content/uploads/2024/04/Logo_OTW.png
END:VEVENT
BEGIN:VEVENT
DTSTART;TZID=Europe/Berlin:20240423T180000
DTEND;TZID=Europe/Berlin:20240423T193000
DTSTAMP:20260424T131342
CREATED:20240408T125729Z
LAST-MODIFIED:20240408T133608Z
UID:11648-1713895200-1713900600@www.argesolar-saar.de
SUMMARY:Fördermittel für energetische Gebäudesanierung und Heizungserneuerung – Wege durch den Förderdschungel
DESCRIPTION:Referentin: Cathrin Becker \nSteigende Energiekosten veranlassen viele Hausbesitzer:innen über energetische Gebäudesanierungen und Heizungserneuerungen nachzudenken. Doch wie schaffen sie es\, die dafür notwendigen Investitionen zu stemmen? \nHierbei hilft die Bundesregierung mit Förderprogrammen. Es gibt Kredit- und Zuschussprogramme\, Förderprogramme zur energieeffizienten Sanierung oder zur Nutzung erneuerbaren Energien\, zur Dämmung\, zum Austausch der Fenster\, zur Optimierung von Heizungsanlagen und zur Baubegleitung. \nDie Energieberaterin der Verbraucherzentrale behandelt Fragestellungen wie: Wer kann eine Förderung beantragen? Was bedeuten die technischen Mindestvoraussetzungen? Können mehrere Förderprogramme gleichzeitig genutzt werden? Wann\, wo und wie können Anträge gestellt werden? \nMit diesem Vortrag soll den Eigenheimbesitzer:innen der Weg durch den Förderdschungel erleichtert werden. \nEine vorherige Anmeldung über www.verbraucherzentrale-saarland.de/veranstaltungen oder per E-Mail an: energieberatung@vz-saar.de ist erforderlich.
URL:https://www.argesolar-saar.de/va/foerdermittel-fuer-energetische-gebaeudesanierung-und-heizungserneuerung-wege-durch-den-foerderdschungel-cathrin-becker/
LOCATION:Online
CATEGORIES:Aktionswoche 24,Landeskampagne "Energieberatung Saar"
ATTACH;FMTTYPE=image/png:https://www.argesolar-saar.de/wp-content/uploads/2023/12/vz-saar.png
END:VEVENT
BEGIN:VEVENT
DTSTART;TZID=Europe/Berlin:20240423T193000
DTEND;TZID=Europe/Berlin:20240423T210000
DTSTAMP:20260424T131342
CREATED:20240408T133523Z
LAST-MODIFIED:20240418T112130Z
UID:11650-1713900600-1713906000@www.argesolar-saar.de
SUMMARY:Wärmepumpe - Günstige Alternativen\, Praxisbeispiel Haus Baujahr 1994 und Photovoltaik
DESCRIPTION:Für den Online-Vortrag ist eine vorherige Anmeldung über kvhs@landkreis-neunkirchen.de notwendig. \n  \nZur weiteren Information:\nLink zum VHS Kursprogramm
URL:https://www.argesolar-saar.de/va/waermepumpe-guenstige-alternativen-praxisbeispiel-haus-baujahr-1994-und-photovoltaik/
LOCATION:Online
CATEGORIES:Aktionswoche 24,Landeskampagne "Energieberatung Saar"
ATTACH;FMTTYPE=image/jpeg:https://www.argesolar-saar.de/wp-content/uploads/2024/04/vhs_logo_KVHSNeunkirchen_RGB_pos_hor_Claim.jpg
END:VEVENT
END:VCALENDAR