BEGIN:VCALENDAR
VERSION:2.0
PRODID:-//ARGE SOLAR e.V. - ECPv6.15.20//NONSGML v1.0//EN
CALSCALE:GREGORIAN
METHOD:PUBLISH
X-WR-CALNAME:ARGE SOLAR e.V.
X-ORIGINAL-URL:https://www.argesolar-saar.de
X-WR-CALDESC:Veranstaltungen für ARGE SOLAR e.V.
REFRESH-INTERVAL;VALUE=DURATION:PT1H
X-Robots-Tag:noindex
X-PUBLISHED-TTL:PT1H
BEGIN:VTIMEZONE
TZID:Europe/Berlin
BEGIN:DAYLIGHT
TZOFFSETFROM:+0100
TZOFFSETTO:+0200
TZNAME:CEST
DTSTART:20230326T010000
END:DAYLIGHT
BEGIN:STANDARD
TZOFFSETFROM:+0200
TZOFFSETTO:+0100
TZNAME:CET
DTSTART:20231029T010000
END:STANDARD
BEGIN:DAYLIGHT
TZOFFSETFROM:+0100
TZOFFSETTO:+0200
TZNAME:CEST
DTSTART:20240331T010000
END:DAYLIGHT
BEGIN:STANDARD
TZOFFSETFROM:+0200
TZOFFSETTO:+0100
TZNAME:CET
DTSTART:20241027T010000
END:STANDARD
BEGIN:DAYLIGHT
TZOFFSETFROM:+0100
TZOFFSETTO:+0200
TZNAME:CEST
DTSTART:20250330T010000
END:DAYLIGHT
BEGIN:STANDARD
TZOFFSETFROM:+0200
TZOFFSETTO:+0100
TZNAME:CET
DTSTART:20251026T010000
END:STANDARD
END:VTIMEZONE
BEGIN:VEVENT
DTSTART;TZID=Europe/Berlin:20240422T100000
DTEND;TZID=Europe/Berlin:20240422T120000
DTSTAMP:20260424T130756
CREATED:20240408T113219Z
LAST-MODIFIED:20240417T084513Z
UID:11630-1713780000-1713787200@www.argesolar-saar.de
SUMMARY:Gebäudeintegrierte Photovoltaik - Praxisbeispiele aus dem „Architekturpreis Gebäudeintegrierte Solartechnik“
DESCRIPTION:Nachhaltiges\, ressourcenschonendes und klimafreundliches Bauen gewinnt zunehmend an Bedeutung und wird immer mehr nachgefragt. Dabei spielt der Einsatz erneuerbarer Energien insbesondere die Erzeugung von Solarstrom durch Photovoltaik und Wärme durch Solarthermie eine zunehmend größere Bedeutung. Die Anwendungsmöglichkeiten von Photovoltaik in und an Gebäuden haben sich ebenfalls deutlich erweitert. Neben Dachanwendungen (Strom- und Wärmeerzeugung) kann bauwerkintegrierte Photovoltaik (BIPV) in der Fassade Aufgaben erfüllen\, die deutlich über die Stromgewinnung hinausgehen. \nDie ONLINE-Veranstaltung „Gebäudeintegrierte Photovoltaik und Praxisbeispiele aus dem „Architekturpreis Gebäudeintegrierte Solartechnik“ am Montag\, 22. April 2024\, wird dazu Informationen und viele Praxisbeispiele bieten. \n  \nProgramm:\nBegrüßung und Einführung durch die Veranstalter\nKlaus-Dieter Uhrhan\, Leiter Referat F/3\, Ministerium für Wirtschaft\, Innovation\, Digitalisierung und Energie\nKim Ahrend\, Stellvertretende Geschäftsführerin Architektenkammer des Saarlandes \nPV follows function – Potenziale nutzungsintegrierter Photovoltaik\nEva Hauser\, IZES gGmbH \nGebäudeintegrierte Photovoltaik und Praxisbeispiele aus dem „Architekturpreis Gebäudeintegrierte Solartechnik“\nFabian Flade\, Solarenergieförderverein Bayern e. V. \nModeration: Ralph Schmidt\, Geschäftsführer ARGE SOLAR e.V. \n  \nDie Teilnahme an der Veranstaltung ist kostenfrei\, eine Anmeldung ist jedoch erforderlich. \nWir freuen uns auf Ihre Anmeldungen! \nHier geht es zur Registrierung! \n  \nHier finden Sie den Flyer zur Veranstaltung! \n  \nDie Fachveranstaltung wird von der Architektenkammer des Saarlandes mit 2 Punkten als Fortbildungsveranstaltung anerkannt. \nDie Online-Veranstaltung findet im Rahmen der Aktionswoche “Das Saarland voller Energie” (19.4. – 28.4.2024) der Landeskampagne „Energieberatung Saar“ (EBS) des Ministeriums für Wirtschaft\, Innovation\, Digitales und Energie (MWIDE) in Zusammenarbeit mit der Architektenkammer des Saarlandes statt.
URL:https://www.argesolar-saar.de/va/vortrag-gebaeudeintegrierte-photovoltaik-fabian-flade-praxisbeispiele-aus-dem-architekturpreis-gebaeudeintegrierte-solartechnik-des-solarenergiefoerderverein-bayern-e-v/
LOCATION:Online
CATEGORIES:Aktionswoche 24,Landeskampagne "Energieberatung Saar"
ATTACH;FMTTYPE=image/png:https://www.argesolar-saar.de/wp-content/uploads/2023/12/ebs-mit-text-43.png
END:VEVENT
BEGIN:VEVENT
DTSTART;TZID=Europe/Berlin:20240422T100000
DTEND;TZID=Europe/Berlin:20240422T120000
DTSTAMP:20260424T130756
CREATED:20240408T113859Z
LAST-MODIFIED:20240408T114125Z
UID:11634-1713780000-1713787200@www.argesolar-saar.de
SUMMARY:„Experten-Telefon“ der Ingenieurkammer des Saarlandes zum Thema Heizungstausch
DESCRIPTION:Erhalten Sie eine fachkundige Beratung am „Experten-Telefon“ der Ingenieurkammer des Saarlandes zum Thema Heizungstausch. \n  \nEine vorherige Anmeldung zur Veranstaltung über info@ing-saarland.de ist erforderlich.
URL:https://www.argesolar-saar.de/va/experten-telefon-der-ingenieurkammer-des-saarlandes-zum-thema-heizungstausch/
LOCATION:Telefon
CATEGORIES:Aktionswoche 24,Landeskampagne "Energieberatung Saar"
ATTACH;FMTTYPE=image/jpeg:https://www.argesolar-saar.de/wp-content/uploads/2024/04/Logo_IK-Saarl.jpg
END:VEVENT
BEGIN:VEVENT
DTSTART;TZID=Europe/Berlin:20240422T180000
DTEND;TZID=Europe/Berlin:20240422T193000
DTSTAMP:20260424T130756
CREATED:20240408T115336Z
LAST-MODIFIED:20240408T115510Z
UID:11641-1713808800-1713814200@www.argesolar-saar.de
SUMMARY:Online-Vortrag: Wärmepumpe für mein Haus
DESCRIPTION:Denken Sie an eine Heizungserneuerung in Ihrem Bestandsgebäude? Heizen Sie mit Öl oder Gas\, vielleicht auch Kohle oder Koks oder einer Nachtstromspeicherheizung? Das „Heizungsgesetz“\, sprich Gebäudeenergiegesetz 2024\, will fossile Brennstoffe beim Heizen begrenzen und ab 2045 eindämmen. \nDa bietet es sich an\, über die Umstellung auf eine Wärmepumpenheizung nachzudenken. \nChristine Mörgen\, Energieberaterin der Verbraucherzentrale\, geht in ihrem Vortrag u. a. auf folgende Fragen ein: Wie funktioniert eine Wärmepumpe? Welche Voraussetzungen braucht man\, damit man sie effizient betreiben kann? Muss ich mein Haus sanieren? Mit welchen Investitionskosten muss ich rechnen? Was ist beim Betrieb einer Wärmepumpe zu beachten? Kann ich Erdwärme nutzen? Ist eine Eigenstromnutzung mit Photovoltaik sinnvoll? \nDie Teilnahme am Online-Vortrag ist bequem von zu Hause aus möglich und kostenlos. Man benötigt lediglich eine stabile Internetverbindung über Computer\, Tablet oder Smartphone. \nEine vorherige Anmeldung zur Veranstaltung über www.verbraucherzentrale-saarland.de/veranstaltungen oder per E-Mail an: energieberatung@vz-saar.de ist erforderlich.
URL:https://www.argesolar-saar.de/va/online-vortrag-waermepumpe-fuer-mein-haus/
LOCATION:Online
CATEGORIES:Aktionswoche 24,Landeskampagne "Energieberatung Saar"
ATTACH;FMTTYPE=image/png:https://www.argesolar-saar.de/wp-content/uploads/2023/12/vz-saar.png
END:VEVENT
END:VCALENDAR