BEGIN:VCALENDAR
VERSION:2.0
PRODID:-//ARGE SOLAR e.V. - ECPv6.15.20//NONSGML v1.0//EN
CALSCALE:GREGORIAN
METHOD:PUBLISH
X-ORIGINAL-URL:https://www.argesolar-saar.de
X-WR-CALDESC:Veranstaltungen für ARGE SOLAR e.V.
REFRESH-INTERVAL;VALUE=DURATION:PT1H
X-Robots-Tag:noindex
X-PUBLISHED-TTL:PT1H
BEGIN:VTIMEZONE
TZID:Europe/Berlin
BEGIN:DAYLIGHT
TZOFFSETFROM:+0100
TZOFFSETTO:+0200
TZNAME:CEST
DTSTART:20230326T010000
END:DAYLIGHT
BEGIN:STANDARD
TZOFFSETFROM:+0200
TZOFFSETTO:+0100
TZNAME:CET
DTSTART:20231029T010000
END:STANDARD
BEGIN:DAYLIGHT
TZOFFSETFROM:+0100
TZOFFSETTO:+0200
TZNAME:CEST
DTSTART:20240331T010000
END:DAYLIGHT
BEGIN:STANDARD
TZOFFSETFROM:+0200
TZOFFSETTO:+0100
TZNAME:CET
DTSTART:20241027T010000
END:STANDARD
BEGIN:DAYLIGHT
TZOFFSETFROM:+0100
TZOFFSETTO:+0200
TZNAME:CEST
DTSTART:20250330T010000
END:DAYLIGHT
BEGIN:STANDARD
TZOFFSETFROM:+0200
TZOFFSETTO:+0100
TZNAME:CET
DTSTART:20251026T010000
END:STANDARD
END:VTIMEZONE
BEGIN:VEVENT
DTSTART;TZID=Europe/Berlin:20240419T100000
DTEND;TZID=Europe/Berlin:20240421T180000
DTSTAMP:20260424T125647
CREATED:20240408T101016Z
LAST-MODIFIED:20240408T113342Z
UID:11610-1713520800-1713722400@www.argesolar-saar.de
SUMMARY:Info- & Beratungsstand auf der Haus & Garten Messe Saar
DESCRIPTION:Die Messe für Bauen\, Renovieren & Gestalten bietet mit ihren über 150 Ausstellern einen hervorragenden Rahmen für den Start der Aktionswoche. Die Landeskampagne „Energieberatung Saar“ (EBS) des Ministeriums für Wirtschaft\, Innovation\, Digitales und Energie (MWIDE) ist mit einem eigenen Beratungs- und Informationsstand auf der Messe vertreten. \nEine Anmeldung zur Veranstaltung ist nicht erforderlich.
URL:https://www.argesolar-saar.de/va/info-beratungsstand-auf-der-haus-garten-messe-saar/
LOCATION:E-Werk\, Dr.-Tietz-Straße 14\, Saarbrücken\, Saarland\, 66115\, Deutschland
CATEGORIES:Aktionswoche 24,Landeskampagne "Energieberatung Saar"
ATTACH;FMTTYPE=image/png:https://www.argesolar-saar.de/wp-content/uploads/2023/12/ebs-mit-text-43.png
END:VEVENT
END:VCALENDAR