BEGIN:VCALENDAR
VERSION:2.0
PRODID:-//ARGE SOLAR e.V. - ECPv6.15.20//NONSGML v1.0//EN
CALSCALE:GREGORIAN
METHOD:PUBLISH
X-WR-CALNAME:ARGE SOLAR e.V.
X-ORIGINAL-URL:https://www.argesolar-saar.de
X-WR-CALDESC:Veranstaltungen für ARGE SOLAR e.V.
REFRESH-INTERVAL;VALUE=DURATION:PT1H
X-Robots-Tag:noindex
X-PUBLISHED-TTL:PT1H
BEGIN:VTIMEZONE
TZID:Europe/Berlin
BEGIN:DAYLIGHT
TZOFFSETFROM:+0100
TZOFFSETTO:+0200
TZNAME:CEST
DTSTART:20220327T010000
END:DAYLIGHT
BEGIN:STANDARD
TZOFFSETFROM:+0200
TZOFFSETTO:+0100
TZNAME:CET
DTSTART:20221030T010000
END:STANDARD
BEGIN:DAYLIGHT
TZOFFSETFROM:+0100
TZOFFSETTO:+0200
TZNAME:CEST
DTSTART:20230326T010000
END:DAYLIGHT
BEGIN:STANDARD
TZOFFSETFROM:+0200
TZOFFSETTO:+0100
TZNAME:CET
DTSTART:20231029T010000
END:STANDARD
BEGIN:DAYLIGHT
TZOFFSETFROM:+0100
TZOFFSETTO:+0200
TZNAME:CEST
DTSTART:20240331T010000
END:DAYLIGHT
BEGIN:STANDARD
TZOFFSETFROM:+0200
TZOFFSETTO:+0100
TZNAME:CET
DTSTART:20241027T010000
END:STANDARD
END:VTIMEZONE
BEGIN:VEVENT
DTSTART;TZID=Europe/Berlin:20231113T140000
DTEND;TZID=Europe/Berlin:20231113T170000
DTSTAMP:20260424T211856
CREATED:20230623T074605Z
LAST-MODIFIED:20231030T134303Z
UID:9650-1699884000-1699894800@www.argesolar-saar.de
SUMMARY:Tag der Solarenergie
DESCRIPTION:In der Online-Veranstaltung der Landeskampagne „Energieberatung Saar“ in Kooperation mit ARGE SOLAR und IZES gibt es einen Überblick über den Stand der Technik\, regulatorischer Rahmen\, Umsetzungen und Projekte in der Praxis (Vorstellung interessanter Best-Practice-Beispiele) und Blick auf Forschung und zukünftige Anwendungen. \nModeration: Ralph Schmidt\, ARGE SOLAR e.V. \nVorläufiges Programm: \n\n14:00 – 14:20 Uhr: Begrüßung der Veranstalter\nDr. Lesya Matiyuk\, Abteilungsleiterin Energie-\, Industrie- und Dienstleistungspolitik im Ministerium für Wirtschaft\, Innovation\, Digitales und Energie\nArno Minn\, Vorstandsvorsitzender ARGE SOLAR e.V.\nProf. Dr. Marc Deissenroth-Uhrig\, IZES gGmbH\n14:20 – 14:50 Uhr: Rechtliche Rahmenbedingungen und Situation im Saarland und auf Bundesebene\nHenrike Jacob\, Ministerium für Wirtschaft\, Innovation\, Digitales und Energie\n14:50 – 15:30 Uhr: Technische Entwicklung und Anwendungsfelder der Photovoltaik\nDr. Harry Wirth\, Fraunhofer-Institut für Solare Energiesysteme ISE\n15:30 – 16:00 Uhr: IntegraTE PVT – Hybride PVT Kollektoren\nDr. Korbinian Kramer\, Fraunhofer-Institut für Solare Energiesysteme ISE\n16:00 – 16:30 Uhr: Gebäudeintegrierte Photovoltaik\nFabian Flade\, Solarenergieförderverein Bayern e. V.\n16:30 – 16:50 Uhr: Technischer Betrieb von Photovoltaikanlagen – aktuelle Entwicklungen und Potenziale\nMarkus Krampe\, Enovos Renewables O&M GmbH\n16:50 Uhr: abschließende Fragerunde und Zusammenfassung\n\nca. 17:00 Ende der Veranstaltung \nRegistrieren Sie sich hier zur Veranstaltung. \n 
URL:https://www.argesolar-saar.de/va/tag-der-solarenergie/
LOCATION:Online
ATTACH;FMTTYPE=image/jpeg:https://www.argesolar-saar.de/wp-content/uploads/2023/06/AdobeStock_334798672-e1687523900534.jpeg
ORGANIZER;CN="ARGE SOLAR e.V.":MAILTO:veranstaltung@argesolar-saar.de
END:VEVENT
END:VCALENDAR